Pithub v0.01041 Perl 5 v5.41.1 x86_64-linux-thread-multi

Status
Pass
From
Carlos Guevara
Dist
Pithub v0.01041
Platform
Perl 5 v5.41.1 x86_64-linux-thread-multi
Date
2024-06-16 13:02:38
ID
b50761d0-2be0-11ef-8709-db97dba973c3
This distribution has been tested as part of the CPAN Testers
project, supporting the Perl programming language.  See
http://wiki.cpantesters.org/ for more information or email
questions to cpan-testers-discuss@perl.org


--
Dear Olaf Alders,

This is a computer-generated report for Pithub-0.01041
on perl 5.41.1, created by CPAN-Reporter-1.2019.

Thank you for uploading your work to CPAN.  Congratulations!
All tests were successful.

Sections of this report:

    * Tester comments
    * Program output
    * Prerequisites
    * Environment and other context

------------------------------
TESTER COMMENTS
------------------------------

Additional comments from tester:

this report is from an automated smoke testing program
and was not reviewed by a human for accuracy

------------------------------
PROGRAM OUTPUT
------------------------------

Output from '/usr/bin/make test':

PERL_DL_NONLAZY=1 "/home/cpan/bin/perl/bin/perl5.41.1" "-MExtUtils::Command::MM" "-MTest::Harness" "-e" "undef *Test::Harness::Switches; test_harness(0, 'blib/lib', 'blib/arch')" t/*.t t/live/*.t t/live/repos/actions/*.t
# 
# Versions for all modules listed in MYMETA.json (including optional ones):
# 
# === Configure Requires ===
# 
#     Module               Want     Have
#     ------------------- ----- --------
#     ExtUtils::MakeMaker   any     7.70
#     perl                5.006 5.041001
# 
# === Build Requires ===
# 
#     Module              Want Have
#     ------------------- ---- ----
#     ExtUtils::MakeMaker  any 7.70
# 
# === Test Requires ===
# 
#     Module               Want     Have
#     ------------------- ----- --------
#     Exporter              any     5.78
#     ExtUtils::MakeMaker   any     7.70
#     File::Spec            any     3.90
#     FindBin               any     1.54
#     HTTP::Response        any     6.46
#     Import::Into          any 1.002005
#     MIME::Base64          any  3.16_01
#     Path::Tiny            any    0.146
#     Scalar::Util          any     1.63
#     Test::Builder         any 1.302199
#     Test::Differences     any     0.71
#     Test::Exception       any     0.43
#     Test::More            any 1.302199
#     Test::Most            any     0.38
#     Test::Needs           any 0.002010
#     lib                   any     0.65
#     perl                5.010 5.041001
# 
# === Test Recommends ===
# 
#     Module         Want     Have
#     ---------- -------- --------
#     CPAN::Meta 2.120900 2.150010
# 
# === Runtime Requires ===
# 
#     Module                 Want     Have
#     --------------------- ----- --------
#     CHI                     any     0.61
#     Carp                    any     1.54
#     HTTP::Headers           any     6.46
#     HTTP::Request           any     6.46
#     HTTP::Request::Common   any     6.46
#     JSON::MaybeXS           any 1.004005
#     LWP::UserAgent          any     6.77
#     Moo                     any 2.005005
#     Moo::Role               any 2.005005
#     URI                     any     5.28
#     perl                  5.010 5.041001
#     strict                  any     1.13
#     warnings                any     1.70
# 
t/00-report-prereqs.t ............. ok
t/basic.t ......................... ok
t/encoding.t ...................... ok
t/events.t ........................ ok
t/gists.t ......................... ok
t/git_data.t ...................... ok
t/issues.t ........................ ok
t/live/basic.t .................... ok
t/live/cache-lru.t ................ skipped: Set PITHUB_TEST_LIVE to true to run these tests
t/live/cache.t .................... skipped: Set PITHUB_TEST_LIVE to true to run these tests
t/live/events.t ................... ok
t/live/gists.t .................... ok
t/live/git_data.t ................. ok
t/live/issues.t ................... ok
t/live/orgs.t ..................... ok
t/live/pull_requests.t ............ ok
t/live/repos.t .................... ok
t/live/repos/actions/workflows.t .. ok
t/live/users.t .................... ok
t/multi.t ......................... ok
t/orgs.t .......................... ok
t/pull_requests.t ................. ok
t/repos.t ......................... ok
t/search.t ........................ ok
t/test.t .......................... ok
t/users.t ......................... ok
All tests successful.
Files=26, Tests=3029,  5 wallclock secs ( 0.20 usr  0.05 sys +  4.10 cusr  0.54 csys =  4.89 CPU)
Result: PASS

------------------------------
PREREQUISITES
------------------------------

Prerequisite modules loaded:

requires:

    Module                Need  Have    
    --------------------- ----- --------
    Carp                  0     1.54    
    CHI                   0     0.61    
    HTTP::Headers         0     6.46    
    HTTP::Request         0     6.46    
    HTTP::Request::Common 0     6.46    
    JSON::MaybeXS         0     1.004005
    LWP::UserAgent        0     6.77    
    Moo                   0     2.005005
    Moo::Role             0     2.005005
    perl                  5.010 5.041001
    strict                0     1.13    
    URI                   0     5.28    
    warnings              0     1.70    

build_requires:

    Module                Need  Have    
    --------------------- ----- --------
    Exporter              0     5.78    
    ExtUtils::MakeMaker   0     7.70    
    File::Spec            0     3.90    
    FindBin               0     1.54    
    HTTP::Response        0     6.46    
    Import::Into          0     1.002005
    lib                   0     0.65    
    MIME::Base64          0     3.16_01 
    Path::Tiny            0     0.146   
    Scalar::Util          0     1.63    
    Test::Builder         0     1.302199
    Test::Differences     0     0.71    
    Test::Exception       0     0.43    
    Test::More            0     1.302199
    Test::Most            0     0.38    
    Test::Needs           0     0.002010

configure_requires:

    Module                Need  Have    
    --------------------- ----- --------
    ExtUtils::MakeMaker   0     7.70    
    perl                  5.006 5.041001


------------------------------
ENVIRONMENT AND OTHER CONTEXT
------------------------------

Environment variables:

    AUTOMATED_TESTING = 1
    DATE_MANIP_TEST_DM5 = 1
    LANG = en_US.UTF-8
    LC_ALL = C
    NONINTERACTIVE_TESTING = 1
    NO_NETWORK_TESTING = 1
    PATH = /home/cpan/bin/perl/bin:/home/cpan/bin:/usr/share/Modules/bin:/home/cpan/bin:/usr/local/bin:/usr/bin:/usr/local/sbin:/usr/sbin
    PERL5LIB = 
    PERL5OPT = 
    PERL5_CPANPLUS_IS_RUNNING = 1047871
    PERL5_CPAN_IS_RUNNING = 1047871
    PERL_MM_USE_DEFAULT = 1
    PERL_USE_UNSAFE_INC = 1
    SHELL = /bin/bash
    TERM = screen
    TMPDIR = /home/cpan/tmp

Perl special variables (and OS-specific diagnostics, for MSWin32):

    $^X = /home/cpan/bin/perl/bin/perl5.41.1
    $UID/$EUID = 1001 / 1001
    $GID = 1001 1001
    $EGID = 1001 1001

Perl module toolchain versions installed:

    Module              Have    
    ------------------- --------
    CPAN                2.36    
    CPAN::Meta          2.150010
    Cwd                 3.90    
    ExtUtils::CBuilder  0.280240
    ExtUtils::Command   7.70    
    ExtUtils::Install   2.22    
    ExtUtils::MakeMaker 7.70    
    ExtUtils::Manifest  1.75    
    ExtUtils::ParseXS   3.51    
    File::Spec          3.90    
    JSON                4.10    
    JSON::PP            4.16    
    Module::Build       0.4234  
    Module::Signature   0.88    
    Parse::CPAN::Meta   2.150010
    Test2               1.302199
    Test::Harness       3.48    
    Test::More          1.302199
    YAML                1.31    
    YAML::Syck          1.34    
    version             0.9932  


--

Summary of my perl5 (revision 5 version 41 subversion 1) configuration:
  Commit id: cfc5297c0c1391b148ecddd89f36ad74d003e8e4
  Platform:
    osname=linux
    osvers=5.14.0-427.20.1.el9_4.x86_64
    archname=x86_64-linux-thread-multi
    uname='linux cjg-rhel9 5.14.0-427.20.1.el9_4.x86_64 #1 smp preempt_dynamic thu may 23 16:37:13 edt 2024 x86_64 x86_64 x86_64 gnulinux '
    config_args='-des -Dprefix=/home/cpan/bin/perl -Dscriptdir=/home/cpan/bin/perl/bin -Dusedevel -Duse64bitall -Duseithreads'
    hint=recommended
    useposix=true
    d_sigaction=define
    useithreads=define
    usemultiplicity=define
    use64bitint=define
    use64bitall=define
    uselongdouble=undef
    usemymalloc=n
    default_inc_excludes_dot=define
  Compiler:
    cc='cc'
    ccflags ='-D_REENTRANT -D_GNU_SOURCE -fwrapv -fno-strict-aliasing -pipe -fstack-protector-strong -I/usr/local/include -D_LARGEFILE_SOURCE -D_FILE_OFFSET_BITS=64 -D_FORTIFY_SOURCE=2'
    optimize='-O2'
    cppflags='-D_REENTRANT -D_GNU_SOURCE -fwrapv -fno-strict-aliasing -pipe -fstack-protector-strong -I/usr/local/include'
    ccversion=''
    gccversion='11.4.1 20231218 (Red Hat 11.4.1-3)'
    gccosandvers=''
    intsize=4
    longsize=8
    ptrsize=8
    doublesize=8
    byteorder=12345678
    doublekind=3
    d_longlong=define
    longlongsize=8
    d_longdbl=define
    longdblsize=16
    longdblkind=3
    ivtype='long'
    ivsize=8
    nvtype='double'
    nvsize=8
    Off_t='off_t'
    lseeksize=8
    alignbytes=8
    prototype=define
  Linker and Libraries:
    ld='cc'
    ldflags =' -fstack-protector-strong -L/usr/local/lib'
    libpth=/usr/local/lib /usr/lib /usr/lib64 /usr/local/lib64
    libs=-lpthread -ldb -ldl -lm -lcrypt -lutil -lc
    perllibs=-lpthread -ldl -lm -lcrypt -lutil -lc
    libc=/lib/../lib64/libc.so.6
    so=so
    useshrplib=false
    libperl=libperl.a
    gnulibc_version='2.34'
  Dynamic Linking:
    dlsrc=dl_dlopen.xs
    dlext=so
    d_dlsymun=undef
    ccdlflags='-Wl,-E'
    cccdlflags='-fPIC'
    lddlflags='-shared -O2 -L/usr/local/lib -fstack-protector-strong'


Characteristics of this binary (from libperl): 
  Compile-time options:
    HAS_LONG_DOUBLE
    HAS_STRTOLD
    HAS_TIMES
    MULTIPLICITY
    PERLIO_LAYERS
    PERL_COPY_ON_WRITE
    PERL_DONT_CREATE_GVSV
    PERL_HASH_FUNC_SIPHASH13
    PERL_HASH_USE_SBOX32
    PERL_MALLOC_WRAP
    PERL_OP_PARENT
    PERL_PRESERVE_IVUV
    PERL_USE_DEVEL
    PERL_USE_SAFE_PUTENV
    USE_64_BIT_ALL
    USE_64_BIT_INT
    USE_ITHREADS
    USE_LARGE_FILES
    USE_LOCALE
    USE_LOCALE_COLLATE
    USE_LOCALE_CTYPE
    USE_LOCALE_NUMERIC
    USE_LOCALE_TIME
    USE_PERLIO
    USE_PERL_ATOF
    USE_REENTRANT_API
    USE_THREAD_SAFE_LOCALE
  Built under linux
  Compiled at Jun 15 2024 22:25:31
  %ENV:
    PERL5LIB=""
    PERL5OPT=""
    PERL5_CPANPLUS_IS_RUNNING="1047871"
    PERL5_CPAN_IS_RUNNING="1047871"
    PERL_MM_USE_DEFAULT="1"
    PERL_USE_UNSAFE_INC="1"
  @INC:
    /home/cpan/bin/perl/lib/site_perl/5.41.1/x86_64-linux-thread-multi
    /home/cpan/bin/perl/lib/site_perl/5.41.1
    /home/cpan/bin/perl/lib/5.41.1/x86_64-linux-thread-multi
    /home/cpan/bin/perl/lib/5.41.1
    .