Report for MozRepl-RemoteObject-0.39

Back
From: metabase:user:f1a67388-c326-11df-83bd-eeb6a60ca1d3
Subject: PASS MozRepl-RemoteObject-0.39 v5.18.2 GNU/Linux
Date: 2015-11-28T18:34:49Z

This distribution has been tested as part of the CPAN Testers
project, supporting the Perl programming language.  See
http://wiki.cpantesters.org/ for more information or email
questions to cpan-testers-discuss@perl.org


--
Dear Max Maischein,

This is a computer-generated report for MozRepl-RemoteObject-0.39
on perl 5.18.2, created by CPAN-Reporter-1.2015.

Thank you for uploading your work to CPAN.  Congratulations!
All tests were successful.

Sections of this report:

    * Tester comments
    * Program output
    * Prerequisites
    * Environment and other context

------------------------------
TESTER COMMENTS
------------------------------

Additional comments from tester:

none provided

------------------------------
PROGRAM OUTPUT
------------------------------

Output from '/usr/bin/make test':

PERL_DL_NONLAZY=1 "/usr/bin/perl" "-MExtUtils::Command::MM" "-MTest::Harness" "-e" "undef *Test::Harness::Switches; test_harness(0, 'blib/lib', 'blib/arch')" t/*.t
# Testing MozRepl::RemoteObject 0.39, Perl 5.018002
# B 1.42_02
# Carp 1.38
# Config 5.018002
# Encode 2.78
# Encode::Alias 2.19
# Encode::Config 2.05
# Encode::Encoding 2.07
# Exporter 5.72
# Exporter::Heavy 5.72
# JSON 2.90
# JSON::PP 2.27300
# List::Util 1.42
# MozRepl::RemoteObject 0.39
# MozRepl::RemoteObject::Methods 0.39
# PerlIO 1.07
# Scalar::Util 1.42
# Test::Builder 1.001014
# Test::Builder::Module 1.001014
# Test::More 1.001014
# XSLoader 0.16
# base 2.23
# bytes 1.04
# constant 1.33
# overload 1.22
# overloading 0.02
# strict 1.07
# vars 1.03
# warnings 1.18
# warnings::register 1.02
t/00-load.t .................... ok
# JS JSON encoder: native
# ID      : {ec8030f7-c20a-464f-9b0e-13a3a9e97384}
# name    : Firefox
# version : 42.0
t/01-appversion.t .............. ok
# --- Loading object functionality into repl
t/01-array.t ................... ok
t/01-backend-anyevent-timer.t .. skipped: Couldn't connect to Firefox: Can't locate AnyEvent.pm in @INC (you may need to install the AnyEvent module) (@INC contains: /home/mike/.cpan/build/MozRepl-RemoteObject-0.39-AjXl_v/blib/lib /home/mike/.cpan/build/MozRepl-RemoteObject-0.39-AjXl_v/blib/arch /usr/lib/perl5/site_perl/5.18.2/x86_64-linux-thread-multi /usr/lib/perl5/site_perl/5.18.2 /usr/lib/perl5/vendor_perl/5.18.2/x86_64-linux-thread-multi /usr/lib/perl5/vendor_perl/5.18.2 /usr/lib/perl5/5.18.2/x86_64-linux-thread-multi /usr/lib/perl5/5.18.2 /usr/lib/perl5/site_perl .) at t/01-backend-anyevent-timer.t line 8.
t/01-backend-anyevent.t ........ skipped: Couldn't connect to Firefox: Can't locate AnyEvent.pm in @INC (you may need to install the AnyEvent module) (@INC contains: /home/mike/.cpan/build/MozRepl-RemoteObject-0.39-AjXl_v/blib/lib /home/mike/.cpan/build/MozRepl-RemoteObject-0.39-AjXl_v/blib/arch /usr/lib/perl5/site_perl/5.18.2/x86_64-linux-thread-multi /usr/lib/perl5/site_perl/5.18.2 /usr/lib/perl5/vendor_perl/5.18.2/x86_64-linux-thread-multi /usr/lib/perl5/vendor_perl/5.18.2 /usr/lib/perl5/5.18.2/x86_64-linux-thread-multi /usr/lib/perl5/5.18.2 /usr/lib/perl5/site_perl .) at t/01-backend-anyevent.t line 8.
# $VAR1 = {
#           'store' => 1,
#           'callback' => 10000,
#           'roundtrip' => 10017
#         };
# 208.69 iterations/s
t/01-callback-overhead.t ....... ok
# $VAR1 = {
#           'roundtrip' => 23,
#           'callback' => 5,
#           'store' => 1,
#           'fetch' => 2
#         };
t/01-callback.t ................ ok
t/01-constant.t ................ ok
t/01-dive.t .................... ok
t/01-expr-anyevent.t ........... skipped: Couldn't connect to Firefix: Can't locate AnyEvent.pm in @INC (you may need to install the AnyEvent module) (@INC contains: /home/mike/.cpan/build/MozRepl-RemoteObject-0.39-AjXl_v/blib/lib /home/mike/.cpan/build/MozRepl-RemoteObject-0.39-AjXl_v/blib/arch /usr/lib/perl5/site_perl/5.18.2/x86_64-linux-thread-multi /usr/lib/perl5/site_perl/5.18.2 /usr/lib/perl5/vendor_perl/5.18.2/x86_64-linux-thread-multi /usr/lib/perl5/vendor_perl/5.18.2 /usr/lib/perl5/5.18.2/x86_64-linux-thread-multi /usr/lib/perl5/5.18.2 /usr/lib/perl5/site_perl .) at /home/mike/.cpan/build/MozRepl-RemoteObject-0.39-AjXl_v/blib/lib/MozRepl/AnyEvent.pm line 3.
t/01-expr.t .................... ok
t/01-hash.t .................... ok
t/01-invoke.t .................. ok
# --- Loading object functionality into repl
t/01-multiline-string.t ........ ok
# --- Loading object functionality into repl
t/01-object.t .................. ok
# --- Loading object functionality into repl
# (function(repl,id){repl.breakLink(id)})(repl,1)
t/01-queue.t ................... ok
t/01-release-action.t .......... ok
Subroutine MozRepl::__load_plugins redefined at /usr/lib/perl5/site_perl/5.18.2/Module/Pluggable/Fast.pm line 104.
t/02-multiple-instances.t ...... ok
# --- Loading object functionality into repl
t/02-repl.t .................... ok
t/02-synopsis.t ................ ok
# native
t/03-unicode.t ................. ok
t/04-looong-input.t ............ ok
t/05-callback-parameter.t ...... ok
t/10-xul-hud.t ................. ok
t/11-memleak-callback.t ........ ok
t/11-memleak-constant.t ........ ok
t/11-memleak-declare.t ......... ok
t/11-memleak.t ................. ok
# Checking for version 0.39
t/99-changes.t ................. ok
t/99-manifest.t ................ ok
t/99-pod.t ..................... ok
t/99-todo.t .................... ok
t/99-unix-text.t ............... ok
# Checking for $VERSION = '0.39';
t/99-versions.t ................ ok
All tests successful.
Files=34, Tests=186, 65 wallclock secs ( 0.14 usr  0.01 sys + 13.72 cusr  0.87 csys = 14.74 CPU)
Result: PASS

------------------------------
PREREQUISITES
------------------------------

Prerequisite modules loaded:

requires:

    Module              Need  Have    
    ------------------- ----- --------
    Encode              0     2.78    
    Exporter            0     5.72    
    File::Basename      0     2.84    
    IPC::Run            0     0.94    
    JSON                2     2.90    
    MozRepl             0.06  0.06    
    parent              0     0.234   
    perl                5.006 5.018002
    Scalar::Util        0     1.42    

build_requires:

    Module              Need  Have    
    ------------------- ----- --------
    Task::Weaken        0     1.04    

configure_requires:

    Module              Need  Have    
    ------------------- ----- --------
    ExtUtils::MakeMaker 0     7.10    


------------------------------
ENVIRONMENT AND OTHER CONTEXT
------------------------------

Environment variables:

    LANG = en_GB.UTF-8
    LANGUAGE = 
    PATH = /data/mike/bin:/data/mike/bin:/home/mike/bin:/usr/local/bin:/usr/bin:/bin:/usr/bin/X11:/usr/games:/usr/lib/mit/bin:/usr/lib/mit/sbin
    PERL5LIB = 
    PERL5OPT = 
    PERL5_CPANPLUS_IS_RUNNING = 13732
    PERL5_CPAN_IS_RUNNING = 13732
    SHELL = /bin/bash
    TERM = xterm

Perl special variables (and OS-specific diagnostics, for MSWin32):

    $^X = /usr/bin/perl
    $UID/$EUID = 1000 / 1000
    $GID = 100 100 477
    $EGID = 100 100 477

Perl module toolchain versions installed:

    Module              Have    
    ------------------- --------
    CPAN                2.10    
    CPAN::Meta          2.150005
    Cwd                 3.60    
    ExtUtils::CBuilder  0.280224
    ExtUtils::Command   7.10    
    ExtUtils::Install   2.04    
    ExtUtils::MakeMaker 7.10    
    ExtUtils::Manifest  1.70    
    ExtUtils::ParseXS   3.30    
    File::Spec          3.60    
    JSON                2.90    
    JSON::PP            2.27300 
    Module::Build       0.4214  
    Module::Signature   0.79    
    Parse::CPAN::Meta   1.4417  
    Test::Harness       3.35    
    Test::More          1.001014
    YAML                n/a     
    YAML::Syck          n/a     
    version             0.9912  


--

Summary of my perl5 (revision 5 version 18 subversion 2) configuration:
   
  Platform:
    osname=linux, osvers=4.1.10-1-default, archname=x86_64-linux-thread-multi
    uname='linux cloud105 4.1.10-1-default #1 smp preempt mon oct 12 11:24:48 utc 2015 (67a24e6) x86_64 x86_64 x86_64 gnulinux '
    config_args='-ds -e -Dprefix=/usr -Dvendorprefix=/usr -Dinstallusrbinperl -Dusethreads -Di_db -Di_dbm -Di_ndbm -Di_gdbm -Dd_dbm_open -Duseshrplib=true -Doptimize=-fmessage-length=0 -grecord-gcc-switches -O2 -Wall -D_FORTIFY_SOURCE=2 -fstack-protector -funwind-tables -fasynchronous-unwind-tables -g -Wall -pipe -Accflags=-DPERL_USE_SAFE_PUTENV -Dotherlibdirs=/usr/lib/perl5/site_perl -Dinc_version_list=5.18.0/x86_64-linux-thread-multi 5.18.0 5.18.1/x86_64-linux-thread-multi 5.18.1'
    hint=recommended, useposix=true, d_sigaction=define
    useithreads=define, usemultiplicity=define
    useperlio=define, d_sfio=undef, uselargefiles=define, usesocks=undef
    use64bitint=define, use64bitall=define, uselongdouble=undef
    usemymalloc=n, bincompat5005=undef
  Compiler:
    cc='cc', ccflags ='-D_REENTRANT -D_GNU_SOURCE -DPERL_USE_SAFE_PUTENV -fno-strict-aliasing -pipe -fstack-protector -D_LARGEFILE_SOURCE -D_FILE_OFFSET_BITS=64',
    optimize='-fmessage-length=0 -grecord-gcc-switches -O2 -Wall -D_FORTIFY_SOURCE=2 -fstack-protector -funwind-tables -fasynchronous-unwind-tables -g -Wall -pipe',
    cppflags='-D_REENTRANT -D_GNU_SOURCE -DPERL_USE_SAFE_PUTENV -fno-strict-aliasing -pipe -fstack-protector'
    ccversion='', gccversion='4.8.5', gccosandvers=''
    intsize=4, longsize=8, ptrsize=8, doublesize=8, byteorder=12345678
    d_longlong=define, longlongsize=8, d_longdbl=define, longdblsize=16
    ivtype='long', ivsize=8, nvtype='double', nvsize=8, Off_t='off_t', lseeksize=8
    alignbytes=8, prototype=define
  Linker and Libraries:
    ld='cc', ldflags =' -L/usr/local/lib64 -fstack-protector'
    libpth=/lib64 /usr/lib64 /usr/local/lib64
    libs=-lm -ldl -lcrypt -lpthread
    perllibs=-lm -ldl -lcrypt -lpthread
    libc=/lib64/libc-2.19.so, so=so, useshrplib=true, libperl=libperl.so
    gnulibc_version='2.19'
  Dynamic Linking:
    dlsrc=dl_dlopen.xs, dlext=so, d_dlsymun=undef, ccdlflags='-Wl,-E -Wl,-rpath,/usr/lib/perl5/5.18.2/x86_64-linux-thread-multi/CORE'
    cccdlflags='-fPIC', lddlflags='-shared -L/usr/local/lib64 -fstack-protector'


Characteristics of this binary (from libperl): 
  Compile-time options: HAS_TIMES MULTIPLICITY PERLIO_LAYERS
                        PERL_DONT_CREATE_GVSV
                        PERL_HASH_FUNC_ONE_AT_A_TIME_HARD
                        PERL_IMPLICIT_CONTEXT PERL_MALLOC_WRAP
                        PERL_PRESERVE_IVUV PERL_SAWAMPERSAND
                        PERL_USE_SAFE_PUTENV USE_64_BIT_ALL USE_64_BIT_INT
                        USE_ITHREADS USE_LARGE_FILES USE_LOCALE
                        USE_LOCALE_COLLATE USE_LOCALE_CTYPE
                        USE_LOCALE_NUMERIC USE_PERLIO USE_PERL_ATOF
                        USE_REENTRANT_API
  Built under linux
  Compiled at Oct 25 2015 05:49:53
  %ENV:
    PERL5LIB=""
    PERL5OPT=""
    PERL5_CPANPLUS_IS_RUNNING="13732"
    PERL5_CPAN_IS_RUNNING="13732"
  @INC:
    /usr/lib/perl5/site_perl/5.18.2/x86_64-linux-thread-multi
    /usr/lib/perl5/site_perl/5.18.2
    /usr/lib/perl5/vendor_perl/5.18.2/x86_64-linux-thread-multi
    /usr/lib/perl5/vendor_perl/5.18.2
    /usr/lib/perl5/5.18.2/x86_64-linux-thread-multi
    /usr/lib/perl5/5.18.2
    /usr/lib/perl5/site_perl
    .