Protocol-HTTP v1.1.2 Perl 5 v5.28.2 x86_64-linux-quadmath

Status
Pass
From
Chris Williams (BINGOS)
Dist
Protocol-HTTP v1.1.2
Platform
Perl 5 v5.28.2 x86_64-linux-quadmath
Date
2021-05-18 16:25:49
ID
b51a2912-b7f5-11eb-84bc-edd243e66a77
This distribution has been tested as part of the CPAN Testers
project, supporting the Perl programming language.  See
http://wiki.cpantesters.org/ for more information or email
questions to cpan-testers-discuss@perl.org


--

Dear SYBER,

This is a computer-generated error report created automatically by
CPANPLUS, version 0.9910. Testers personal comments may appear
at the end of this report.


Thank you for uploading your work to CPAN.  Congratulations!
All tests were successful.

TEST RESULTS:

Below is the error stack from stage 'make test':

"/home/cpan/pit/bare-qm/perl-5.28.2/bin/perl" -MExtUtils::Command::MM -e 'cp_nonempty' -- HTTP.bs blib/arch/auto/Protocol/HTTP/HTTP.bs 644
cd clib/build && cd ../cmake_props && make  panda-protocol-http
make[1]: Entering directory '/home/cpan/pit/bare-qm/conf/perl-5.28.2/.cpanplus/5.28.2/build/XI3A_9Udil/Protocol-HTTP-1.1.2/clib/cmake_props'
make[2]: Entering directory '/home/cpan/pit/bare-qm/conf/perl-5.28.2/.cpanplus/5.28.2/build/XI3A_9Udil/Protocol-HTTP-1.1.2/clib/cmake_props'
make[3]: Entering directory '/home/cpan/pit/bare-qm/conf/perl-5.28.2/.cpanplus/5.28.2/build/XI3A_9Udil/Protocol-HTTP-1.1.2/clib/cmake_props'
make[4]: Entering directory '/home/cpan/pit/bare-qm/conf/perl-5.28.2/.cpanplus/5.28.2/build/XI3A_9Udil/Protocol-HTTP-1.1.2/clib/cmake_props'
make[4]: Leaving directory '/home/cpan/pit/bare-qm/conf/perl-5.28.2/.cpanplus/5.28.2/build/XI3A_9Udil/Protocol-HTTP-1.1.2/clib/cmake_props'
[100%] Built target panda-protocol-http
make[3]: Leaving directory '/home/cpan/pit/bare-qm/conf/perl-5.28.2/.cpanplus/5.28.2/build/XI3A_9Udil/Protocol-HTTP-1.1.2/clib/cmake_props'
make[2]: Leaving directory '/home/cpan/pit/bare-qm/conf/perl-5.28.2/.cpanplus/5.28.2/build/XI3A_9Udil/Protocol-HTTP-1.1.2/clib/cmake_props'
make[1]: Leaving directory '/home/cpan/pit/bare-qm/conf/perl-5.28.2/.cpanplus/5.28.2/build/XI3A_9Udil/Protocol-HTTP-1.1.2/clib/cmake_props'
cd clib/build && make install > /dev/null 2>&1
/home/cpan/pit/jail/WO_rNORkzw/lib/perl5/x86_64-linux-quadmath/auto/share/dist/Alien-cmake3/bin/cmake -E copy_directory clib/build/cmake_prefix/include blib/arch/Protocol/HTTP.x/i/
Skip blib/arch/Protocol/HTTP/Message.pm (unchanged)
Skip blib/arch/Protocol/HTTP/Error.pod (unchanged)
Skip blib/arch/Protocol/HTTP/Message.pod (unchanged)
Skip blib/arch/Protocol/HTTP/RequestParser.pod (unchanged)
Skip blib/arch/Protocol/HTTP/Error.pm (unchanged)
Skip blib/arch/Protocol/HTTP/Request.pod (unchanged)
Skip blib/arch/Protocol/HTTP/ResponseParser.pod (unchanged)
Skip blib/arch/Protocol/HTTP/Cookiejar.pod (unchanged)
Skip blib/arch/Protocol/HTTP.pm (unchanged)
Skip blib/arch/Protocol/HTTP/Response.pod (unchanged)
Skip blib/arch/Protocol/HTTP/RequestParser.pm (unchanged)
Skip blib/arch/Protocol/HTTP.x/i/xs/protocol/http.h (unchanged)
Skip blib/arch/Protocol/HTTP/Cookiejar.pm (unchanged)
Skip blib/arch/Protocol/HTTP.x/info (unchanged)
Skip blib/arch/Protocol/HTTP/Compression.pod (unchanged)
Skip blib/arch/Protocol/HTTP/Response.pm (unchanged)
Skip blib/arch/Protocol/HTTP/Compression.pm (unchanged)
Skip blib/arch/Protocol/HTTP/Request.pm (unchanged)
Skip blib/arch/Protocol/HTTP.pod (unchanged)
Skip blib/arch/Protocol/HTTP/ResponseParser.pm (unchanged)
make[1]: Nothing to be done for 'object'.
Running Mkbootstrap for MyTest ()
chmod 644 "MyTest.bs"
"/home/cpan/pit/bare-qm/perl-5.28.2/bin/perl" -MExtUtils::Command::MM -e 'cp_nonempty' -- MyTest.bs blib/arch/auto/MyTest/MyTest.bs 644
cd clib/build && cd ../cmake_props && make  panda-protocol-http-tests
[ 44%] Built target panda-protocol-http
Scanning dependencies of target panda-protocol-http-tests
[ 47%] Building CXX object ../build/CMakeFiles/panda-protocol-http-tests.dir/tests/bench.cc.o
In file included from /home/cpan/pit/bare-qm/conf/perl-5.28.2/.cpanplus/5.28.2/build/XI3A_9Udil/Protocol-HTTP-1.1.2/clib/src/panda/protocol/http/Headers.h:3,
                 from /home/cpan/pit/bare-qm/conf/perl-5.28.2/.cpanplus/5.28.2/build/XI3A_9Udil/Protocol-HTTP-1.1.2/clib/src/panda/protocol/http/Message.h:4,
                 from /home/cpan/pit/bare-qm/conf/perl-5.28.2/.cpanplus/5.28.2/build/XI3A_9Udil/Protocol-HTTP-1.1.2/clib/src/panda/protocol/http/Response.h:2,
                 from /home/cpan/pit/bare-qm/conf/perl-5.28.2/.cpanplus/5.28.2/build/XI3A_9Udil/Protocol-HTTP-1.1.2/clib/src/panda/protocol/http/Request.h:2,
                 from /home/cpan/pit/bare-qm/conf/perl-5.28.2/.cpanplus/5.28.2/build/XI3A_9Udil/Protocol-HTTP-1.1.2/clib/src/panda/protocol/http/MessageParser.h:2,
                 from /home/cpan/pit/bare-qm/conf/perl-5.28.2/.cpanplus/5.28.2/build/XI3A_9Udil/Protocol-HTTP-1.1.2/clib/src/panda/protocol/http/RequestParser.h:3,
                 from /home/cpan/pit/bare-qm/conf/perl-5.28.2/.cpanplus/5.28.2/build/XI3A_9Udil/Protocol-HTTP-1.1.2/clib/src/panda/protocol/http.h:2,
                 from /home/cpan/pit/bare-qm/conf/perl-5.28.2/.cpanplus/5.28.2/build/XI3A_9Udil/Protocol-HTTP-1.1.2/clib/tests/test.h:3,
                 from /home/cpan/pit/bare-qm/conf/perl-5.28.2/.cpanplus/5.28.2/build/XI3A_9Udil/Protocol-HTTP-1.1.2/clib/tests/bench.cc:1:
/home/cpan/pit/bare-qm/conf/perl-5.28.2/.cpanplus/5.28.2/build/XI3A_9Udil/Protocol-HTTP-1.1.2/clib/src/panda/protocol/http/Fields.h: In instantiation of ‘void panda::protocol::http::Fields<T, CASE_SENSITIVE, PRERESERVE>::set(const string&, const T&) [with T = panda::basic_string<char>; bool CASE_SENSITIVE = false; long unsigned int PRERESERVE = 2; panda::string = panda::basic_string<char>]’:
/home/cpan/pit/bare-qm/conf/perl-5.28.2/.cpanplus/5.28.2/build/XI3A_9Udil/Protocol-HTTP-1.1.2/clib/src/panda/protocol/http/Message.h:87:67:   required from here
/home/cpan/pit/bare-qm/conf/perl-5.28.2/.cpanplus/5.28.2/build/XI3A_9Udil/Protocol-HTTP-1.1.2/clib/src/panda/protocol/http/Fields.h:105:34: warning: implicitly-declared ‘constexpr boost::container::vec_iterator<panda::protocol::http::Fields<panda::basic_string<char>, false, 2>::Field*, false>& boost::container::vec_iterator<panda::protocol::http::Fields<panda::basic_string<char>, false, 2>::Field*, false>::operator=(const boost::container::vec_iterator<panda::protocol::http::Fields<panda::basic_string<char>, false, 2>::Field*, false>&)’ is deprecated [-Wdeprecated-copy]
  105 |                 if (replaced) it = fields.erase(it);
In file included from /home/cpan/pit/jail/WO_rNORkzw/lib/perl5/XS/libboost/mini.x/i/boost/container/small_vector.hpp:27,
                 from /home/cpan/pit/bare-qm/conf/perl-5.28.2/.cpanplus/5.28.2/build/XI3A_9Udil/Protocol-HTTP-1.1.2/clib/src/panda/protocol/http/Body.h:5,
                 from /home/cpan/pit/bare-qm/conf/perl-5.28.2/.cpanplus/5.28.2/build/XI3A_9Udil/Protocol-HTTP-1.1.2/clib/src/panda/protocol/http/Message.h:2,
                 from /home/cpan/pit/bare-qm/conf/perl-5.28.2/.cpanplus/5.28.2/build/XI3A_9Udil/Protocol-HTTP-1.1.2/clib/src/panda/protocol/http/Response.h:2,
                 from /home/cpan/pit/bare-qm/conf/perl-5.28.2/.cpanplus/5.28.2/build/XI3A_9Udil/Protocol-HTTP-1.1.2/clib/src/panda/protocol/http/Request.h:2,
                 from /home/cpan/pit/bare-qm/conf/perl-5.28.2/.cpanplus/5.28.2/build/XI3A_9Udil/Protocol-HTTP-1.1.2/clib/src/panda/protocol/http/MessageParser.h:2,
                 from /home/cpan/pit/bare-qm/conf/perl-5.28.2/.cpanplus/5.28.2/build/XI3A_9Udil/Protocol-HTTP-1.1.2/clib/src/panda/protocol/http/RequestParser.h:3,
                 from /home/cpan/pit/bare-qm/conf/perl-5.28.2/.cpanplus/5.28.2/build/XI3A_9Udil/Protocol-HTTP-1.1.2/clib/src/panda/protocol/http.h:2,
                 from /home/cpan/pit/bare-qm/conf/perl-5.28.2/.cpanplus/5.28.2/build/XI3A_9Udil/Protocol-HTTP-1.1.2/clib/tests/test.h:3,
                 from /home/cpan/pit/bare-qm/conf/perl-5.28.2/.cpanplus/5.28.2/build/XI3A_9Udil/Protocol-HTTP-1.1.2/clib/tests/bench.cc:1:
/home/cpan/pit/jail/WO_rNORkzw/lib/perl5/XS/libboost/mini.x/i/boost/container/vector.hpp:119:32: note: because ‘boost::container::vec_iterator<panda::protocol::http::Fields<panda::basic_string<char>, false, 2>::Field*, false>’ has user-provided ‘boost::container::vec_iterator<Pointer, IsConst>::vec_iterator(const boost::container::vec_iterator<Pointer, false>&) [with Pointer = panda::protocol::http::Fields<panda::basic_string<char>, false, 2>::Field*; bool IsConst = false]’
  119 |    BOOST_CONTAINER_FORCEINLINE vec_iterator(vec_iterator<Pointer, false> const& other) BOOST_NOEXCEPT_OR_NOTHROW
      |                                ^~~~~~~~~~~~
In file included from /home/cpan/pit/bare-qm/conf/perl-5.28.2/.cpanplus/5.28.2/build/XI3A_9Udil/Protocol-HTTP-1.1.2/clib/src/panda/protocol/http/Body.h:5,
                 from /home/cpan/pit/bare-qm/conf/perl-5.28.2/.cpanplus/5.28.2/build/XI3A_9Udil/Protocol-HTTP-1.1.2/clib/src/panda/protocol/http/Message.h:2,
                 from /home/cpan/pit/bare-qm/conf/perl-5.28.2/.cpanplus/5.28.2/build/XI3A_9Udil/Protocol-HTTP-1.1.2/clib/src/panda/protocol/http/Response.h:2,
                 from /home/cpan/pit/bare-qm/conf/perl-5.28.2/.cpanplus/5.28.2/build/XI3A_9Udil/Protocol-HTTP-1.1.2/clib/src/panda/protocol/http/Request.h:2,
                 from /home/cpan/pit/bare-qm/conf/perl-5.28.2/.cpanplus/5.28.2/build/XI3A_9Udil/Protocol-HTTP-1.1.2/clib/src/panda/protocol/http/MessageParser.h:2,
                 from /home/cpan/pit/bare-qm/conf/perl-5.28.2/.cpanplus/5.28.2/build/XI3A_9Udil/Protocol-HTTP-1.1.2/clib/src/panda/protocol/http/RequestParser.h:3,
                 from /home/cpan/pit/bare-qm/conf/perl-5.28.2/.cpanplus/5.28.2/build/XI3A_9Udil/Protocol-HTTP-1.1.2/clib/src/panda/protocol/http.h:2,
                 from /home/cpan/pit/bare-qm/conf/perl-5.28.2/.cpanplus/5.28.2/build/XI3A_9Udil/Protocol-HTTP-1.1.2/clib/tests/test.h:3,
                 from /home/cpan/pit/bare-qm/conf/perl-5.28.2/.cpanplus/5.28.2/build/XI3A_9Udil/Protocol-HTTP-1.1.2/clib/tests/bench.cc:1:
/home/cpan/pit/jail/WO_rNORkzw/lib/perl5/XS/libboost/mini.x/i/boost/container/small_vector.hpp: In instantiation of ‘boost::container::small_vector_allocator<Allocator>& boost::container::small_vector_allocator<Allocator>::operator=(boost::container::small_vector_allocator<Allocator>&&) [with Allocator = boost::container::new_allocator<panda::protocol::http::Fields<panda::basic_string<char>, false, 15>::Field>]’:
/home/cpan/pit/jail/WO_rNORkzw/lib/perl5/XS/libboost/mini.x/i/boost/container/detail/alloc_helpers.hpp:54:6:   required from ‘void boost::container::dtl::move_alloc(AllocatorType&, AllocatorType&, boost::move_detail::true_type) [with AllocatorType = boost::container::small_vector_allocator<boost::container::new_allocator<panda::protocol::http::Fields<panda::basic_string<char>, false, 15>::Field> >; boost::move_detail::true_type = boost::move_detail::integral_constant<bool, true>]’
/home/cpan/pit/jail/WO_rNORkzw/lib/perl5/XS/libboost/mini.x/i/boost/container/vector.hpp:2432:22:   required from ‘void boost::container::vector<T, Allocator, Options>::priv_move_assign(boost::container::vector<T, OtherAllocator>&&, typename boost::move_detail::disable_if_or<void, boost::container::dtl::is_version<OtherAllocator, 0>, boost::move_detail::is_different<OtherAllocator, Allocator> >::type*) [with OtherAllocator = boost::container::small_vector_allocator<boost::container::new_allocator<panda::protocol::http::Fields<panda::basic_string<char>, false, 15>::Field> >; T = panda::protocol::http::Fields<panda::basic_string<char>, false, 15>::Field; Allocator = boost::container::small_vector_allocator<boost::container::new_allocator<panda::protocol::http::Fields<panda::basic_string<char>, false, 15>::Field> >; Options = void; typename boost::move_detail::disable_if_or<void, boost::container::dtl::is_version<OtherAllocator, 0>, boost::move_detail::is_different<OtherAllocator, Allocator> >::type = void]’
/home/cpan/pit/jail/WO_rNORkzw/lib/perl5/XS/libboost/mini.x/i/boost/container/vector.hpp:1134:7:   required from ‘boost::container::vector<T, Allocator, Options>& boost::container::vector<T, Allocator, Options>::operator=(boost::container::vector<T, Allocator, Options>&&) [with T = panda::protocol::http::Fields<panda::basic_string<char>, false, 15>::Field; Allocator = boost::container::small_vector_allocator<boost::container::new_allocator<panda::protocol::http::Fields<panda::basic_string<char>, false, 15>::Field> >; Options = void]’
/home/cpan/pit/jail/WO_rNORkzw/lib/perl5/XS/libboost/mini.x/i/boost/container/small_vector.hpp:410:14:   required from ‘boost::container::small_vector_base<T, Allocator>& boost::container::small_vector_base<T, Allocator>::operator=(boost::container::small_vector_base<T, Allocator>&&) [with T = panda::protocol::http::Fields<panda::basic_string<char>, false, 15>::Field; SecondaryAllocator = boost::container::new_allocator<panda::protocol::http::Fields<panda::basic_string<char>, false, 15>::Field>]’
/home/cpan/pit/jail/WO_rNORkzw/lib/perl5/XS/libboost/mini.x/i/boost/container/small_vector.hpp:634:14:   required from ‘boost::container::small_vector<T, N, Allocator>& boost::container::small_vector<T, N, Allocator>::operator=(boost::container::small_vector<T, N, Allocator>&&) [with T = panda::protocol::http::Fields<panda::basic_string<char>, false, 15>::Field; long unsigned int N = 15; Allocator = boost::container::new_allocator<panda::protocol::http::Fields<panda::basic_string<char>, false, 15>::Field>]’
/home/cpan/pit/bare-qm/conf/perl-5.28.2/.cpanplus/5.28.2/build/XI3A_9Udil/Protocol-HTTP-1.1.2/clib/src/panda/protocol/http/Fields.h:51:8:   required from ‘T& panda::protocol::http::Message::Builder< <template-parameter-1-1>, <template-parameter-1-2> >::headers(panda::protocol::http::Headers&&) [with T = panda::protocol::http::Request::Builder; MP = panda::iptr<panda::protocol::http::Request>; panda::protocol::http::Headers = panda::protocol::http::GenericHeaders<15>]’
/home/cpan/pit/bare-qm/conf/perl-5.28.2/.cpanplus/5.28.2/build/XI3A_9Udil/Protocol-HTTP-1.1.2/clib/tests/bench.cc:277:56:   required from here
/home/cpan/pit/jail/WO_rNORkzw/lib/perl5/XS/libboost/mini.x/i/boost/container/small_vector.hpp:192:14: warning: implicitly-declared ‘constexpr boost::container::new_allocator<panda::protocol::http::Fields<panda::basic_string<char>, false, 15>::Field>& boost::container::new_allocator<panda::protocol::http::Fields<panda::basic_string<char>, false, 15>::Field>::operator=(const boost::container::new_allocator<panda::protocol::http::Fields<panda::basic_string<char>, false, 15>::Field>&)’ is deprecated [-Wdeprecated-copy]
  192 |    {  return static_cast<small_vector_allocator&>(this->Allocator::operator=(::boost::move(other.as_base())));  }
      |              ^~~~~~~~~~~~~~~~~~~~~~~~~~~~~~~~~~~~~~~~~~~~~~~~~~~~~~~~~~~~~~~~~~~~~~~~~~~~~~~~~~~~~~~~~~~~~~~~
In file included from /home/cpan/pit/jail/WO_rNORkzw/lib/perl5/XS/libboost/mini.x/i/boost/container/vector.hpp:28,
                 from /home/cpan/pit/jail/WO_rNORkzw/lib/perl5/XS/libboost/mini.x/i/boost/container/small_vector.hpp:27,
                 from /home/cpan/pit/bare-qm/conf/perl-5.28.2/.cpanplus/5.28.2/build/XI3A_9Udil/Protocol-HTTP-1.1.2/clib/src/panda/protocol/http/Body.h:5,
                 from /home/cpan/pit/bare-qm/conf/perl-5.28.2/.cpanplus/5.28.2/build/XI3A_9Udil/Protocol-HTTP-1.1.2/clib/src/panda/protocol/http/Message.h:2,
                 from /home/cpan/pit/bare-qm/conf/perl-5.28.2/.cpanplus/5.28.2/build/XI3A_9Udil/Protocol-HTTP-1.1.2/clib/src/panda/protocol/http/Response.h:2,
                 from /home/cpan/pit/bare-qm/conf/perl-5.28.2/.cpanplus/5.28.2/build/XI3A_9Udil/Protocol-HTTP-1.1.2/clib/src/panda/protocol/http/Request.h:2,
                 from /home/cpan/pit/bare-qm/conf/perl-5.28.2/.cpanplus/5.28.2/build/XI3A_9Udil/Protocol-HTTP-1.1.2/clib/src/panda/protocol/http/MessageParser.h:2,
                 from /home/cpan/pit/bare-qm/conf/perl-5.28.2/.cpanplus/5.28.2/build/XI3A_9Udil/Protocol-HTTP-1.1.2/clib/src/panda/protocol/http/RequestParser.h:3,
                 from /home/cpan/pit/bare-qm/conf/perl-5.28.2/.cpanplus/5.28.2/build/XI3A_9Udil/Protocol-HTTP-1.1.2/clib/src/panda/protocol/http.h:2,
                 from /home/cpan/pit/bare-qm/conf/perl-5.28.2/.cpanplus/5.28.2/build/XI3A_9Udil/Protocol-HTTP-1.1.2/clib/tests/test.h:3,
                 from /home/cpan/pit/bare-qm/conf/perl-5.28.2/.cpanplus/5.28.2/build/XI3A_9Udil/Protocol-HTTP-1.1.2/clib/tests/bench.cc:1:
/home/cpan/pit/jail/WO_rNORkzw/lib/perl5/XS/libboost/mini.x/i/boost/container/new_allocator.hpp:130:4: note: because ‘boost::container::new_allocator<panda::protocol::http::Fields<panda::basic_string<char>, false, 15>::Field>’ has user-provided ‘boost::container::new_allocator<T>::new_allocator(const boost::container::new_allocator<T>&) [with T = panda::protocol::http::Fields<panda::basic_string<char>, false, 15>::Field]’
  130 |    new_allocator(const new_allocator &) BOOST_NOEXCEPT_OR_NOTHROW
      |    ^~~~~~~~~~~~~
[ 50%] Building CXX object ../build/CMakeFiles/panda-protocol-http-tests.dir/tests/compile/chunks.cc.o
In file included from /home/cpan/pit/bare-qm/conf/perl-5.28.2/.cpanplus/5.28.2/build/XI3A_9Udil/Protocol-HTTP-1.1.2/clib/src/panda/protocol/http/Headers.h:3,
                 from /home/cpan/pit/bare-qm/conf/perl-5.28.2/.cpanplus/5.28.2/build/XI3A_9Udil/Protocol-HTTP-1.1.2/clib/src/panda/protocol/http/Message.h:4,
                 from /home/cpan/pit/bare-qm/conf/perl-5.28.2/.cpanplus/5.28.2/build/XI3A_9Udil/Protocol-HTTP-1.1.2/clib/src/panda/protocol/http/Response.h:2,
                 from /home/cpan/pit/bare-qm/conf/perl-5.28.2/.cpanplus/5.28.2/build/XI3A_9Udil/Protocol-HTTP-1.1.2/clib/src/panda/protocol/http/Request.h:2,
                 from /home/cpan/pit/bare-qm/conf/perl-5.28.2/.cpanplus/5.28.2/build/XI3A_9Udil/Protocol-HTTP-1.1.2/clib/src/panda/protocol/http/MessageParser.h:2,
                 from /home/cpan/pit/bare-qm/conf/perl-5.28.2/.cpanplus/5.28.2/build/XI3A_9Udil/Protocol-HTTP-1.1.2/clib/src/panda/protocol/http/RequestParser.h:3,
                 from /home/cpan/pit/bare-qm/conf/perl-5.28.2/.cpanplus/5.28.2/build/XI3A_9Udil/Protocol-HTTP-1.1.2/clib/src/panda/protocol/http.h:2,
                 from /home/cpan/pit/bare-qm/conf/perl-5.28.2/.cpanplus/5.28.2/build/XI3A_9Udil/Protocol-HTTP-1.1.2/clib/tests/compile/../test.h:3,
                 from /home/cpan/pit/bare-qm/conf/perl-5.28.2/.cpanplus/5.28.2/build/XI3A_9Udil/Protocol-HTTP-1.1.2/clib/tests/compile/chunks.cc:1:
/home/cpan/pit/bare-qm/conf/perl-5.28.2/.cpanplus/5.28.2/build/XI3A_9Udil/Protocol-HTTP-1.1.2/clib/src/panda/protocol/http/Fields.h: In instantiation of ‘void panda::protocol::http::Fields<T, CASE_SENSITIVE, PRERESERVE>::set(const string&, const T&) [with T = panda::basic_string<char>; bool CASE_SENSITIVE = false; long unsigned int PRERESERVE = 2; panda::string = panda::basic_string<char>]’:
/home/cpan/pit/bare-qm/conf/perl-5.28.2/.cpanplus/5.28.2/build/XI3A_9Udil/Protocol-HTTP-1.1.2/clib/src/panda/protocol/http/Message.h:87:67:   required from here
/home/cpan/pit/bare-qm/conf/perl-5.28.2/.cpanplus/5.28.2/build/XI3A_9Udil/Protocol-HTTP-1.1.2/clib/src/panda/protocol/http/Fields.h:105:34: warning: implicitly-declared ‘constexpr boost::container::vec_iterator<panda::protocol::http::Fields<panda::basic_string<char>, false, 2>::Field*, false>& boost::container::vec_iterator<panda::protocol::http::Fields<panda::basic_string<char>, false, 2>::Field*, false>::operator=(const boost::container::vec_iterator<panda::protocol::http::Fields<panda::basic_string<char>, false, 2>::Field*, false>&)’ is deprecated [-Wdeprecated-copy]
  105 |                 if (replaced) it = fields.erase(it);
In file included from /home/cpan/pit/jail/WO_rNORkzw/lib/perl5/XS/libboost/mini.x/i/boost/container/small_vector.hpp:27,
                 from /home/cpan/pit/bare-qm/conf/perl-5.28.2/.cpanplus/5.28.2/build/XI3A_9Udil/Protocol-HTTP-1.1.2/clib/src/panda/protocol/http/Body.h:5,
                 from /home/cpan/pit/bare-qm/conf/perl-5.28.2/.cpanplus/5.28.2/build/XI3A_9Udil/Protocol-HTTP-1.1.2/clib/src/panda/protocol/http/Message.h:2,
                 from /home/cpan/pit/bare-qm/conf/perl-5.28.2/.cpanplus/5.28.2/build/XI3A_9Udil/Protocol-HTTP-1.1.2/clib/src/panda/protocol/http/Response.h:2,
                 from /home/cpan/pit/bare-qm/conf/perl-5.28.2/.cpanplus/5.28.2/build/XI3A_9Udil/Protocol-HTTP-1.1.2/clib/src/panda/protocol/http/Request.h:2,
                 from /home/cpan/pit/bare-qm/conf/perl-5.28.2/.cpanplus/5.28.2/build/XI3A_9Udil/Protocol-HTTP-1.1.2/clib/src/panda/protocol/http/MessageParser.h:2,
                 from /home/cpan/pit/bare-qm/conf/perl-5.28.2/.cpanplus/5.28.2/build/XI3A_9Udil/Protocol-HTTP-1.1.2/clib/src/panda/protocol/http/RequestParser.h:3,
                 from /home/cpan/pit/bare-qm/conf/perl-5.28.2/.cpanplus/5.28.2/build/XI3A_9Udil/Protocol-HTTP-1.1.2/clib/src/panda/protocol/http.h:2,
                 from /home/cpan/pit/bare-qm/conf/perl-5.28.2/.cpanplus/5.28.2/build/XI3A_9Udil/Protocol-HTTP-1.1.2/clib/tests/compile/../test.h:3,
                 from /home/cpan/pit/bare-qm/conf/perl-5.28.2/.cpanplus/5.28.2/build/XI3A_9Udil/Protocol-HTTP-1.1.2/clib/tests/compile/chunks.cc:1:
/home/cpan/pit/jail/WO_rNORkzw/lib/perl5/XS/libboost/mini.x/i/boost/container/vector.hpp:119:32: note: because ‘boost::container::vec_iterator<panda::protocol::http::Fields<panda::basic_string<char>, false, 2>::Field*, false>’ has user-provided ‘boost::container::vec_iterator<Pointer, IsConst>::vec_iterator(const boost::container::vec_iterator<Pointer, false>&) [with Pointer = panda::protocol::http::Fields<panda::basic_string<char>, false, 2>::Field*; bool IsConst = false]’
  119 |    BOOST_CONTAINER_FORCEINLINE vec_iterator(vec_iterator<Pointer, false> const& other) BOOST_NOEXCEPT_OR_NOTHROW
      |                                ^~~~~~~~~~~~
In file included from /home/cpan/pit/bare-qm/conf/perl-5.28.2/.cpanplus/5.28.2/build/XI3A_9Udil/Protocol-HTTP-1.1.2/clib/src/panda/protocol/http/Body.h:5,
                 from /home/cpan/pit/bare-qm/conf/perl-5.28.2/.cpanplus/5.28.2/build/XI3A_9Udil/Protocol-HTTP-1.1.2/clib/src/panda/protocol/http/Message.h:2,
                 from /home/cpan/pit/bare-qm/conf/perl-5.28.2/.cpanplus/5.28.2/build/XI3A_9Udil/Protocol-HTTP-1.1.2/clib/src/panda/protocol/http/Response.h:2,
                 from /home/cpan/pit/bare-qm/conf/perl-5.28.2/.cpanplus/5.28.2/build/XI3A_9Udil/Protocol-HTTP-1.1.2/clib/src/panda/protocol/http/Request.h:2,
                 from /home/cpan/pit/bare-qm/conf/perl-5.28.2/.cpanplus/5.28.2/build/XI3A_9Udil/Protocol-HTTP-1.1.2/clib/src/panda/protocol/http/MessageParser.h:2,
                 from /home/cpan/pit/bare-qm/conf/perl-5.28.2/.cpanplus/5.28.2/build/XI3A_9Udil/Protocol-HTTP-1.1.2/clib/src/panda/protocol/http/RequestParser.h:3,
                 from /home/cpan/pit/bare-qm/conf/perl-5.28.2/.cpanplus/5.28.2/build/XI3A_9Udil/Protocol-HTTP-1.1.2/clib/src/panda/protocol/http.h:2,
                 from /home/cpan/pit/bare-qm/conf/perl-5.28.2/.cpanplus/5.28.2/build/XI3A_9Udil/Protocol-HTTP-1.1.2/clib/tests/compile/../test.h:3,
                 from /home/cpan/pit/bare-qm/conf/perl-5.28.2/.cpanplus/5.28.2/build/XI3A_9Udil/Protocol-HTTP-1.1.2/clib/tests/compile/chunks.cc:1:
/home/cpan/pit/jail/WO_rNORkzw/lib/perl5/XS/libboost/mini.x/i/boost/container/small_vector.hpp: In instantiation of ‘boost::container::small_vector_allocator<Allocator>& boost::container::small_vector_allocator<Allocator>::operator=(boost::container::small_vector_allocator<Allocator>&&) [with Allocator = boost::container::new_allocator<panda::basic_string<char> >]’:
/home/cpan/pit/jail/WO_rNORkzw/lib/perl5/XS/libboost/mini.x/i/boost/container/detail/alloc_helpers.hpp:54:6:   required from ‘void boost::container::dtl::move_alloc(AllocatorType&, AllocatorType&, boost::move_detail::true_type) [with AllocatorType = boost::container::small_vector_allocator<boost::container::new_allocator<panda::basic_string<char> > >; boost::move_detail::true_type = boost::move_detail::integral_constant<bool, true>]’
/home/cpan/pit/jail/WO_rNORkzw/lib/perl5/XS/libboost/mini.x/i/boost/container/vector.hpp:2432:22:   required from ‘void boost::container::vector<T, Allocator, Options>::priv_move_assign(boost::container::vector<T, OtherAllocator>&&, typename boost::move_detail::disable_if_or<void, boost::container::dtl::is_version<OtherAllocator, 0>, boost::move_detail::is_different<OtherAllocator, Allocator> >::type*) [with OtherAllocator = boost::container::small_vector_allocator<boost::container::new_allocator<panda::basic_string<char> > >; T = panda::basic_string<char>; Allocator = boost::container::small_vector_allocator<boost::container::new_allocator<panda::basic_string<char> > >; Options = void; typename boost::move_detail::disable_if_or<void, boost::container::dtl::is_version<OtherAllocator, 0>, boost::move_detail::is_different<OtherAllocator, Allocator> >::type = void]’
/home/cpan/pit/jail/WO_rNORkzw/lib/perl5/XS/libboost/mini.x/i/boost/container/vector.hpp:1134:7:   required from ‘boost::container::vector<T, Allocator, Options>& boost::container::vector<T, Allocator, Options>::operator=(boost::container::vector<T, Allocator, Options>&&) [with T = panda::basic_string<char>; Allocator = boost::container::small_vector_allocator<boost::container::new_allocator<panda::basic_string<char> > >; Options = void]’
/home/cpan/pit/jail/WO_rNORkzw/lib/perl5/XS/libboost/mini.x/i/boost/container/small_vector.hpp:410:14:   required from ‘boost::container::small_vector_base<T, Allocator>& boost::container::small_vector_base<T, Allocator>::operator=(boost::container::small_vector_base<T, Allocator>&&) [with T = panda::basic_string<char>; SecondaryAllocator = boost::container::new_allocator<panda::basic_string<char> >]’
/home/cpan/pit/jail/WO_rNORkzw/lib/perl5/XS/libboost/mini.x/i/boost/container/small_vector.hpp:634:14:   required from ‘boost::container::small_vector<T, N, Allocator>& boost::container::small_vector<T, N, Allocator>::operator=(boost::container::small_vector<T, N, Allocator>&&) [with T = panda::basic_string<char>; long unsigned int N = 2; Allocator = boost::container::new_allocator<panda::basic_string<char> >]’
/home/cpan/pit/bare-qm/conf/perl-5.28.2/.cpanplus/5.28.2/build/XI3A_9Udil/Protocol-HTTP-1.1.2/clib/src/panda/protocol/http/Body.h:10:8:   required from ‘T& panda::protocol::http::Message::Builder< <template-parameter-1-1>, <template-parameter-1-2> >::body(panda::protocol::http::Body&&, const string&) [with T = panda::protocol::http::Request::Builder; MP = panda::iptr<panda::protocol::http::Request>; panda::string = panda::basic_string<char>]’
/home/cpan/pit/bare-qm/conf/perl-5.28.2/.cpanplus/5.28.2/build/XI3A_9Udil/Protocol-HTTP-1.1.2/clib/tests/compile/chunks.cc:53:55:   required from here
/home/cpan/pit/jail/WO_rNORkzw/lib/perl5/XS/libboost/mini.x/i/boost/container/small_vector.hpp:192:14: warning: implicitly-declared ‘constexpr boost::container::new_allocator<panda::basic_string<char> >& boost::container::new_allocator<panda::basic_string<char> >::operator=(const boost::container::new_allocator<panda::basic_string<char> >&)’ is deprecated [-Wdeprecated-copy]
  192 |    {  return static_cast<small_vector_allocator&>(this->Allocator::operator=(::boost::move(other.as_base())));  }
      |              ^~~~~~~~~~~~~~~~~~~~~~~~~~~~~~~~~~~~~~~~~~~~~~~~~~~~~~~~~~~~~~~~~~~~~~~~~~~~~~~~~~~~~~~~~~~~~~~~
In file included from /home/cpan/pit/jail/WO_rNORkzw/lib/perl5/XS/libboost/mini.x/i/boost/container/vector.hpp:28,
                 from /home/cpan/pit/jail/WO_rNORkzw/lib/perl5/XS/libboost/mini.x/i/boost/container/small_vector.hpp:27,
                 from /home/cpan/pit/bare-qm/conf/perl-5.28.2/.cpanplus/5.28.2/build/XI3A_9Udil/Protocol-HTTP-1.1.2/clib/src/panda/protocol/http/Body.h:5,
                 from /home/cpan/pit/bare-qm/conf/perl-5.28.2/.cpanplus/5.28.2/build/XI3A_9Udil/Protocol-HTTP-1.1.2/clib/src/panda/protocol/http/Message.h:2,
                 from /home/cpan/pit/bare-qm/conf/perl-5.28.2/.cpanplus/5.28.2/build/XI3A_9Udil/Protocol-HTTP-1.1.2/clib/src/panda/protocol/http/Response.h:2,
                 from /home/cpan/pit/bare-qm/conf/perl-5.28.2/.cpanplus/5.28.2/build/XI3A_9Udil/Protocol-HTTP-1.1.2/clib/src/panda/protocol/http/Request.h:2,
                 from /home/cpan/pit/bare-qm/conf/perl-5.28.2/.cpanplus/5.28.2/build/XI3A_9Udil/Protocol-HTTP-1.1.2/clib/src/panda/protocol/http/MessageParser.h:2,
                 from /home/cpan/pit/bare-qm/conf/perl-5.28.2/.cpanplus/5.28.2/build/XI3A_9Udil/Protocol-HTTP-1.1.2/clib/src/panda/protocol/http/RequestParser.h:3,
                 from /home/cpan/pit/bare-qm/conf/perl-5.28.2/.cpanplus/5.28.2/build/XI3A_9Udil/Protocol-HTTP-1.1.2/clib/src/panda/protocol/http.h:2,
                 from /home/cpan/pit/bare-qm/conf/perl-5.28.2/.cpanplus/5.28.2/build/XI3A_9Udil/Protocol-HTTP-1.1.2/clib/tests/compile/../test.h:3,
                 from /home/cpan/pit/bare-qm/conf/perl-5.28.2/.cpanplus/5.28.2/build/XI3A_9Udil/Protocol-HTTP-1.1.2/clib/tests/compile/chunks.cc:1:
/home/cpan/pit/jail/WO_rNORkzw/lib/perl5/XS/libboost/mini.x/i/boost/container/new_allocator.hpp:130:4: note: because ‘boost::container::new_allocator<panda::basic_string<char> >’ has user-provided ‘boost::container::new_allocator<T>::new_allocator(const boost::container::new_allocator<T>&) [with T = panda::basic_string<char>]’
  130 |    new_allocator(const new_allocator &) BOOST_NOEXCEPT_OR_NOTHROW
      |    ^~~~~~~~~~~~~
[ 52%] Building CXX object ../build/CMakeFiles/panda-protocol-http-tests.dir/tests/compile/compression.cc.o
In file included from /home/cpan/pit/bare-qm/conf/perl-5.28.2/.cpanplus/5.28.2/build/XI3A_9Udil/Protocol-HTTP-1.1.2/clib/src/panda/protocol/http/Headers.h:3,
                 from /home/cpan/pit/bare-qm/conf/perl-5.28.2/.cpanplus/5.28.2/build/XI3A_9Udil/Protocol-HTTP-1.1.2/clib/src/panda/protocol/http/Message.h:4,
                 from /home/cpan/pit/bare-qm/conf/perl-5.28.2/.cpanplus/5.28.2/build/XI3A_9Udil/Protocol-HTTP-1.1.2/clib/src/panda/protocol/http/Response.h:2,
                 from /home/cpan/pit/bare-qm/conf/perl-5.28.2/.cpanplus/5.28.2/build/XI3A_9Udil/Protocol-HTTP-1.1.2/clib/src/panda/protocol/http/Request.h:2,
                 from /home/cpan/pit/bare-qm/conf/perl-5.28.2/.cpanplus/5.28.2/build/XI3A_9Udil/Protocol-HTTP-1.1.2/clib/src/panda/protocol/http/MessageParser.h:2,
                 from /home/cpan/pit/bare-qm/conf/perl-5.28.2/.cpanplus/5.28.2/build/XI3A_9Udil/Protocol-HTTP-1.1.2/clib/src/panda/protocol/http/RequestParser.h:3,
                 from /home/cpan/pit/bare-qm/conf/perl-5.28.2/.cpanplus/5.28.2/build/XI3A_9Udil/Protocol-HTTP-1.1.2/clib/src/panda/protocol/http.h:2,
                 from /home/cpan/pit/bare-qm/conf/perl-5.28.2/.cpanplus/5.28.2/build/XI3A_9Udil/Protocol-HTTP-1.1.2/clib/tests/compile/../test.h:3,
                 from /home/cpan/pit/bare-qm/conf/perl-5.28.2/.cpanplus/5.28.2/build/XI3A_9Udil/Protocol-HTTP-1.1.2/clib/tests/compile/compression.cc:1:
/home/cpan/pit/bare-qm/conf/perl-5.28.2/.cpanplus/5.28.2/build/XI3A_9Udil/Protocol-HTTP-1.1.2/clib/src/panda/protocol/http/Fields.h: In instantiation of ‘void panda::protocol::http::Fields<T, CASE_SENSITIVE, PRERESERVE>::set(const string&, const T&) [with T = panda::basic_string<char>; bool CASE_SENSITIVE = false; long unsigned int PRERESERVE = 2; panda::string = panda::basic_string<char>]’:
/home/cpan/pit/bare-qm/conf/perl-5.28.2/.cpanplus/5.28.2/build/XI3A_9Udil/Protocol-HTTP-1.1.2/clib/src/panda/protocol/http/Message.h:87:67:   required from here
/home/cpan/pit/bare-qm/conf/perl-5.28.2/.cpanplus/5.28.2/build/XI3A_9Udil/Protocol-HTTP-1.1.2/clib/src/panda/protocol/http/Fields.h:105:34: warning: implicitly-declared ‘constexpr boost::container::vec_iterator<panda::protocol::http::Fields<panda::basic_string<char>, false, 2>::Field*, false>& boost::container::vec_iterator<panda::protocol::http::Fields<panda::basic_string<char>, false, 2>::Field*, false>::operator=(const boost::container::vec_iterator<panda::protocol::http::Fields<panda::basic_string<char>, false, 2>::Field*, false>&)’ is deprecated [-Wdeprecated-copy]
  105 |                 if (replaced) it = fields.erase(it);
In file included from /home/cpan/pit/jail/WO_rNORkzw/lib/perl5/XS/libboost/mini.x/i/boost/container/small_vector.hpp:27,
                 from /home/cpan/pit/bare-qm/conf/perl-5.28.2/.cpanplus/5.28.2/build/XI3A_9Udil/Protocol-HTTP-1.1.2/clib/src/panda/protocol/http/Body.h:5,
                 from /home/cpan/pit/bare-qm/conf/perl-5.28.2/.cpanplus/5.28.2/build/XI3A_9Udil/Protocol-HTTP-1.1.2/clib/src/panda/protocol/http/Message.h:2,
                 from /home/cpan/pit/bare-qm/conf/perl-5.28.2/.cpanplus/5.28.2/build/XI3A_9Udil/Protocol-HTTP-1.1.2/clib/src/panda/protocol/http/Response.h:2,
                 from /home/cpan/pit/bare-qm/conf/perl-5.28.2/.cpanplus/5.28.2/build/XI3A_9Udil/Protocol-HTTP-1.1.2/clib/src/panda/protocol/http/Request.h:2,
                 from /home/cpan/pit/bare-qm/conf/perl-5.28.2/.cpanplus/5.28.2/build/XI3A_9Udil/Protocol-HTTP-1.1.2/clib/src/panda/protocol/http/MessageParser.h:2,
                 from /home/cpan/pit/bare-qm/conf/perl-5.28.2/.cpanplus/5.28.2/build/XI3A_9Udil/Protocol-HTTP-1.1.2/clib/src/panda/protocol/http/RequestParser.h:3,
                 from /home/cpan/pit/bare-qm/conf/perl-5.28.2/.cpanplus/5.28.2/build/XI3A_9Udil/Protocol-HTTP-1.1.2/clib/src/panda/protocol/http.h:2,
                 from /home/cpan/pit/bare-qm/conf/perl-5.28.2/.cpanplus/5.28.2/build/XI3A_9Udil/Protocol-HTTP-1.1.2/clib/tests/compile/../test.h:3,
                 from /home/cpan/pit/bare-qm/conf/perl-5.28.2/.cpanplus/5.28.2/build/XI3A_9Udil/Protocol-HTTP-1.1.2/clib/tests/compile/compression.cc:1:
/home/cpan/pit/jail/WO_rNORkzw/lib/perl5/XS/libboost/mini.x/i/boost/container/vector.hpp:119:32: note: because ‘boost::container::vec_iterator<panda::protocol::http::Fields<panda::basic_string<char>, false, 2>::Field*, false>’ has user-provided ‘boost::container::vec_iterator<Pointer, IsConst>::vec_iterator(const boost::container::vec_iterator<Pointer, false>&) [with Pointer = panda::protocol::http::Fields<panda::basic_string<char>, false, 2>::Field*; bool IsConst = false]’
  119 |    BOOST_CONTAINER_FORCEINLINE vec_iterator(vec_iterator<Pointer, false> const& other) BOOST_NOEXCEPT_OR_NOTHROW
      |                                ^~~~~~~~~~~~
In file included from /home/cpan/pit/bare-qm/conf/perl-5.28.2/.cpanplus/5.28.2/build/XI3A_9Udil/Protocol-HTTP-1.1.2/clib/src/panda/protocol/http/Body.h:5,
                 from /home/cpan/pit/bare-qm/conf/perl-5.28.2/.cpanplus/5.28.2/build/XI3A_9Udil/Protocol-HTTP-1.1.2/clib/src/panda/protocol/http/Message.h:2,
                 from /home/cpan/pit/bare-qm/conf/perl-5.28.2/.cpanplus/5.28.2/build/XI3A_9Udil/Protocol-HTTP-1.1.2/clib/src/panda/protocol/http/Response.h:2,
                 from /home/cpan/pit/bare-qm/conf/perl-5.28.2/.cpanplus/5.28.2/build/XI3A_9Udil/Protocol-HTTP-1.1.2/clib/src/panda/protocol/http/Request.h:2,
                 from /home/cpan/pit/bare-qm/conf/perl-5.28.2/.cpanplus/5.28.2/build/XI3A_9Udil/Protocol-HTTP-1.1.2/clib/src/panda/protocol/http/MessageParser.h:2,
                 from /home/cpan/pit/bare-qm/conf/perl-5.28.2/.cpanplus/5.28.2/build/XI3A_9Udil/Protocol-HTTP-1.1.2/clib/src/panda/protocol/http/RequestParser.h:3,
                 from /home/cpan/pit/bare-qm/conf/perl-5.28.2/.cpanplus/5.28.2/build/XI3A_9Udil/Protocol-HTTP-1.1.2/clib/src/panda/protocol/http.h:2,
                 from /home/cpan/pit/bare-qm/conf/perl-5.28.2/.cpanplus/5.28.2/build/XI3A_9Udil/Protocol-HTTP-1.1.2/clib/tests/compile/../test.h:3,
                 from /home/cpan/pit/bare-qm/conf/perl-5.28.2/.cpanplus/5.28.2/build/XI3A_9Udil/Protocol-HTTP-1.1.2/clib/tests/compile/compression.cc:1:
/home/cpan/pit/jail/WO_rNORkzw/lib/perl5/XS/libboost/mini.x/i/boost/container/small_vector.hpp: In instantiation of ‘boost::container::small_vector_allocator<Allocator>& boost::container::small_vector_allocator<Allocator>::operator=(boost::container::small_vector_allocator<Allocator>&&) [with Allocator = boost::container::new_allocator<panda::basic_string<char> >]’:
/home/cpan/pit/jail/WO_rNORkzw/lib/perl5/XS/libboost/mini.x/i/boost/container/detail/alloc_helpers.hpp:54:6:   required from ‘void boost::container::dtl::move_alloc(AllocatorType&, AllocatorType&, boost::move_detail::true_type) [with AllocatorType = boost::container::small_vector_allocator<boost::container::new_allocator<panda::basic_string<char> > >; boost::move_detail::true_type = boost::move_detail::integral_constant<bool, true>]’
/home/cpan/pit/jail/WO_rNORkzw/lib/perl5/XS/libboost/mini.x/i/boost/container/vector.hpp:2432:22:   required from ‘void boost::container::vector<T, Allocator, Options>::priv_move_assign(boost::container::vector<T, OtherAllocator>&&, typename boost::move_detail::disable_if_or<void, boost::container::dtl::is_version<OtherAllocator, 0>, boost::move_detail::is_different<OtherAllocator, Allocator> >::type*) [with OtherAllocator = boost::container::small_vector_allocator<boost::container::new_allocator<panda::basic_string<char> > >; T = panda::basic_string<char>; Allocator = boost::container::small_vector_allocator<boost::container::new_allocator<panda::basic_string<char> > >; Options = void; typename boost::move_detail::disable_if_or<void, boost::container::dtl::is_version<OtherAllocator, 0>, boost::move_detail::is_different<OtherAllocator, Allocator> >::type = void]’
/home/cpan/pit/jail/WO_rNORkzw/lib/perl5/XS/libboost/mini.x/i/boost/container/vector.hpp:1134:7:   required from ‘boost::container::vector<T, Allocator, Options>& boost::container::vector<T, Allocator, Options>::operator=(boost::container::vector<T, Allocator, Options>&&) [with T = panda::basic_string<char>; Allocator = boost::container::small_vector_allocator<boost::container::new_allocator<panda::basic_string<char> > >; Options = void]’
/home/cpan/pit/jail/WO_rNORkzw/lib/perl5/XS/libboost/mini.x/i/boost/container/small_vector.hpp:410:14:   required from ‘boost::container::small_vector_base<T, Allocator>& boost::container::small_vector_base<T, Allocator>::operator=(boost::container::small_vector_base<T, Allocator>&&) [with T = panda::basic_string<char>; SecondaryAllocator = boost::container::new_allocator<panda::basic_string<char> >]’
/home/cpan/pit/jail/WO_rNORkzw/lib/perl5/XS/libboost/mini.x/i/boost/container/small_vector.hpp:634:14:   required from ‘boost::container::small_vector<T, N, Allocator>& boost::container::small_vector<T, N, Allocator>::operator=(boost::container::small_vector<T, N, Allocator>&&) [with T = panda::basic_string<char>; long unsigned int N = 2; Allocator = boost::container::new_allocator<panda::basic_string<char> >]’
/home/cpan/pit/bare-qm/conf/perl-5.28.2/.cpanplus/5.28.2/build/XI3A_9Udil/Protocol-HTTP-1.1.2/clib/src/panda/protocol/http/Body.h:10:8:   required from ‘T& panda::protocol::http::Message::Builder< <template-parameter-1-1>, <template-parameter-1-2> >::body(panda::protocol::http::Body&&, const string&) [with T = panda::protocol::http::Request::Builder; MP = panda::iptr<panda::protocol::http::Request>; panda::string = panda::basic_string<char>]’
/home/cpan/pit/bare-qm/conf/perl-5.28.2/.cpanplus/5.28.2/build/XI3A_9Udil/Protocol-HTTP-1.1.2/clib/tests/compile/compression.cc:152:80:   required from here
/home/cpan/pit/jail/WO_rNORkzw/lib/perl5/XS/libboost/mini.x/i/boost/container/small_vector.hpp:192:14: warning: implicitly-declared ‘constexpr boost::container::new_allocator<panda::basic_string<char> >& boost::container::new_allocator<panda::basic_string<char> >::operator=(const boost::container::new_allocator<panda::basic_string<char> >&)’ is deprecated [-Wdeprecated-copy]
  192 |    {  return static_cast<small_vector_allocator&>(this->Allocator::operator=(::boost::move(other.as_base())));  }
      |              ^~~~~~~~~~~~~~~~~~~~~~~~~~~~~~~~~~~~~~~~~~~~~~~~~~~~~~~~~~~~~~~~~~~~~~~~~~~~~~~~~~~~~~~~~~~~~~~~
In file included from /home/cpan/pit/jail/WO_rNORkzw/lib/perl5/XS/libboost/mini.x/i/boost/container/vector.hpp:28,
                 from /home/cpan/pit/jail/WO_rNORkzw/lib/perl5/XS/libboost/mini.x/i/boost/container/small_vector.hpp:27,
                 from /home/cpan/pit/bare-qm/conf/perl-5.28.2/.cpanplus/5.28.2/build/XI3A_9Udil/Protocol-HTTP-1.1.2/clib/src/panda/protocol/http/Body.h:5,
                 from /home/cpan/pit/bare-qm/conf/perl-5.28.2/.cpanplus/5.28.2/build/XI3A_9Udil/Protocol-HTTP-1.1.2/clib/src/panda/protocol/http/Message.h:2,
                 from /home/cpan/pit/bare-qm/conf/perl-5.28.2/.cpanplus/5.28.2/build/XI3A_9Udil/Protocol-HTTP-1.1.2/clib/src/panda/protocol/http/Response.h:2,
                 from /home/cpan/pit/bare-qm/conf/perl-5.28.2/.cpanplus/5.28.2/build/XI3A_9Udil/Protocol-HTTP-1.1.2/clib/src/panda/protocol/http/Request.h:2,
                 from /home/cpan/pit/bare-qm/conf/perl-5.28.2/.cpanplus/5.28.2/build/XI3A_9Udil/Protocol-HTTP-1.1.2/clib/src/panda/protocol/http/MessageParser.h:2,
                 from /home/cpan/pit/bare-qm/conf/perl-5.28.2/.cpanplus/5.28.2/build/XI3A_9Udil/Protocol-HTTP-1.1.2/clib/src/panda/protocol/http/RequestParser.h:3,
                 from /home/cpan/pit/bare-qm/conf/perl-5.28.2/.cpanplus/5.28.2/build/XI3A_9Udil/Protocol-HTTP-1.1.2/clib/src/panda/protocol/http.h:2,
                 from /home/cpan/pit/bare-qm/conf/perl-5.28.2/.cpanplus/5.28.2/build/XI3A_9Udil/Protocol-HTTP-1.1.2/clib/tests/compile/../test.h:3,
                 from /home/cpan/pit/bare-qm/conf/perl-5.28.2/.cpanplus/5.28.2/build/XI3A_9Udil/Protocol-HTTP-1.1.2/clib/tests/compile/compression.cc:1:
/home/cpan/pit/jail/WO_rNORkzw/lib/perl5/XS/libboost/mini.x/i/boost/container/new_allocator.hpp:130:4: note: because ‘boost::container::new_allocator<panda::basic_string<char> >’ has user-provided ‘boost::container::new_allocator<T>::new_allocator(const boost::container::new_allocator<T>&) [with T = panda::basic_string<char>]’
  130 |    new_allocator(const new_allocator &) BOOST_NOEXCEPT_OR_NOTHROW
      |    ^~~~~~~~~~~~~
[ 55%] Building CXX object ../build/CMakeFiles/panda-protocol-http-tests.dir/tests/compile/cookies.cc.o
In file included from /home/cpan/pit/bare-qm/conf/perl-5.28.2/.cpanplus/5.28.2/build/XI3A_9Udil/Protocol-HTTP-1.1.2/clib/src/panda/protocol/http/Headers.h:3,
                 from /home/cpan/pit/bare-qm/conf/perl-5.28.2/.cpanplus/5.28.2/build/XI3A_9Udil/Protocol-HTTP-1.1.2/clib/src/panda/protocol/http/Message.h:4,
                 from /home/cpan/pit/bare-qm/conf/perl-5.28.2/.cpanplus/5.28.2/build/XI3A_9Udil/Protocol-HTTP-1.1.2/clib/src/panda/protocol/http/Response.h:2,
                 from /home/cpan/pit/bare-qm/conf/perl-5.28.2/.cpanplus/5.28.2/build/XI3A_9Udil/Protocol-HTTP-1.1.2/clib/src/panda/protocol/http/Request.h:2,
                 from /home/cpan/pit/bare-qm/conf/perl-5.28.2/.cpanplus/5.28.2/build/XI3A_9Udil/Protocol-HTTP-1.1.2/clib/src/panda/protocol/http/MessageParser.h:2,
                 from /home/cpan/pit/bare-qm/conf/perl-5.28.2/.cpanplus/5.28.2/build/XI3A_9Udil/Protocol-HTTP-1.1.2/clib/src/panda/protocol/http/RequestParser.h:3,
                 from /home/cpan/pit/bare-qm/conf/perl-5.28.2/.cpanplus/5.28.2/build/XI3A_9Udil/Protocol-HTTP-1.1.2/clib/src/panda/protocol/http.h:2,
                 from /home/cpan/pit/bare-qm/conf/perl-5.28.2/.cpanplus/5.28.2/build/XI3A_9Udil/Protocol-HTTP-1.1.2/clib/tests/compile/../test.h:3,
                 from /home/cpan/pit/bare-qm/conf/perl-5.28.2/.cpanplus/5.28.2/build/XI3A_9Udil/Protocol-HTTP-1.1.2/clib/tests/compile/cookies.cc:1:
/home/cpan/pit/bare-qm/conf/perl-5.28.2/.cpanplus/5.28.2/build/XI3A_9Udil/Protocol-HTTP-1.1.2/clib/src/panda/protocol/http/Fields.h: In instantiation of ‘void panda::protocol::http::Fields<T, CASE_SENSITIVE, PRERESERVE>::set(const string&, const T&) [with T = panda::basic_string<char>; bool CASE_SENSITIVE = false; long unsigned int PRERESERVE = 2; panda::string = panda::basic_string<char>]’:
/home/cpan/pit/bare-qm/conf/perl-5.28.2/.cpanplus/5.28.2/build/XI3A_9Udil/Protocol-HTTP-1.1.2/clib/src/panda/protocol/http/Message.h:87:67:   required from here
/home/cpan/pit/bare-qm/conf/perl-5.28.2/.cpanplus/5.28.2/build/XI3A_9Udil/Protocol-HTTP-1.1.2/clib/src/panda/protocol/http/Fields.h:105:34: warning: implicitly-declared ‘constexpr boost::container::vec_iterator<panda::protocol::http::Fields<panda::basic_string<char>, false, 2>::Field*, false>& boost::container::vec_iterator<panda::protocol::http::Fields<panda::basic_string<char>, false, 2>::Field*, false>::operator=(const boost::container::vec_iterator<panda::protocol::http::Fields<panda::basic_string<char>, false, 2>::Field*, false>&)’ is deprecated [-Wdeprecated-copy]
  105 |                 if (replaced) it = fields.erase(it);
In file included from /home/cpan/pit/jail/WO_rNORkzw/lib/perl5/XS/libboost/mini.x/i/boost/container/small_vector.hpp:27,
                 from /home/cpan/pit/bare-qm/conf/perl-5.28.2/.cpanplus/5.28.2/build/XI3A_9Udil/Protocol-HTTP-1.1.2/clib/src/panda/protocol/http/Body.h:5,
                 from /home/cpan/pit/bare-qm/conf/perl-5.28.2/.cpanplus/5.28.2/build/XI3A_9Udil/Protocol-HTTP-1.1.2/clib/src/panda/protocol/http/Message.h:2,
                 from /home/cpan/pit/bare-qm/conf/perl-5.28.2/.cpanplus/5.28.2/build/XI3A_9Udil/Protocol-HTTP-1.1.2/clib/src/panda/protocol/http/Response.h:2,
                 from /home/cpan/pit/bare-qm/conf/perl-5.28.2/.cpanplus/5.28.2/build/XI3A_9Udil/Protocol-HTTP-1.1.2/clib/src/panda/protocol/http/Request.h:2,
                 from /home/cpan/pit/bare-qm/conf/perl-5.28.2/.cpanplus/5.28.2/build/XI3A_9Udil/Protocol-HTTP-1.1.2/clib/src/panda/protocol/http/MessageParser.h:2,
                 from /home/cpan/pit/bare-qm/conf/perl-5.28.2/.cpanplus/5.28.2/build/XI3A_9Udil/Protocol-HTTP-1.1.2/clib/src/panda/protocol/http/RequestParser.h:3,
                 from /home/cpan/pit/bare-qm/conf/perl-5.28.2/.cpanplus/5.28.2/build/XI3A_9Udil/Protocol-HTTP-1.1.2/clib/src/panda/protocol/http.h:2,
                 from /home/cpan/pit/bare-qm/conf/perl-5.28.2/.cpanplus/5.28.2/build/XI3A_9Udil/Protocol-HTTP-1.1.2/clib/tests/compile/../test.h:3,
                 from /home/cpan/pit/bare-qm/conf/perl-5.28.2/.cpanplus/5.28.2/build/XI3A_9Udil/Protocol-HTTP-1.1.2/clib/tests/compile/cookies.cc:1:
/home/cpan/pit/jail/WO_rNORkzw/lib/perl5/XS/libboost/mini.x/i/boost/container/vector.hpp:119:32: note: because ‘boost::container::vec_iterator<panda::protocol::http::Fields<panda::basic_string<char>, false, 2>::Field*, false>’ has user-provided ‘boost::container::vec_iterator<Pointer, IsConst>::vec_iterator(const boost::container::vec_iterator<Pointer, false>&) [with Pointer = panda::protocol::http::Fields<panda::basic_string<char>, false, 2>::Field*; bool IsConst = false]’
  119 |    BOOST_CONTAINER_FORCEINLINE vec_iterator(vec_iterator<Pointer, false> const& other) BOOST_NOEXCEPT_OR_NOTHROW
      |                                ^~~~~~~~~~~~
[ 58%] Building CXX object ../build/CMakeFiles/panda-protocol-http-tests.dir/tests/compile/form.cc.o
In file included from /home/cpan/pit/bare-qm/conf/perl-5.28.2/.cpanplus/5.28.2/build/XI3A_9Udil/Protocol-HTTP-1.1.2/clib/src/panda/protocol/http/Headers.h:3,
                 from /home/cpan/pit/bare-qm/conf/perl-5.28.2/.cpanplus/5.28.2/build/XI3A_9Udil/Protocol-HTTP-1.1.2/clib/src/panda/protocol/http/Message.h:4,
                 from /home/cpan/pit/bare-qm/conf/perl-5.28.2/.cpanplus/5.28.2/build/XI3A_9Udil/Protocol-HTTP-1.1.2/clib/src/panda/protocol/http/Response.h:2,
                 from /home/cpan/pit/bare-qm/conf/perl-5.28.2/.cpanplus/5.28.2/build/XI3A_9Udil/Protocol-HTTP-1.1.2/clib/src/panda/protocol/http/Request.h:2,
                 from /home/cpan/pit/bare-qm/conf/perl-5.28.2/.cpanplus/5.28.2/build/XI3A_9Udil/Protocol-HTTP-1.1.2/clib/src/panda/protocol/http/MessageParser.h:2,
                 from /home/cpan/pit/bare-qm/conf/perl-5.28.2/.cpanplus/5.28.2/build/XI3A_9Udil/Protocol-HTTP-1.1.2/clib/src/panda/protocol/http/RequestParser.h:3,
                 from /home/cpan/pit/bare-qm/conf/perl-5.28.2/.cpanplus/5.28.2/build/XI3A_9Udil/Protocol-HTTP-1.1.2/clib/src/panda/protocol/http.h:2,
                 from /home/cpan/pit/bare-qm/conf/perl-5.28.2/.cpanplus/5.28.2/build/XI3A_9Udil/Protocol-HTTP-1.1.2/clib/tests/compile/../test.h:3,
                 from /home/cpan/pit/bare-qm/conf/perl-5.28.2/.cpanplus/5.28.2/build/XI3A_9Udil/Protocol-HTTP-1.1.2/clib/tests/compile/form.cc:1:
/home/cpan/pit/bare-qm/conf/perl-5.28.2/.cpanplus/5.28.2/build/XI3A_9Udil/Protocol-HTTP-1.1.2/clib/src/panda/protocol/http/Fields.h: In instantiation of ‘void panda::protocol::http::Fields<T, CASE_SENSITIVE, PRERESERVE>::set(const string&, const T&) [with T = panda::basic_string<char>; bool CASE_SENSITIVE = false; long unsigned int PRERESERVE = 2; panda::string = panda::basic_string<char>]’:
/home/cpan/pit/bare-qm/conf/perl-5.28.2/.cpanplus/5.28.2/build/XI3A_9Udil/Protocol-HTTP-1.1.2/clib/src/panda/protocol/http/Message.h:87:67:   required from here
/home/cpan/pit/bare-qm/conf/perl-5.28.2/.cpanplus/5.28.2/build/XI3A_9Udil/Protocol-HTTP-1.1.2/clib/src/panda/protocol/http/Fields.h:105:34: warning: implicitly-declared ‘constexpr boost::container::vec_iterator<panda::protocol::http::Fields<panda::basic_string<char>, false, 2>::Field*, false>& boost::container::vec_iterator<panda::protocol::http::Fields<panda::basic_string<char>, false, 2>::Field*, false>::operator=(const boost::container::vec_iterator<panda::protocol::http::Fields<panda::basic_string<char>, false, 2>::Field*, false>&)’ is deprecated [-Wdeprecated-copy]
  105 |                 if (replaced) it = fields.erase(it);
In file included from /home/cpan/pit/jail/WO_rNORkzw/lib/perl5/XS/libboost/mini.x/i/boost/container/small_vector.hpp:27,
                 from /home/cpan/pit/bare-qm/conf/perl-5.28.2/.cpanplus/5.28.2/build/XI3A_9Udil/Protocol-HTTP-1.1.2/clib/src/panda/protocol/http/Body.h:5,
                 from /home/cpan/pit/bare-qm/conf/perl-5.28.2/.cpanplus/5.28.2/build/XI3A_9Udil/Protocol-HTTP-1.1.2/clib/src/panda/protocol/http/Message.h:2,
                 from /home/cpan/pit/bare-qm/conf/perl-5.28.2/.cpanplus/5.28.2/build/XI3A_9Udil/Protocol-HTTP-1.1.2/clib/src/panda/protocol/http/Response.h:2,
                 from /home/cpan/pit/bare-qm/conf/perl-5.28.2/.cpanplus/5.28.2/build/XI3A_9Udil/Protocol-HTTP-1.1.2/clib/src/panda/protocol/http/Request.h:2,
                 from /home/cpan/pit/bare-qm/conf/perl-5.28.2/.cpanplus/5.28.2/build/XI3A_9Udil/Protocol-HTTP-1.1.2/clib/src/panda/protocol/http/MessageParser.h:2,
                 from /home/cpan/pit/bare-qm/conf/perl-5.28.2/.cpanplus/5.28.2/build/XI3A_9Udil/Protocol-HTTP-1.1.2/clib/src/panda/protocol/http/RequestParser.h:3,
                 from /home/cpan/pit/bare-qm/conf/perl-5.28.2/.cpanplus/5.28.2/build/XI3A_9Udil/Protocol-HTTP-1.1.2/clib/src/panda/protocol/http.h:2,
                 from /home/cpan/pit/bare-qm/conf/perl-5.28.2/.cpanplus/5.28.2/build/XI3A_9Udil/Protocol-HTTP-1.1.2/clib/tests/compile/../test.h:3,
                 from /home/cpan/pit/bare-qm/conf/perl-5.28.2/.cpanplus/5.28.2/build/XI3A_9Udil/Protocol-HTTP-1.1.2/clib/tests/compile/form.cc:1:
/home/cpan/pit/jail/WO_rNORkzw/lib/perl5/XS/libboost/mini.x/i/boost/container/vector.hpp:119:32: note: because ‘boost::container::vec_iterator<panda::protocol::http::Fields<panda::basic_string<char>, false, 2>::Field*, false>’ has user-provided ‘boost::container::vec_iterator<Pointer, IsConst>::vec_iterator(const boost::container::vec_iterator<Pointer, false>&) [with Pointer = panda::protocol::http::Fields<panda::basic_string<char>, false, 2>::Field*; bool IsConst = false]’
  119 |    BOOST_CONTAINER_FORCEINLINE vec_iterator(vec_iterator<Pointer, false> const& other) BOOST_NOEXCEPT_OR_NOTHROW
      |                                ^~~~~~~~~~~~
[ 61%] Building CXX object ../build/CMakeFiles/panda-protocol-http-tests.dir/tests/compile/message.cc.o
In file included from /home/cpan/pit/bare-qm/conf/perl-5.28.2/.cpanplus/5.28.2/build/XI3A_9Udil/Protocol-HTTP-1.1.2/clib/src/panda/protocol/http/Headers.h:3,
                 from /home/cpan/pit/bare-qm/conf/perl-5.28.2/.cpanplus/5.28.2/build/XI3A_9Udil/Protocol-HTTP-1.1.2/clib/src/panda/protocol/http/Message.h:4,
                 from /home/cpan/pit/bare-qm/conf/perl-5.28.2/.cpanplus/5.28.2/build/XI3A_9Udil/Protocol-HTTP-1.1.2/clib/src/panda/protocol/http/Response.h:2,
                 from /home/cpan/pit/bare-qm/conf/perl-5.28.2/.cpanplus/5.28.2/build/XI3A_9Udil/Protocol-HTTP-1.1.2/clib/src/panda/protocol/http/Request.h:2,
                 from /home/cpan/pit/bare-qm/conf/perl-5.28.2/.cpanplus/5.28.2/build/XI3A_9Udil/Protocol-HTTP-1.1.2/clib/src/panda/protocol/http/MessageParser.h:2,
                 from /home/cpan/pit/bare-qm/conf/perl-5.28.2/.cpanplus/5.28.2/build/XI3A_9Udil/Protocol-HTTP-1.1.2/clib/src/panda/protocol/http/RequestParser.h:3,
                 from /home/cpan/pit/bare-qm/conf/perl-5.28.2/.cpanplus/5.28.2/build/XI3A_9Udil/Protocol-HTTP-1.1.2/clib/src/panda/protocol/http.h:2,
                 from /home/cpan/pit/bare-qm/conf/perl-5.28.2/.cpanplus/5.28.2/build/XI3A_9Udil/Protocol-HTTP-1.1.2/clib/tests/compile/../test.h:3,
                 from /home/cpan/pit/bare-qm/conf/perl-5.28.2/.cpanplus/5.28.2/build/XI3A_9Udil/Protocol-HTTP-1.1.2/clib/tests/compile/message.cc:1:
/home/cpan/pit/bare-qm/conf/perl-5.28.2/.cpanplus/5.28.2/build/XI3A_9Udil/Protocol-HTTP-1.1.2/clib/src/panda/protocol/http/Fields.h: In instantiation of ‘void panda::protocol::http::Fields<T, CASE_SENSITIVE, PRERESERVE>::set(const string&, const T&) [with T = panda::basic_string<char>; bool CASE_SENSITIVE = false; long unsigned int PRERESERVE = 2; panda::string = panda::basic_string<char>]’:
/home/cpan/pit/bare-qm/conf/perl-5.28.2/.cpanplus/5.28.2/build/XI3A_9Udil/Protocol-HTTP-1.1.2/clib/src/panda/protocol/http/Message.h:87:67:   required from here
/home/cpan/pit/bare-qm/conf/perl-5.28.2/.cpanplus/5.28.2/build/XI3A_9Udil/Protocol-HTTP-1.1.2/clib/src/panda/protocol/http/Fields.h:105:34: warning: implicitly-declared ‘constexpr boost::container::vec_iterator<panda::protocol::http::Fields<panda::basic_string<char>, false, 2>::Field*, false>& boost::container::vec_iterator<panda::protocol::http::Fields<panda::basic_string<char>, false, 2>::Field*, false>::operator=(const boost::container::vec_iterator<panda::protocol::http::Fields<panda::basic_string<char>, false, 2>::Field*, false>&)’ is deprecated [-Wdeprecated-copy]
  105 |                 if (replaced) it = fields.erase(it);
In file included from /home/cpan/pit/jail/WO_rNORkzw/lib/perl5/XS/libboost/mini.x/i/boost/container/small_vector.hpp:27,
                 from /home/cpan/pit/bare-qm/conf/perl-5.28.2/.cpanplus/5.28.2/build/XI3A_9Udil/Protocol-HTTP-1.1.2/clib/src/panda/protocol/http/Body.h:5,
                 from /home/cpan/pit/bare-qm/conf/perl-5.28.2/.cpanplus/5.28.2/build/XI3A_9Udil/Protocol-HTTP-1.1.2/clib/src/panda/protocol/http/Message.h:2,
                 from /home/cpan/pit/bare-qm/conf/perl-5.28.2/.cpanplus/5.28.2/build/XI3A_9Udil/Protocol-HTTP-1.1.2/clib/src/panda/protocol/http/Response.h:2,
                 from /home/cpan/pit/bare-qm/conf/perl-5.28.2/.cpanplus/5.28.2/build/XI3A_9Udil/Protocol-HTTP-1.1.2/clib/src/panda/protocol/http/Request.h:2,
                 from /home/cpan/pit/bare-qm/conf/perl-5.28.2/.cpanplus/5.28.2/build/XI3A_9Udil/Protocol-HTTP-1.1.2/clib/src/panda/protocol/http/MessageParser.h:2,
                 from /home/cpan/pit/bare-qm/conf/perl-5.28.2/.cpanplus/5.28.2/build/XI3A_9Udil/Protocol-HTTP-1.1.2/clib/src/panda/protocol/http/RequestParser.h:3,
                 from /home/cpan/pit/bare-qm/conf/perl-5.28.2/.cpanplus/5.28.2/build/XI3A_9Udil/Protocol-HTTP-1.1.2/clib/src/panda/protocol/http.h:2,
                 from /home/cpan/pit/bare-qm/conf/perl-5.28.2/.cpanplus/5.28.2/build/XI3A_9Udil/Protocol-HTTP-1.1.2/clib/tests/compile/../test.h:3,
                 from /home/cpan/pit/bare-qm/conf/perl-5.28.2/.cpanplus/5.28.2/build/XI3A_9Udil/Protocol-HTTP-1.1.2/clib/tests/compile/message.cc:1:
/home/cpan/pit/jail/WO_rNORkzw/lib/perl5/XS/libboost/mini.x/i/boost/container/vector.hpp:119:32: note: because ‘boost::container::vec_iterator<panda::protocol::http::Fields<panda::basic_string<char>, false, 2>::Field*, false>’ has user-provided ‘boost::container::vec_iterator<Pointer, IsConst>::vec_iterator(const boost::container::vec_iterator<Pointer, false>&) [with Pointer = panda::protocol::http::Fields<panda::basic_string<char>, false, 2>::Field*; bool IsConst = false]’
  119 |    BOOST_CONTAINER_FORCEINLINE vec_iterator(vec_iterator<Pointer, false> const& other) BOOST_NOEXCEPT_OR_NOTHROW
      |                                ^~~~~~~~~~~~
In file included from /home/cpan/pit/bare-qm/conf/perl-5.28.2/.cpanplus/5.28.2/build/XI3A_9Udil/Protocol-HTTP-1.1.2/clib/src/panda/protocol/http/Body.h:5,
                 from /home/cpan/pit/bare-qm/conf/perl-5.28.2/.cpanplus/5.28.2/build/XI3A_9Udil/Protocol-HTTP-1.1.2/clib/src/panda/protocol/http/Message.h:2,
                 from /home/cpan/pit/bare-qm/conf/perl-5.28.2/.cpanplus/5.28.2/build/XI3A_9Udil/Protocol-HTTP-1.1.2/clib/src/panda/protocol/http/Response.h:2,
                 from /home/cpan/pit/bare-qm/conf/perl-5.28.2/.cpanplus/5.28.2/build/XI3A_9Udil/Protocol-HTTP-1.1.2/clib/src/panda/protocol/http/Request.h:2,
                 from /home/cpan/pit/bare-qm/conf/perl-5.28.2/.cpanplus/5.28.2/build/XI3A_9Udil/Protocol-HTTP-1.1.2/clib/src/panda/protocol/http/MessageParser.h:2,
                 from /home/cpan/pit/bare-qm/conf/perl-5.28.2/.cpanplus/5.28.2/build/XI3A_9Udil/Protocol-HTTP-1.1.2/clib/src/panda/protocol/http/RequestParser.h:3,
                 from /home/cpan/pit/bare-qm/conf/perl-5.28.2/.cpanplus/5.28.2/build/XI3A_9Udil/Protocol-HTTP-1.1.2/clib/src/panda/protocol/http.h:2,
                 from /home/cpan/pit/bare-qm/conf/perl-5.28.2/.cpanplus/5.28.2/build/XI3A_9Udil/Protocol-HTTP-1.1.2/clib/tests/compile/../test.h:3,
                 from /home/cpan/pit/bare-qm/conf/perl-5.28.2/.cpanplus/5.28.2/build/XI3A_9Udil/Protocol-HTTP-1.1.2/clib/tests/compile/message.cc:1:
/home/cpan/pit/jail/WO_rNORkzw/lib/perl5/XS/libboost/mini.x/i/boost/container/small_vector.hpp: In instantiation of ‘boost::container::small_vector_allocator<Allocator>& boost::container::small_vector_allocator<Allocator>::operator=(boost::container::small_vector_allocator<Allocator>&&) [with Allocator = boost::container::new_allocator<panda::protocol::http::Fields<panda::basic_string<char>, false, 15>::Field>]’:
/home/cpan/pit/jail/WO_rNORkzw/lib/perl5/XS/libboost/mini.x/i/boost/container/detail/alloc_helpers.hpp:54:6:   required from ‘void boost::container::dtl::move_alloc(AllocatorType&, AllocatorType&, boost::move_detail::true_type) [with AllocatorType = boost::container::small_vector_allocator<boost::container::new_allocator<panda::protocol::http::Fields<panda::basic_string<char>, false, 15>::Field> >; boost::move_detail::true_type = boost::move_detail::integral_constant<bool, true>]’
/home/cpan/pit/jail/WO_rNORkzw/lib/perl5/XS/libboost/mini.x/i/boost/container/vector.hpp:2432:22:   required from ‘void boost::container::vector<T, Allocator, Options>::priv_move_assign(boost::container::vector<T, OtherAllocator>&&, typename boost::move_detail::disable_if_or<void, boost::container::dtl::is_version<OtherAllocator, 0>, boost::move_detail::is_different<OtherAllocator, Allocator> >::type*) [with OtherAllocator = boost::container::small_vector_allocator<boost::container::new_allocator<panda::protocol::http::Fields<panda::basic_string<char>, false, 15>::Field> >; T = panda::protocol::http::Fields<panda::basic_string<char>, false, 15>::Field; Allocator = boost::container::small_vector_allocator<boost::container::new_allocator<panda::protocol::http::Fields<panda::basic_string<char>, false, 15>::Field> >; Options = void; typename boost::move_detail::disable_if_or<void, boost::container::dtl::is_version<OtherAllocator, 0>, boost::move_detail::is_different<OtherAllocator, Allocator> >::type = void]’
/home/cpan/pit/jail/WO_rNORkzw/lib/perl5/XS/libboost/mini.x/i/boost/container/vector.hpp:1134:7:   required from ‘boost::container::vector<T, Allocator, Options>& boost::container::vector<T, Allocator, Options>::operator=(boost::container::vector<T, Allocator, Options>&&) [with T = panda::protocol::http::Fields<panda::basic_string<char>, false, 15>::Field; Allocator = boost::container::small_vector_allocator<boost::container::new_allocator<panda::protocol::http::Fields<panda::basic_string<char>, false, 15>::Field> >; Options = void]’
/home/cpan/pit/jail/WO_rNORkzw/lib/perl5/XS/libboost/mini.x/i/boost/container/small_vector.hpp:410:14:   required from ‘boost::container::small_vector_base<T, Allocator>& boost::container::small_vector_base<T, Allocator>::operator=(boost::container::small_vector_base<T, Allocator>&&) [with T = panda::protocol::http::Fields<panda::basic_string<char>, false, 15>::Field; SecondaryAllocator = boost::container::new_allocator<panda::protocol::http::Fields<panda::basic_string<char>, false, 15>::Field>]’
/home/cpan/pit/jail/WO_rNORkzw/lib/perl5/XS/libboost/mini.x/i/boost/container/small_vector.hpp:634:14:   required from ‘boost::container::small_vector<T, N, Allocator>& boost::container::small_vector<T, N, Allocator>::operator=(boost::container::small_vector<T, N, Allocator>&&) [with T = panda::protocol::http::Fields<panda::basic_string<char>, false, 15>::Field; long unsigned int N = 15; Allocator = boost::container::new_allocator<panda::protocol::http::Fields<panda::basic_string<char>, false, 15>::Field>]’
/home/cpan/pit/bare-qm/conf/perl-5.28.2/.cpanplus/5.28.2/build/XI3A_9Udil/Protocol-HTTP-1.1.2/clib/src/panda/protocol/http/Fields.h:51:8:   required from ‘T& panda::protocol::http::Message::Builder< <template-parameter-1-1>, <template-parameter-1-2> >::headers(panda::protocol::http::Headers&&) [with T = panda::protocol::http::Request::Builder; MP = panda::iptr<panda::protocol::http::Request>; panda::protocol::http::Headers = panda::protocol::http::GenericHeaders<15>]’
/home/cpan/pit/bare-qm/conf/perl-5.28.2/.cpanplus/5.28.2/build/XI3A_9Udil/Protocol-HTTP-1.1.2/clib/tests/compile/message.cc:8:102:   required from here
/home/cpan/pit/jail/WO_rNORkzw/lib/perl5/XS/libboost/mini.x/i/boost/container/small_vector.hpp:192:14: warning: implicitly-declared ‘constexpr boost::container::new_allocator<panda::protocol::http::Fields<panda::basic_string<char>, false, 15>::Field>& boost::container::new_allocator<panda::protocol::http::Fields<panda::basic_string<char>, false, 15>::Field>::operator=(const boost::container::new_allocator<panda::protocol::http::Fields<panda::basic_string<char>, false, 15>::Field>&)’ is deprecated [-Wdeprecated-copy]
  192 |    {  return static_cast<small_vector_allocator&>(this->Allocator::operator=(::boost::move(other.as_base())));  }
      |              ^~~~~~~~~~~~~~~~~~~~~~~~~~~~~~~~~~~~~~~~~~~~~~~~~~~~~~~~~~~~~~~~~~~~~~~~~~~~~~~~~~~~~~~~~~~~~~~~
In file included from /home/cpan/pit/jail/WO_rNORkzw/lib/perl5/XS/libboost/mini.x/i/boost/container/vector.hpp:28,
                 from /home/cpan/pit/jail/WO_rNORkzw/lib/perl5/XS/libboost/mini.x/i/boost/container/small_vector.hpp:27,
                 from /home/cpan/pit/bare-qm/conf/perl-5.28.2/.cpanplus/5.28.2/build/XI3A_9Udil/Protocol-HTTP-1.1.2/clib/src/panda/protocol/http/Body.h:5,
                 from /home/cpan/pit/bare-qm/conf/perl-5.28.2/.cpanplus/5.28.2/build/XI3A_9Udil/Protocol-HTTP-1.1.2/clib/src/panda/protocol/http/Message.h:2,
                 from /home/cpan/pit/bare-qm/conf/perl-5.28.2/.cpanplus/5.28.2/build/XI3A_9Udil/Protocol-HTTP-1.1.2/clib/src/panda/protocol/http/Response.h:2,
                 from /home/cpan/pit/bare-qm/conf/perl-5.28.2/.cpanplus/5.28.2/build/XI3A_9Udil/Protocol-HTTP-1.1.2/clib/src/panda/protocol/http/Request.h:2,
                 from /home/cpan/pit/bare-qm/conf/perl-5.28.2/.cpanplus/5.28.2/build/XI3A_9Udil/Protocol-HTTP-1.1.2/clib/src/panda/protocol/http/MessageParser.h:2,
                 from /home/cpan/pit/bare-qm/conf/perl-5.28.2/.cpanplus/5.28.2/build/XI3A_9Udil/Protocol-HTTP-1.1.2/clib/src/panda/protocol/http/RequestParser.h:3,
                 from /home/cpan/pit/bare-qm/conf/perl-5.28.2/.cpanplus/5.28.2/build/XI3A_9Udil/Protocol-HTTP-1.1.2/clib/src/panda/protocol/http.h:2,
                 from /home/cpan/pit/bare-qm/conf/perl-5.28.2/.cpanplus/5.28.2/build/XI3A_9Udil/Protocol-HTTP-1.1.2/clib/tests/compile/../test.h:3,
                 from /home/cpan/pit/bare-qm/conf/perl-5.28.2/.cpanplus/5.28.2/build/XI3A_9Udil/Protocol-HTTP-1.1.2/clib/tests/compile/message.cc:1:
/home/cpan/pit/jail/WO_rNORkzw/lib/perl5/XS/libboost/mini.x/i/boost/container/new_allocator.hpp:130:4: note: because ‘boost::container::new_allocator<panda::protocol::http::Fields<panda::basic_string<char>, false, 15>::Field>’ has user-provided ‘boost::container::new_allocator<T>::new_allocator(const boost::container::new_allocator<T>&) [with T = panda::protocol::http::Fields<panda::basic_string<char>, false, 15>::Field]’
  130 |    new_allocator(const new_allocator &) BOOST_NOEXCEPT_OR_NOTHROW
      |    ^~~~~~~~~~~~~
In file included from /home/cpan/pit/bare-qm/conf/perl-5.28.2/.cpanplus/5.28.2/build/XI3A_9Udil/Protocol-HTTP-1.1.2/clib/src/panda/protocol/http/Body.h:5,
                 from /home/cpan/pit/bare-qm/conf/perl-5.28.2/.cpanplus/5.28.2/build/XI3A_9Udil/Protocol-HTTP-1.1.2/clib/src/panda/protocol/http/Message.h:2,
                 from /home/cpan/pit/bare-qm/conf/perl-5.28.2/.cpanplus/5.28.2/build/XI3A_9Udil/Protocol-HTTP-1.1.2/clib/src/panda/protocol/http/Response.h:2,
                 from /home/cpan/pit/bare-qm/conf/perl-5.28.2/.cpanplus/5.28.2/build/XI3A_9Udil/Protocol-HTTP-1.1.2/clib/src/panda/protocol/http/Request.h:2,
                 from /home/cpan/pit/bare-qm/conf/perl-5.28.2/.cpanplus/5.28.2/build/XI3A_9Udil/Protocol-HTTP-1.1.2/clib/src/panda/protocol/http/MessageParser.h:2,
                 from /home/cpan/pit/bare-qm/conf/perl-5.28.2/.cpanplus/5.28.2/build/XI3A_9Udil/Protocol-HTTP-1.1.2/clib/src/panda/protocol/http/RequestParser.h:3,
                 from /home/cpan/pit/bare-qm/conf/perl-5.28.2/.cpanplus/5.28.2/build/XI3A_9Udil/Protocol-HTTP-1.1.2/clib/src/panda/protocol/http.h:2,
                 from /home/cpan/pit/bare-qm/conf/perl-5.28.2/.cpanplus/5.28.2/build/XI3A_9Udil/Protocol-HTTP-1.1.2/clib/tests/compile/../test.h:3,
                 from /home/cpan/pit/bare-qm/conf/perl-5.28.2/.cpanplus/5.28.2/build/XI3A_9Udil/Protocol-HTTP-1.1.2/clib/tests/compile/message.cc:1:
/home/cpan/pit/jail/WO_rNORkzw/lib/perl5/XS/libboost/mini.x/i/boost/container/small_vector.hpp: In instantiation of ‘boost::container::small_vector_allocator<Allocator>& boost::container::small_vector_allocator<Allocator>::operator=(boost::container::small_vector_allocator<Allocator>&&) [with Allocator = boost::container::new_allocator<panda::basic_string<char> >]’:
/home/cpan/pit/jail/WO_rNORkzw/lib/perl5/XS/libboost/mini.x/i/boost/container/detail/alloc_helpers.hpp:54:6:   required from ‘void boost::container::dtl::move_alloc(AllocatorType&, AllocatorType&, boost::move_detail::true_type) [with AllocatorType = boost::container::small_vector_allocator<boost::container::new_allocator<panda::basic_string<char> > >; boost::move_detail::true_type = boost::move_detail::integral_constant<bool, true>]’
/home/cpan/pit/jail/WO_rNORkzw/lib/perl5/XS/libboost/mini.x/i/boost/container/vector.hpp:2432:22:   required from ‘void boost::container::vector<T, Allocator, Options>::priv_move_assign(boost::container::vector<T, OtherAllocator>&&, typename boost::move_detail::disable_if_or<void, boost::container::dtl::is_version<OtherAllocator, 0>, boost::move_detail::is_different<OtherAllocator, Allocator> >::type*) [with OtherAllocator = boost::container::small_vector_allocator<boost::container::new_allocator<panda::basic_string<char> > >; T = panda::basic_string<char>; Allocator = boost::container::small_vector_allocator<boost::container::new_allocator<panda::basic_string<char> > >; Options = void; typename boost::move_detail::disable_if_or<void, boost::container::dtl::is_version<OtherAllocator, 0>, boost::move_detail::is_different<OtherAllocator, Allocator> >::type = void]’
/home/cpan/pit/jail/WO_rNORkzw/lib/perl5/XS/libboost/mini.x/i/boost/container/vector.hpp:1134:7:   required from ‘boost::container::vector<T, Allocator, Options>& boost::container::vector<T, Allocator, Options>::operator=(boost::container::vector<T, Allocator, Options>&&) [with T = panda::basic_string<char>; Allocator = boost::container::small_vector_allocator<boost::container::new_allocator<panda::basic_string<char> > >; Options = void]’
/home/cpan/pit/jail/WO_rNORkzw/lib/perl5/XS/libboost/mini.x/i/boost/container/small_vector.hpp:410:14:   required from ‘boost::container::small_vector_base<T, Allocator>& boost::container::small_vector_base<T, Allocator>::operator=(boost::container::small_vector_base<T, Allocator>&&) [with T = panda::basic_string<char>; SecondaryAllocator = boost::container::new_allocator<panda::basic_string<char> >]’
/home/cpan/pit/jail/WO_rNORkzw/lib/perl5/XS/libboost/mini.x/i/boost/container/small_vector.hpp:634:14:   required from ‘boost::container::small_vector<T, N, Allocator>& boost::container::small_vector<T, N, Allocator>::operator=(boost::container::small_vector<T, N, Allocator>&&) [with T = panda::basic_string<char>; long unsigned int N = 2; Allocator = boost::container::new_allocator<panda::basic_string<char> >]’
/home/cpan/pit/bare-qm/conf/perl-5.28.2/.cpanplus/5.28.2/build/XI3A_9Udil/Protocol-HTTP-1.1.2/clib/src/panda/protocol/http/Body.h:10:8:   required from ‘T& panda::protocol::http::Message::Builder< <template-parameter-1-1>, <template-parameter-1-2> >::body(panda::protocol::http::Body&&, const string&) [with T = panda::protocol::http::Request::Builder; MP = panda::iptr<panda::protocol::http::Request>; panda::string = panda::basic_string<char>]’
/home/cpan/pit/bare-qm/conf/perl-5.28.2/.cpanplus/5.28.2/build/XI3A_9Udil/Protocol-HTTP-1.1.2/clib/tests/compile/message.cc:66:55:   required from here
/home/cpan/pit/jail/WO_rNORkzw/lib/perl5/XS/libboost/mini.x/i/boost/container/small_vector.hpp:192:14: warning: implicitly-declared ‘constexpr boost::container::new_allocator<panda::basic_string<char> >& boost::container::new_allocator<panda::basic_string<char> >::operator=(const boost::container::new_allocator<panda::basic_string<char> >&)’ is deprecated [-Wdeprecated-copy]
  192 |    {  return static_cast<small_vector_allocator&>(this->Allocator::operator=(::boost::move(other.as_base())));  }
      |              ^~~~~~~~~~~~~~~~~~~~~~~~~~~~~~~~~~~~~~~~~~~~~~~~~~~~~~~~~~~~~~~~~~~~~~~~~~~~~~~~~~~~~~~~~~~~~~~~
In file included from /home/cpan/pit/jail/WO_rNORkzw/lib/perl5/XS/libboost/mini.x/i/boost/container/vector.hpp:28,
                 from /home/cpan/pit/jail/WO_rNORkzw/lib/perl5/XS/libboost/mini.x/i/boost/container/small_vector.hpp:27,
                 from /home/cpan/pit/bare-qm/conf/perl-5.28.2/.cpanplus/5.28.2/build/XI3A_9Udil/Protocol-HTTP-1.1.2/clib/src/panda/protocol/http/Body.h:5,
                 from /home/cpan/pit/bare-qm/conf/perl-5.28.2/.cpanplus/5.28.2/build/XI3A_9Udil/Protocol-HTTP-1.1.2/clib/src/panda/protocol/http/Message.h:2,
                 from /home/cpan/pit/bare-qm/conf/perl-5.28.2/.cpanplus/5.28.2/build/XI3A_9Udil/Protocol-HTTP-1.1.2/clib/src/panda/protocol/http/Response.h:2,
                 from /home/cpan/pit/bare-qm/conf/perl-5.28.2/.cpanplus/5.28.2/build/XI3A_9Udil/Protocol-HTTP-1.1.2/clib/src/panda/protocol/http/Request.h:2,
                 from /home/cpan/pit/bare-qm/conf/perl-5.28.2/.cpanplus/5.28.2/build/XI3A_9Udil/Protocol-HTTP-1.1.2/clib/src/panda/protocol/http/MessageParser.h:2,
                 from /home/cpan/pit/bare-qm/conf/perl-5.28.2/.cpanplus/5.28.2/build/XI3A_9Udil/Protocol-HTTP-1.1.2/clib/src/panda/protocol/http/RequestParser.h:3,
                 from /home/cpan/pit/bare-qm/conf/perl-5.28.2/.cpanplus/5.28.2/build/XI3A_9Udil/Protocol-HTTP-1.1.2/clib/src/panda/protocol/http.h:2,
                 from /home/cpan/pit/bare-qm/conf/perl-5.28.2/.cpanplus/5.28.2/build/XI3A_9Udil/Protocol-HTTP-1.1.2/clib/tests/compile/../test.h:3,
                 from /home/cpan/pit/bare-qm/conf/perl-5.28.2/.cpanplus/5.28.2/build/XI3A_9Udil/Protocol-HTTP-1.1.2/clib/tests/compile/message.cc:1:
/home/cpan/pit/jail/WO_rNORkzw/lib/perl5/XS/libboost/mini.x/i/boost/container/new_allocator.hpp:130:4: note: because ‘boost::container::new_allocator<panda::basic_string<char> >’ has user-provided ‘boost::container::new_allocator<T>::new_allocator(const boost::container::new_allocator<T>&) [with T = panda::basic_string<char>]’
  130 |    new_allocator(const new_allocator &) BOOST_NOEXCEPT_OR_NOTHROW
      |    ^~~~~~~~~~~~~
[ 63%] Building CXX object ../build/CMakeFiles/panda-protocol-http-tests.dir/tests/compile/request.cc.o
In file included from /home/cpan/pit/bare-qm/conf/perl-5.28.2/.cpanplus/5.28.2/build/XI3A_9Udil/Protocol-HTTP-1.1.2/clib/src/panda/protocol/http/Headers.h:3,
                 from /home/cpan/pit/bare-qm/conf/perl-5.28.2/.cpanplus/5.28.2/build/XI3A_9Udil/Protocol-HTTP-1.1.2/clib/src/panda/protocol/http/Message.h:4,
                 from /home/cpan/pit/bare-qm/conf/perl-5.28.2/.cpanplus/5.28.2/build/XI3A_9Udil/Protocol-HTTP-1.1.2/clib/src/panda/protocol/http/Response.h:2,
                 from /home/cpan/pit/bare-qm/conf/perl-5.28.2/.cpanplus/5.28.2/build/XI3A_9Udil/Protocol-HTTP-1.1.2/clib/src/panda/protocol/http/Request.h:2,
                 from /home/cpan/pit/bare-qm/conf/perl-5.28.2/.cpanplus/5.28.2/build/XI3A_9Udil/Protocol-HTTP-1.1.2/clib/src/panda/protocol/http/MessageParser.h:2,
                 from /home/cpan/pit/bare-qm/conf/perl-5.28.2/.cpanplus/5.28.2/build/XI3A_9Udil/Protocol-HTTP-1.1.2/clib/src/panda/protocol/http/RequestParser.h:3,
                 from /home/cpan/pit/bare-qm/conf/perl-5.28.2/.cpanplus/5.28.2/build/XI3A_9Udil/Protocol-HTTP-1.1.2/clib/src/panda/protocol/http.h:2,
                 from /home/cpan/pit/bare-qm/conf/perl-5.28.2/.cpanplus/5.28.2/build/XI3A_9Udil/Protocol-HTTP-1.1.2/clib/tests/compile/../test.h:3,
                 from /home/cpan/pit/bare-qm/conf/perl-5.28.2/.cpanplus/5.28.2/build/XI3A_9Udil/Protocol-HTTP-1.1.2/clib/tests/compile/request.cc:1:
/home/cpan/pit/bare-qm/conf/perl-5.28.2/.cpanplus/5.28.2/build/XI3A_9Udil/Protocol-HTTP-1.1.2/clib/src/panda/protocol/http/Fields.h: In instantiation of ‘void panda::protocol::http::Fields<T, CASE_SENSITIVE, PRERESERVE>::set(const string&, const T&) [with T = panda::basic_string<char>; bool CASE_SENSITIVE = false; long unsigned int PRERESERVE = 2; panda::string = panda::basic_string<char>]’:
/home/cpan/pit/bare-qm/conf/perl-5.28.2/.cpanplus/5.28.2/build/XI3A_9Udil/Protocol-HTTP-1.1.2/clib/src/panda/protocol/http/Message.h:87:67:   required from here
/home/cpan/pit/bare-qm/conf/perl-5.28.2/.cpanplus/5.28.2/build/XI3A_9Udil/Protocol-HTTP-1.1.2/clib/src/panda/protocol/http/Fields.h:105:34: warning: implicitly-declared ‘constexpr boost::container::vec_iterator<panda::protocol::http::Fields<panda::basic_string<char>, false, 2>::Field*, false>& boost::container::vec_iterator<panda::protocol::http::Fields<panda::basic_string<char>, false, 2>::Field*, false>::operator=(const boost::container::vec_iterator<panda::protocol::http::Fields<panda::basic_string<char>, false, 2>::Field*, false>&)’ is deprecated [-Wdeprecated-copy]
  105 |                 if (replaced) it = fields.erase(it);
In file included from /home/cpan/pit/jail/WO_rNORkzw/lib/perl5/XS/libboost/mini.x/i/boost/container/small_vector.hpp:27,
                 from /home/cpan/pit/bare-qm/conf/perl-5.28.2/.cpanplus/5.28.2/build/XI3A_9Udil/Protocol-HTTP-1.1.2/clib/src/panda/protocol/http/Body.h:5,
                 from /home/cpan/pit/bare-qm/conf/perl-5.28.2/.cpanplus/5.28.2/build/XI3A_9Udil/Protocol-HTTP-1.1.2/clib/src/panda/protocol/http/Message.h:2,
                 from /home/cpan/pit/bare-qm/conf/perl-5.28.2/.cpanplus/5.28.2/build/XI3A_9Udil/Protocol-HTTP-1.1.2/clib/src/panda/protocol/http/Response.h:2,
                 from /home/cpan/pit/bare-qm/conf/perl-5.28.2/.cpanplus/5.28.2/build/XI3A_9Udil/Protocol-HTTP-1.1.2/clib/src/panda/protocol/http/Request.h:2,
                 from /home/cpan/pit/bare-qm/conf/perl-5.28.2/.cpanplus/5.28.2/build/XI3A_9Udil/Protocol-HTTP-1.1.2/clib/src/panda/protocol/http/MessageParser.h:2,
                 from /home/cpan/pit/bare-qm/conf/perl-5.28.2/.cpanplus/5.28.2/build/XI3A_9Udil/Protocol-HTTP-1.1.2/clib/src/panda/protocol/http/RequestParser.h:3,
                 from /home/cpan/pit/bare-qm/conf/perl-5.28.2/.cpanplus/5.28.2/build/XI3A_9Udil/Protocol-HTTP-1.1.2/clib/src/panda/protocol/http.h:2,
                 from /home/cpan/pit/bare-qm/conf/perl-5.28.2/.cpanplus/5.28.2/build/XI3A_9Udil/Protocol-HTTP-1.1.2/clib/tests/compile/../test.h:3,
                 from /home/cpan/pit/bare-qm/conf/perl-5.28.2/.cpanplus/5.28.2/build/XI3A_9Udil/Protocol-HTTP-1.1.2/clib/tests/compile/request.cc:1:
/home/cpan/pit/jail/WO_rNORkzw/lib/perl5/XS/libboost/mini.x/i/boost/container/vector.hpp:119:32: note: because ‘boost::container::vec_iterator<panda::protocol::http::Fields<panda::basic_string<char>, false, 2>::Field*, false>’ has user-provided ‘boost::container::vec_iterator<Pointer, IsConst>::vec_iterator(const boost::container::vec_iterator<Pointer, false>&) [with Pointer = panda::protocol::http::Fields<panda::basic_string<char>, false, 2>::Field*; bool IsConst = false]’
  119 |    BOOST_CONTAINER_FORCEINLINE vec_iterator(vec_iterator<Pointer, false> const& other) BOOST_NOEXCEPT_OR_NOTHROW
      |                                ^~~~~~~~~~~~
In file included from /home/cpan/pit/bare-qm/conf/perl-5.28.2/.cpanplus/5.28.2/build/XI3A_9Udil/Protocol-HTTP-1.1.2/clib/src/panda/protocol/http/Body.h:5,
                 from /home/cpan/pit/bare-qm/conf/perl-5.28.2/.cpanplus/5.28.2/build/XI3A_9Udil/Protocol-HTTP-1.1.2/clib/src/panda/protocol/http/Message.h:2,
                 from /home/cpan/pit/bare-qm/conf/perl-5.28.2/.cpanplus/5.28.2/build/XI3A_9Udil/Protocol-HTTP-1.1.2/clib/src/panda/protocol/http/Response.h:2,
                 from /home/cpan/pit/bare-qm/conf/perl-5.28.2/.cpanplus/5.28.2/build/XI3A_9Udil/Protocol-HTTP-1.1.2/clib/src/panda/protocol/http/Request.h:2,
                 from /home/cpan/pit/bare-qm/conf/perl-5.28.2/.cpanplus/5.28.2/build/XI3A_9Udil/Protocol-HTTP-1.1.2/clib/src/panda/protocol/http/MessageParser.h:2,
                 from /home/cpan/pit/bare-qm/conf/perl-5.28.2/.cpanplus/5.28.2/build/XI3A_9Udil/Protocol-HTTP-1.1.2/clib/src/panda/protocol/http/RequestParser.h:3,
                 from /home/cpan/pit/bare-qm/conf/perl-5.28.2/.cpanplus/5.28.2/build/XI3A_9Udil/Protocol-HTTP-1.1.2/clib/src/panda/protocol/http.h:2,
                 from /home/cpan/pit/bare-qm/conf/perl-5.28.2/.cpanplus/5.28.2/build/XI3A_9Udil/Protocol-HTTP-1.1.2/clib/tests/compile/../test.h:3,
                 from /home/cpan/pit/bare-qm/conf/perl-5.28.2/.cpanplus/5.28.2/build/XI3A_9Udil/Protocol-HTTP-1.1.2/clib/tests/compile/request.cc:1:
/home/cpan/pit/jail/WO_rNORkzw/lib/perl5/XS/libboost/mini.x/i/boost/container/small_vector.hpp: In instantiation of ‘boost::container::small_vector_allocator<Allocator>& boost::container::small_vector_allocator<Allocator>::operator=(boost::container::small_vector_allocator<Allocator>&&) [with Allocator = boost::container::new_allocator<panda::protocol::http::Fields<panda::basic_string<char>, false, 15>::Field>]’:
/home/cpan/pit/jail/WO_rNORkzw/lib/perl5/XS/libboost/mini.x/i/boost/container/detail/alloc_helpers.hpp:54:6:   required from ‘void boost::container::dtl::move_alloc(AllocatorType&, AllocatorType&, boost::move_detail::true_type) [with AllocatorType = boost::container::small_vector_allocator<boost::container::new_allocator<panda::protocol::http::Fields<panda::basic_string<char>, false, 15>::Field> >; boost::move_detail::true_type = boost::move_detail::integral_constant<bool, true>]’
/home/cpan/pit/jail/WO_rNORkzw/lib/perl5/XS/libboost/mini.x/i/boost/container/vector.hpp:2432:22:   required from ‘void boost::container::vector<T, Allocator, Options>::priv_move_assign(boost::container::vector<T, OtherAllocator>&&, typename boost::move_detail::disable_if_or<void, boost::container::dtl::is_version<OtherAllocator, 0>, boost::move_detail::is_different<OtherAllocator, Allocator> >::type*) [with OtherAllocator = boost::container::small_vector_allocator<boost::container::new_allocator<panda::protocol::http::Fields<panda::basic_string<char>, false, 15>::Field> >; T = panda::protocol::http::Fields<panda::basic_string<char>, false, 15>::Field; Allocator = boost::container::small_vector_allocator<boost::container::new_allocator<panda::protocol::http::Fields<panda::basic_string<char>, false, 15>::Field> >; Options = void; typename boost::move_detail::disable_if_or<void, boost::container::dtl::is_version<OtherAllocator, 0>, boost::move_detail::is_different<OtherAllocator, Allocator> >::type = void]’
/home/cpan/pit/jail/WO_rNORkzw/lib/perl5/XS/libboost/mini.x/i/boost/container/vector.hpp:1134:7:   required from ‘boost::container::vector<T, Allocator, Options>& boost::container::vector<T, Allocator, Options>::operator=(boost::container::vector<T, Allocator, Options>&&) [with T = panda::protocol::http::Fields<panda::basic_string<char>, false, 15>::Field; Allocator = boost::container::small_vector_allocator<boost::container::new_allocator<panda::protocol::http::Fields<panda::basic_string<char>, false, 15>::Field> >; Options = void]’
/home/cpan/pit/jail/WO_rNORkzw/lib/perl5/XS/libboost/mini.x/i/boost/container/small_vector.hpp:410:14:   required from ‘boost::container::small_vector_base<T, Allocator>& boost::container::small_vector_base<T, Allocator>::operator=(boost::container::small_vector_base<T, Allocator>&&) [with T = panda::protocol::http::Fields<panda::basic_string<char>, false, 15>::Field; SecondaryAllocator = boost::container::new_allocator<panda::protocol::http::Fields<panda::basic_string<char>, false, 15>::Field>]’
/home/cpan/pit/jail/WO_rNORkzw/lib/perl5/XS/libboost/mini.x/i/boost/container/small_vector.hpp:634:14:   required from ‘boost::container::small_vector<T, N, Allocator>& boost::container::small_vector<T, N, Allocator>::operator=(boost::container::small_vector<T, N, Allocator>&&) [with T = panda::protocol::http::Fields<panda::basic_string<char>, false, 15>::Field; long unsigned int N = 15; Allocator = boost::container::new_allocator<panda::protocol::http::Fields<panda::basic_string<char>, false, 15>::Field>]’
/home/cpan/pit/bare-qm/conf/perl-5.28.2/.cpanplus/5.28.2/build/XI3A_9Udil/Protocol-HTTP-1.1.2/clib/src/panda/protocol/http/Fields.h:51:8:   required from ‘T& panda::protocol::http::Message::Builder< <template-parameter-1-1>, <template-parameter-1-2> >::headers(panda::protocol::http::Headers&&) [with T = panda::protocol::http::Request::Builder; MP = panda::iptr<panda::protocol::http::Request>; panda::protocol::http::Headers = panda::protocol::http::GenericHeaders<15>]’
/home/cpan/pit/bare-qm/conf/perl-5.28.2/.cpanplus/5.28.2/build/XI3A_9Udil/Protocol-HTTP-1.1.2/clib/tests/compile/request.cc:69:55:   required from here
/home/cpan/pit/jail/WO_rNORkzw/lib/perl5/XS/libboost/mini.x/i/boost/container/small_vector.hpp:192:14: warning: implicitly-declared ‘constexpr boost::container::new_allocator<panda::protocol::http::Fields<panda::basic_string<char>, false, 15>::Field>& boost::container::new_allocator<panda::protocol::http::Fields<panda::basic_string<char>, false, 15>::Field>::operator=(const boost::container::new_allocator<panda::protocol::http::Fields<panda::basic_string<char>, false, 15>::Field>&)’ is deprecated [-Wdeprecated-copy]
  192 |    {  return static_cast<small_vector_allocator&>(this->Allocator::operator=(::boost::move(other.as_base())));  }
      |              ^~~~~~~~~~~~~~~~~~~~~~~~~~~~~~~~~~~~~~~~~~~~~~~~~~~~~~~~~~~~~~~~~~~~~~~~~~~~~~~~~~~~~~~~~~~~~~~~
In file included from /home/cpan/pit/jail/WO_rNORkzw/lib/perl5/XS/libboost/mini.x/i/boost/container/vector.hpp:28,
                 from /home/cpan/pit/jail/WO_rNORkzw/lib/perl5/XS/libboost/mini.x/i/boost/container/small_vector.hpp:27,
                 from /home/cpan/pit/bare-qm/conf/perl-5.28.2/.cpanplus/5.28.2/build/XI3A_9Udil/Protocol-HTTP-1.1.2/clib/src/panda/protocol/http/Body.h:5,
                 from /home/cpan/pit/bare-qm/conf/perl-5.28.2/.cpanplus/5.28.2/build/XI3A_9Udil/Protocol-HTTP-1.1.2/clib/src/panda/protocol/http/Message.h:2,
                 from /home/cpan/pit/bare-qm/conf/perl-5.28.2/.cpanplus/5.28.2/build/XI3A_9Udil/Protocol-HTTP-1.1.2/clib/src/panda/protocol/http/Response.h:2,
                 from /home/cpan/pit/bare-qm/conf/perl-5.28.2/.cpanplus/5.28.2/build/XI3A_9Udil/Protocol-HTTP-1.1.2/clib/src/panda/protocol/http/Request.h:2,
                 from /home/cpan/pit/bare-qm/conf/perl-5.28.2/.cpanplus/5.28.2/build/XI3A_9Udil/Protocol-HTTP-1.1.2/clib/src/panda/protocol/http/MessageParser.h:2,
                 from /home/cpan/pit/bare-qm/conf/perl-5.28.2/.cpanplus/5.28.2/build/XI3A_9Udil/Protocol-HTTP-1.1.2/clib/src/panda/protocol/http/RequestParser.h:3,
                 from /home/cpan/pit/bare-qm/conf/perl-5.28.2/.cpanplus/5.28.2/build/XI3A_9Udil/Protocol-HTTP-1.1.2/clib/src/panda/protocol/http.h:2,
                 from /home/cpan/pit/bare-qm/conf/perl-5.28.2/.cpanplus/5.28.2/build/XI3A_9Udil/Protocol-HTTP-1.1.2/clib/tests/compile/../test.h:3,
                 from /home/cpan/pit/bare-qm/conf/perl-5.28.2/.cpanplus/5.28.2/build/XI3A_9Udil/Protocol-HTTP-1.1.2/clib/tests/compile/request.cc:1:
/home/cpan/pit/jail/WO_rNORkzw/lib/perl5/XS/libboost/mini.x/i/boost/container/new_allocator.hpp:130:4: note: because ‘boost::container::new_allocator<panda::protocol::http::Fields<panda::basic_string<char>, false, 15>::Field>’ has user-provided ‘boost::container::new_allocator<T>::new_allocator(const boost::container::new_allocator<T>&) [with T = panda::protocol::http::Fields<panda::basic_string<char>, false, 15>::Field]’
  130 |    new_allocator(const new_allocator &) BOOST_NOEXCEPT_OR_NOTHROW
      |    ^~~~~~~~~~~~~
[ 66%] Building CXX object ../build/CMakeFiles/panda-protocol-http-tests.dir/tests/compile/response.cc.o
In file included from /home/cpan/pit/bare-qm/conf/perl-5.28.2/.cpanplus/5.28.2/build/XI3A_9Udil/Protocol-HTTP-1.1.2/clib/src/panda/protocol/http/Headers.h:3,
                 from /home/cpan/pit/bare-qm/conf/perl-5.28.2/.cpanplus/5.28.2/build/XI3A_9Udil/Protocol-HTTP-1.1.2/clib/src/panda/protocol/http/Message.h:4,
                 from /home/cpan/pit/bare-qm/conf/perl-5.28.2/.cpanplus/5.28.2/build/XI3A_9Udil/Protocol-HTTP-1.1.2/clib/src/panda/protocol/http/Response.h:2,
                 from /home/cpan/pit/bare-qm/conf/perl-5.28.2/.cpanplus/5.28.2/build/XI3A_9Udil/Protocol-HTTP-1.1.2/clib/src/panda/protocol/http/Request.h:2,
                 from /home/cpan/pit/bare-qm/conf/perl-5.28.2/.cpanplus/5.28.2/build/XI3A_9Udil/Protocol-HTTP-1.1.2/clib/src/panda/protocol/http/MessageParser.h:2,
                 from /home/cpan/pit/bare-qm/conf/perl-5.28.2/.cpanplus/5.28.2/build/XI3A_9Udil/Protocol-HTTP-1.1.2/clib/src/panda/protocol/http/RequestParser.h:3,
                 from /home/cpan/pit/bare-qm/conf/perl-5.28.2/.cpanplus/5.28.2/build/XI3A_9Udil/Protocol-HTTP-1.1.2/clib/src/panda/protocol/http.h:2,
                 from /home/cpan/pit/bare-qm/conf/perl-5.28.2/.cpanplus/5.28.2/build/XI3A_9Udil/Protocol-HTTP-1.1.2/clib/tests/compile/../test.h:3,
                 from /home/cpan/pit/bare-qm/conf/perl-5.28.2/.cpanplus/5.28.2/build/XI3A_9Udil/Protocol-HTTP-1.1.2/clib/tests/compile/response.cc:1:
/home/cpan/pit/bare-qm/conf/perl-5.28.2/.cpanplus/5.28.2/build/XI3A_9Udil/Protocol-HTTP-1.1.2/clib/src/panda/protocol/http/Fields.h: In instantiation of ‘void panda::protocol::http::Fields<T, CASE_SENSITIVE, PRERESERVE>::set(const string&, const T&) [with T = panda::basic_string<char>; bool CASE_SENSITIVE = false; long unsigned int PRERESERVE = 2; panda::string = panda::basic_string<char>]’:
/home/cpan/pit/bare-qm/conf/perl-5.28.2/.cpanplus/5.28.2/build/XI3A_9Udil/Protocol-HTTP-1.1.2/clib/src/panda/protocol/http/Message.h:87:67:   required from here
/home/cpan/pit/bare-qm/conf/perl-5.28.2/.cpanplus/5.28.2/build/XI3A_9Udil/Protocol-HTTP-1.1.2/clib/src/panda/protocol/http/Fields.h:105:34: warning: implicitly-declared ‘constexpr boost::container::vec_iterator<panda::protocol::http::Fields<panda::basic_string<char>, false, 2>::Field*, false>& boost::container::vec_iterator<panda::protocol::http::Fields<panda::basic_string<char>, false, 2>::Field*, false>::operator=(const boost::container::vec_iterator<panda::protocol::http::Fields<panda::basic_string<char>, false, 2>::Field*, false>&)’ is deprecated [-Wdeprecated-copy]
  105 |                 if (replaced) it = fields.erase(it);
In file included from /home/cpan/pit/jail/WO_rNORkzw/lib/perl5/XS/libboost/mini.x/i/boost/container/small_vector.hpp:27,
                 from /home/cpan/pit/bare-qm/conf/perl-5.28.2/.cpanplus/5.28.2/build/XI3A_9Udil/Protocol-HTTP-1.1.2/clib/src/panda/protocol/http/Body.h:5,
                 from /home/cpan/pit/bare-qm/conf/perl-5.28.2/.cpanplus/5.28.2/build/XI3A_9Udil/Protocol-HTTP-1.1.2/clib/src/panda/protocol/http/Message.h:2,
                 from /home/cpan/pit/bare-qm/conf/perl-5.28.2/.cpanplus/5.28.2/build/XI3A_9Udil/Protocol-HTTP-1.1.2/clib/src/panda/protocol/http/Response.h:2,
                 from /home/cpan/pit/bare-qm/conf/perl-5.28.2/.cpanplus/5.28.2/build/XI3A_9Udil/Protocol-HTTP-1.1.2/clib/src/panda/protocol/http/Request.h:2,
                 from /home/cpan/pit/bare-qm/conf/perl-5.28.2/.cpanplus/5.28.2/build/XI3A_9Udil/Protocol-HTTP-1.1.2/clib/src/panda/protocol/http/MessageParser.h:2,
                 from /home/cpan/pit/bare-qm/conf/perl-5.28.2/.cpanplus/5.28.2/build/XI3A_9Udil/Protocol-HTTP-1.1.2/clib/src/panda/protocol/http/RequestParser.h:3,
                 from /home/cpan/pit/bare-qm/conf/perl-5.28.2/.cpanplus/5.28.2/build/XI3A_9Udil/Protocol-HTTP-1.1.2/clib/src/panda/protocol/http.h:2,
                 from /home/cpan/pit/bare-qm/conf/perl-5.28.2/.cpanplus/5.28.2/build/XI3A_9Udil/Protocol-HTTP-1.1.2/clib/tests/compile/../test.h:3,
                 from /home/cpan/pit/bare-qm/conf/perl-5.28.2/.cpanplus/5.28.2/build/XI3A_9Udil/Protocol-HTTP-1.1.2/clib/tests/compile/response.cc:1:
/home/cpan/pit/jail/WO_rNORkzw/lib/perl5/XS/libboost/mini.x/i/boost/container/vector.hpp:119:32: note: because ‘boost::container::vec_iterator<panda::protocol::http::Fields<panda::basic_string<char>, false, 2>::Field*, false>’ has user-provided ‘boost::container::vec_iterator<Pointer, IsConst>::vec_iterator(const boost::container::vec_iterator<Pointer, false>&) [with Pointer = panda::protocol::http::Fields<panda::basic_string<char>, false, 2>::Field*; bool IsConst = false]’
  119 |    BOOST_CONTAINER_FORCEINLINE vec_iterator(vec_iterator<Pointer, false> const& other) BOOST_NOEXCEPT_OR_NOTHROW
      |                                ^~~~~~~~~~~~
In file included from /home/cpan/pit/bare-qm/conf/perl-5.28.2/.cpanplus/5.28.2/build/XI3A_9Udil/Protocol-HTTP-1.1.2/clib/src/panda/protocol/http/Body.h:5,
                 from /home/cpan/pit/bare-qm/conf/perl-5.28.2/.cpanplus/5.28.2/build/XI3A_9Udil/Protocol-HTTP-1.1.2/clib/src/panda/protocol/http/Message.h:2,
                 from /home/cpan/pit/bare-qm/conf/perl-5.28.2/.cpanplus/5.28.2/build/XI3A_9Udil/Protocol-HTTP-1.1.2/clib/src/panda/protocol/http/Response.h:2,
                 from /home/cpan/pit/bare-qm/conf/perl-5.28.2/.cpanplus/5.28.2/build/XI3A_9Udil/Protocol-HTTP-1.1.2/clib/src/panda/protocol/http/Request.h:2,
                 from /home/cpan/pit/bare-qm/conf/perl-5.28.2/.cpanplus/5.28.2/build/XI3A_9Udil/Protocol-HTTP-1.1.2/clib/src/panda/protocol/http/MessageParser.h:2,
                 from /home/cpan/pit/bare-qm/conf/perl-5.28.2/.cpanplus/5.28.2/build/XI3A_9Udil/Protocol-HTTP-1.1.2/clib/src/panda/protocol/http/RequestParser.h:3,
                 from /home/cpan/pit/bare-qm/conf/perl-5.28.2/.cpanplus/5.28.2/build/XI3A_9Udil/Protocol-HTTP-1.1.2/clib/src/panda/protocol/http.h:2,
                 from /home/cpan/pit/bare-qm/conf/perl-5.28.2/.cpanplus/5.28.2/build/XI3A_9Udil/Protocol-HTTP-1.1.2/clib/tests/compile/../test.h:3,
                 from /home/cpan/pit/bare-qm/conf/perl-5.28.2/.cpanplus/5.28.2/build/XI3A_9Udil/Protocol-HTTP-1.1.2/clib/tests/compile/response.cc:1:
/home/cpan/pit/jail/WO_rNORkzw/lib/perl5/XS/libboost/mini.x/i/boost/container/small_vector.hpp: In instantiation of ‘boost::container::small_vector_allocator<Allocator>& boost::container::small_vector_allocator<Allocator>::operator=(boost::container::small_vector_allocator<Allocator>&&) [with Allocator = boost::container::new_allocator<panda::protocol::http::Fields<panda::basic_string<char>, false, 15>::Field>]’:
/home/cpan/pit/jail/WO_rNORkzw/lib/perl5/XS/libboost/mini.x/i/boost/container/detail/alloc_helpers.hpp:54:6:   required from ‘void boost::container::dtl::move_alloc(AllocatorType&, AllocatorType&, boost::move_detail::true_type) [with AllocatorType = boost::container::small_vector_allocator<boost::container::new_allocator<panda::protocol::http::Fields<panda::basic_string<char>, false, 15>::Field> >; boost::move_detail::true_type = boost::move_detail::integral_constant<bool, true>]’
/home/cpan/pit/jail/WO_rNORkzw/lib/perl5/XS/libboost/mini.x/i/boost/container/vector.hpp:2432:22:   required from ‘void boost::container::vector<T, Allocator, Options>::priv_move_assign(boost::container::vector<T, OtherAllocator>&&, typename boost::move_detail::disable_if_or<void, boost::container::dtl::is_version<OtherAllocator, 0>, boost::move_detail::is_different<OtherAllocator, Allocator> >::type*) [with OtherAllocator = boost::container::small_vector_allocator<boost::container::new_allocator<panda::protocol::http::Fields<panda::basic_string<char>, false, 15>::Field> >; T = panda::protocol::http::Fields<panda::basic_string<char>, false, 15>::Field; Allocator = boost::container::small_vector_allocator<boost::container::new_allocator<panda::protocol::http::Fields<panda::basic_string<char>, false, 15>::Field> >; Options = void; typename boost::move_detail::disable_if_or<void, boost::container::dtl::is_version<OtherAllocator, 0>, boost::move_detail::is_different<OtherAllocator, Allocator> >::type = void]’
/home/cpan/pit/jail/WO_rNORkzw/lib/perl5/XS/libboost/mini.x/i/boost/container/vector.hpp:1134:7:   required from ‘boost::container::vector<T, Allocator, Options>& boost::container::vector<T, Allocator, Options>::operator=(boost::container::vector<T, Allocator, Options>&&) [with T = panda::protocol::http::Fields<panda::basic_string<char>, false, 15>::Field; Allocator = boost::container::small_vector_allocator<boost::container::new_allocator<panda::protocol::http::Fields<panda::basic_string<char>, false, 15>::Field> >; Options = void]’
/home/cpan/pit/jail/WO_rNORkzw/lib/perl5/XS/libboost/mini.x/i/boost/container/small_vector.hpp:410:14:   required from ‘boost::container::small_vector_base<T, Allocator>& boost::container::small_vector_base<T, Allocator>::operator=(boost::container::small_vector_base<T, Allocator>&&) [with T = panda::protocol::http::Fields<panda::basic_string<char>, false, 15>::Field; SecondaryAllocator = boost::container::new_allocator<panda::protocol::http::Fields<panda::basic_string<char>, false, 15>::Field>]’
/home/cpan/pit/jail/WO_rNORkzw/lib/perl5/XS/libboost/mini.x/i/boost/container/small_vector.hpp:634:14:   required from ‘boost::container::small_vector<T, N, Allocator>& boost::container::small_vector<T, N, Allocator>::operator=(boost::container::small_vector<T, N, Allocator>&&) [with T = panda::protocol::http::Fields<panda::basic_string<char>, false, 15>::Field; long unsigned int N = 15; Allocator = boost::container::new_allocator<panda::protocol::http::Fields<panda::basic_string<char>, false, 15>::Field>]’
/home/cpan/pit/bare-qm/conf/perl-5.28.2/.cpanplus/5.28.2/build/XI3A_9Udil/Protocol-HTTP-1.1.2/clib/src/panda/protocol/http/Fields.h:51:8:   required from ‘T& panda::protocol::http::Message::Builder< <template-parameter-1-1>, <template-parameter-1-2> >::headers(panda::protocol::http::Headers&&) [with T = panda::protocol::http::Response::Builder; MP = panda::iptr<panda::protocol::http::Response>; panda::protocol::http::Headers = panda::protocol::http::GenericHeaders<15>]’
/home/cpan/pit/bare-qm/conf/perl-5.28.2/.cpanplus/5.28.2/build/XI3A_9Udil/Protocol-HTTP-1.1.2/clib/tests/compile/response.cc:125:55:   required from here
/home/cpan/pit/jail/WO_rNORkzw/lib/perl5/XS/libboost/mini.x/i/boost/container/small_vector.hpp:192:14: warning: implicitly-declared ‘constexpr boost::container::new_allocator<panda::protocol::http::Fields<panda::basic_string<char>, false, 15>::Field>& boost::container::new_allocator<panda::protocol::http::Fields<panda::basic_string<char>, false, 15>::Field>::operator=(const boost::container::new_allocator<panda::protocol::http::Fields<panda::basic_string<char>, false, 15>::Field>&)’ is deprecated [-Wdeprecated-copy]
  192 |    {  return static_cast<small_vector_allocator&>(this->Allocator::operator=(::boost::move(other.as_base())));  }
      |              ^~~~~~~~~~~~~~~~~~~~~~~~~~~~~~~~~~~~~~~~~~~~~~~~~~~~~~~~~~~~~~~~~~~~~~~~~~~~~~~~~~~~~~~~~~~~~~~~
In file included from /home/cpan/pit/jail/WO_rNORkzw/lib/perl5/XS/libboost/mini.x/i/boost/container/vector.hpp:28,
                 from /home/cpan/pit/jail/WO_rNORkzw/lib/perl5/XS/libboost/mini.x/i/boost/container/small_vector.hpp:27,
                 from /home/cpan/pit/bare-qm/conf/perl-5.28.2/.cpanplus/5.28.2/build/XI3A_9Udil/Protocol-HTTP-1.1.2/clib/src/panda/protocol/http/Body.h:5,
                 from /home/cpan/pit/bare-qm/conf/perl-5.28.2/.cpanplus/5.28.2/build/XI3A_9Udil/Protocol-HTTP-1.1.2/clib/src/panda/protocol/http/Message.h:2,
                 from /home/cpan/pit/bare-qm/conf/perl-5.28.2/.cpanplus/5.28.2/build/XI3A_9Udil/Protocol-HTTP-1.1.2/clib/src/panda/protocol/http/Response.h:2,
                 from /home/cpan/pit/bare-qm/conf/perl-5.28.2/.cpanplus/5.28.2/build/XI3A_9Udil/Protocol-HTTP-1.1.2/clib/src/panda/protocol/http/Request.h:2,
                 from /home/cpan/pit/bare-qm/conf/perl-5.28.2/.cpanplus/5.28.2/build/XI3A_9Udil/Protocol-HTTP-1.1.2/clib/src/panda/protocol/http/MessageParser.h:2,
                 from /home/cpan/pit/bare-qm/conf/perl-5.28.2/.cpanplus/5.28.2/build/XI3A_9Udil/Protocol-HTTP-1.1.2/clib/src/panda/protocol/http/RequestParser.h:3,
                 from /home/cpan/pit/bare-qm/conf/perl-5.28.2/.cpanplus/5.28.2/build/XI3A_9Udil/Protocol-HTTP-1.1.2/clib/src/panda/protocol/http.h:2,
                 from /home/cpan/pit/bare-qm/conf/perl-5.28.2/.cpanplus/5.28.2/build/XI3A_9Udil/Protocol-HTTP-1.1.2/clib/tests/compile/../test.h:3,
                 from /home/cpan/pit/bare-qm/conf/perl-5.28.2/.cpanplus/5.28.2/build/XI3A_9Udil/Protocol-HTTP-1.1.2/clib/tests/compile/response.cc:1:
/home/cpan/pit/jail/WO_rNORkzw/lib/perl5/XS/libboost/mini.x/i/boost/container/new_allocator.hpp:130:4: note: because ‘boost::container::new_allocator<panda::protocol::http::Fields<panda::basic_string<char>, false, 15>::Field>’ has user-provided ‘boost::container::new_allocator<T>::new_allocator(const boost::container::new_allocator<T>&) [with T = panda::protocol::http::Fields<panda::basic_string<char>, false, 15>::Field]’
  130 |    new_allocator(const new_allocator &) BOOST_NOEXCEPT_OR_NOTHROW
      |    ^~~~~~~~~~~~~
[ 69%] Building CXX object ../build/CMakeFiles/panda-protocol-http-tests.dir/tests/cookie-jar.cc.o
In file included from /home/cpan/pit/bare-qm/conf/perl-5.28.2/.cpanplus/5.28.2/build/XI3A_9Udil/Protocol-HTTP-1.1.2/clib/src/panda/protocol/http/Headers.h:3,
                 from /home/cpan/pit/bare-qm/conf/perl-5.28.2/.cpanplus/5.28.2/build/XI3A_9Udil/Protocol-HTTP-1.1.2/clib/src/panda/protocol/http/Message.h:4,
                 from /home/cpan/pit/bare-qm/conf/perl-5.28.2/.cpanplus/5.28.2/build/XI3A_9Udil/Protocol-HTTP-1.1.2/clib/src/panda/protocol/http/Response.h:2,
                 from /home/cpan/pit/bare-qm/conf/perl-5.28.2/.cpanplus/5.28.2/build/XI3A_9Udil/Protocol-HTTP-1.1.2/clib/src/panda/protocol/http/Request.h:2,
                 from /home/cpan/pit/bare-qm/conf/perl-5.28.2/.cpanplus/5.28.2/build/XI3A_9Udil/Protocol-HTTP-1.1.2/clib/src/panda/protocol/http/MessageParser.h:2,
                 from /home/cpan/pit/bare-qm/conf/perl-5.28.2/.cpanplus/5.28.2/build/XI3A_9Udil/Protocol-HTTP-1.1.2/clib/src/panda/protocol/http/RequestParser.h:3,
                 from /home/cpan/pit/bare-qm/conf/perl-5.28.2/.cpanplus/5.28.2/build/XI3A_9Udil/Protocol-HTTP-1.1.2/clib/src/panda/protocol/http.h:2,
                 from /home/cpan/pit/bare-qm/conf/perl-5.28.2/.cpanplus/5.28.2/build/XI3A_9Udil/Protocol-HTTP-1.1.2/clib/tests/test.h:3,
                 from /home/cpan/pit/bare-qm/conf/perl-5.28.2/.cpanplus/5.28.2/build/XI3A_9Udil/Protocol-HTTP-1.1.2/clib/tests/cookie-jar.cc:1:
/home/cpan/pit/bare-qm/conf/perl-5.28.2/.cpanplus/5.28.2/build/XI3A_9Udil/Protocol-HTTP-1.1.2/clib/src/panda/protocol/http/Fields.h: In instantiation of ‘void panda::protocol::http::Fields<T, CASE_SENSITIVE, PRERESERVE>::set(const string&, const T&) [with T = panda::basic_string<char>; bool CASE_SENSITIVE = false; long unsigned int PRERESERVE = 2; panda::string = panda::basic_string<char>]’:
/home/cpan/pit/bare-qm/conf/perl-5.28.2/.cpanplus/5.28.2/build/XI3A_9Udil/Protocol-HTTP-1.1.2/clib/src/panda/protocol/http/Message.h:87:67:   required from here
/home/cpan/pit/bare-qm/conf/perl-5.28.2/.cpanplus/5.28.2/build/XI3A_9Udil/Protocol-HTTP-1.1.2/clib/src/panda/protocol/http/Fields.h:105:34: warning: implicitly-declared ‘constexpr boost::container::vec_iterator<panda::protocol::http::Fields<panda::basic_string<char>, false, 2>::Field*, false>& boost::container::vec_iterator<panda::protocol::http::Fields<panda::basic_string<char>, false, 2>::Field*, false>::operator=(const boost::container::vec_iterator<panda::protocol::http::Fields<panda::basic_string<char>, false, 2>::Field*, false>&)’ is deprecated [-Wdeprecated-copy]
  105 |                 if (replaced) it = fields.erase(it);
In file included from /home/cpan/pit/jail/WO_rNORkzw/lib/perl5/XS/libboost/mini.x/i/boost/container/small_vector.hpp:27,
                 from /home/cpan/pit/bare-qm/conf/perl-5.28.2/.cpanplus/5.28.2/build/XI3A_9Udil/Protocol-HTTP-1.1.2/clib/src/panda/protocol/http/Body.h:5,
                 from /home/cpan/pit/bare-qm/conf/perl-5.28.2/.cpanplus/5.28.2/build/XI3A_9Udil/Protocol-HTTP-1.1.2/clib/src/panda/protocol/http/Message.h:2,
                 from /home/cpan/pit/bare-qm/conf/perl-5.28.2/.cpanplus/5.28.2/build/XI3A_9Udil/Protocol-HTTP-1.1.2/clib/src/panda/protocol/http/Response.h:2,
                 from /home/cpan/pit/bare-qm/conf/perl-5.28.2/.cpanplus/5.28.2/build/XI3A_9Udil/Protocol-HTTP-1.1.2/clib/src/panda/protocol/http/Request.h:2,
                 from /home/cpan/pit/bare-qm/conf/perl-5.28.2/.cpanplus/5.28.2/build/XI3A_9Udil/Protocol-HTTP-1.1.2/clib/src/panda/protocol/http/MessageParser.h:2,
                 from /home/cpan/pit/bare-qm/conf/perl-5.28.2/.cpanplus/5.28.2/build/XI3A_9Udil/Protocol-HTTP-1.1.2/clib/src/panda/protocol/http/RequestParser.h:3,
                 from /home/cpan/pit/bare-qm/conf/perl-5.28.2/.cpanplus/5.28.2/build/XI3A_9Udil/Protocol-HTTP-1.1.2/clib/src/panda/protocol/http.h:2,
                 from /home/cpan/pit/bare-qm/conf/perl-5.28.2/.cpanplus/5.28.2/build/XI3A_9Udil/Protocol-HTTP-1.1.2/clib/tests/test.h:3,
                 from /home/cpan/pit/bare-qm/conf/perl-5.28.2/.cpanplus/5.28.2/build/XI3A_9Udil/Protocol-HTTP-1.1.2/clib/tests/cookie-jar.cc:1:
/home/cpan/pit/jail/WO_rNORkzw/lib/perl5/XS/libboost/mini.x/i/boost/container/vector.hpp:119:32: note: because ‘boost::container::vec_iterator<panda::protocol::http::Fields<panda::basic_string<char>, false, 2>::Field*, false>’ has user-provided ‘boost::container::vec_iterator<Pointer, IsConst>::vec_iterator(const boost::container::vec_iterator<Pointer, false>&) [with Pointer = panda::protocol::http::Fields<panda::basic_string<char>, false, 2>::Field*; bool IsConst = false]’
  119 |    BOOST_CONTAINER_FORCEINLINE vec_iterator(vec_iterator<Pointer, false> const& other) BOOST_NOEXCEPT_OR_NOTHROW
      |                                ^~~~~~~~~~~~
In file included from /home/cpan/pit/bare-qm/conf/perl-5.28.2/.cpanplus/5.28.2/build/XI3A_9Udil/Protocol-HTTP-1.1.2/clib/src/panda/protocol/http/Body.h:5,
                 from /home/cpan/pit/bare-qm/conf/perl-5.28.2/.cpanplus/5.28.2/build/XI3A_9Udil/Protocol-HTTP-1.1.2/clib/src/panda/protocol/http/Message.h:2,
                 from /home/cpan/pit/bare-qm/conf/perl-5.28.2/.cpanplus/5.28.2/build/XI3A_9Udil/Protocol-HTTP-1.1.2/clib/src/panda/protocol/http/Response.h:2,
                 from /home/cpan/pit/bare-qm/conf/perl-5.28.2/.cpanplus/5.28.2/build/XI3A_9Udil/Protocol-HTTP-1.1.2/clib/src/panda/protocol/http/Request.h:2,
                 from /home/cpan/pit/bare-qm/conf/perl-5.28.2/.cpanplus/5.28.2/build/XI3A_9Udil/Protocol-HTTP-1.1.2/clib/src/panda/protocol/http/MessageParser.h:2,
                 from /home/cpan/pit/bare-qm/conf/perl-5.28.2/.cpanplus/5.28.2/build/XI3A_9Udil/Protocol-HTTP-1.1.2/clib/src/panda/protocol/http/RequestParser.h:3,
                 from /home/cpan/pit/bare-qm/conf/perl-5.28.2/.cpanplus/5.28.2/build/XI3A_9Udil/Protocol-HTTP-1.1.2/clib/src/panda/protocol/http.h:2,
                 from /home/cpan/pit/bare-qm/conf/perl-5.28.2/.cpanplus/5.28.2/build/XI3A_9Udil/Protocol-HTTP-1.1.2/clib/tests/test.h:3,
                 from /home/cpan/pit/bare-qm/conf/perl-5.28.2/.cpanplus/5.28.2/build/XI3A_9Udil/Protocol-HTTP-1.1.2/clib/tests/cookie-jar.cc:1:
/home/cpan/pit/jail/WO_rNORkzw/lib/perl5/XS/libboost/mini.x/i/boost/container/small_vector.hpp: In instantiation of ‘boost::container::small_vector_allocator<Allocator>& boost::container::small_vector_allocator<Allocator>::operator=(boost::container::small_vector_allocator<Allocator>&&) [with Allocator = boost::container::new_allocator<panda::protocol::http::CookieJar::Cookie>]’:
/home/cpan/pit/jail/WO_rNORkzw/lib/perl5/XS/libboost/mini.x/i/boost/container/detail/alloc_helpers.hpp:54:6:   required from ‘void boost::container::dtl::move_alloc(AllocatorType&, AllocatorType&, boost::move_detail::true_type) [with AllocatorType = boost::container::small_vector_allocator<boost::container::new_allocator<panda::protocol::http::CookieJar::Cookie> >; boost::move_detail::true_type = boost::move_detail::integral_constant<bool, true>]’
/home/cpan/pit/jail/WO_rNORkzw/lib/perl5/XS/libboost/mini.x/i/boost/container/vector.hpp:2432:22:   required from ‘void boost::container::vector<T, Allocator, Options>::priv_move_assign(boost::container::vector<T, OtherAllocator>&&, typename boost::move_detail::disable_if_or<void, boost::container::dtl::is_version<OtherAllocator, 0>, boost::move_detail::is_different<OtherAllocator, Allocator> >::type*) [with OtherAllocator = boost::container::small_vector_allocator<boost::container::new_allocator<panda::protocol::http::CookieJar::Cookie> >; T = panda::protocol::http::CookieJar::Cookie; Allocator = boost::container::small_vector_allocator<boost::container::new_allocator<panda::protocol::http::CookieJar::Cookie> >; Options = void; typename boost::move_detail::disable_if_or<void, boost::container::dtl::is_version<OtherAllocator, 0>, boost::move_detail::is_different<OtherAllocator, Allocator> >::type = void]’
/home/cpan/pit/jail/WO_rNORkzw/lib/perl5/XS/libboost/mini.x/i/boost/container/vector.hpp:1134:7:   required from ‘boost::container::vector<T, Allocator, Options>& boost::container::vector<T, Allocator, Options>::operator=(boost::container::vector<T, Allocator, Options>&&) [with T = panda::protocol::http::CookieJar::Cookie; Allocator = boost::container::small_vector_allocator<boost::container::new_allocator<panda::protocol::http::CookieJar::Cookie> >; Options = void]’
/home/cpan/pit/jail/WO_rNORkzw/lib/perl5/XS/libboost/mini.x/i/boost/container/small_vector.hpp:410:14:   required from ‘boost::container::small_vector_base<T, Allocator>& boost::container::small_vector_base<T, Allocator>::operator=(boost::container::small_vector_base<T, Allocator>&&) [with T = panda::protocol::http::CookieJar::Cookie; SecondaryAllocator = boost::container::new_allocator<panda::protocol::http::CookieJar::Cookie>]’
/home/cpan/pit/jail/WO_rNORkzw/lib/perl5/XS/libboost/mini.x/i/boost/container/small_vector.hpp:634:14:   required from ‘boost::container::small_vector<T, N, Allocator>& boost::container::small_vector<T, N, Allocator>::operator=(boost::container::small_vector<T, N, Allocator>&&) [with T = panda::protocol::http::CookieJar::Cookie; long unsigned int N = 15; Allocator = boost::container::new_allocator<panda::protocol::http::CookieJar::Cookie>]’
/home/cpan/pit/bare-qm/conf/perl-5.28.2/.cpanplus/5.28.2/build/XI3A_9Udil/Protocol-HTTP-1.1.2/clib/tests/cookie-jar.cc:361:65:   required from here
/home/cpan/pit/jail/WO_rNORkzw/lib/perl5/XS/libboost/mini.x/i/boost/container/small_vector.hpp:192:14: warning: implicitly-declared ‘constexpr boost::container::new_allocator<panda::protocol::http::CookieJar::Cookie>& boost::container::new_allocator<panda::protocol::http::CookieJar::Cookie>::operator=(const boost::container::new_allocator<panda::protocol::http::CookieJar::Cookie>&)’ is deprecated [-Wdeprecated-copy]
  192 |    {  return static_cast<small_vector_allocator&>(this->Allocator::operator=(::boost::move(other.as_base())));  }
      |              ^~~~~~~~~~~~~~~~~~~~~~~~~~~~~~~~~~~~~~~~~~~~~~~~~~~~~~~~~~~~~~~~~~~~~~~~~~~~~~~~~~~~~~~~~~~~~~~~
In file included from /home/cpan/pit/jail/WO_rNORkzw/lib/perl5/XS/libboost/mini.x/i/boost/container/vector.hpp:28,
                 from /home/cpan/pit/jail/WO_rNORkzw/lib/perl5/XS/libboost/mini.x/i/boost/container/small_vector.hpp:27,
                 from /home/cpan/pit/bare-qm/conf/perl-5.28.2/.cpanplus/5.28.2/build/XI3A_9Udil/Protocol-HTTP-1.1.2/clib/src/panda/protocol/http/Body.h:5,
                 from /home/cpan/pit/bare-qm/conf/perl-5.28.2/.cpanplus/5.28.2/build/XI3A_9Udil/Protocol-HTTP-1.1.2/clib/src/panda/protocol/http/Message.h:2,
                 from /home/cpan/pit/bare-qm/conf/perl-5.28.2/.cpanplus/5.28.2/build/XI3A_9Udil/Protocol-HTTP-1.1.2/clib/src/panda/protocol/http/Response.h:2,
                 from /home/cpan/pit/bare-qm/conf/perl-5.28.2/.cpanplus/5.28.2/build/XI3A_9Udil/Protocol-HTTP-1.1.2/clib/src/panda/protocol/http/Request.h:2,
                 from /home/cpan/pit/bare-qm/conf/perl-5.28.2/.cpanplus/5.28.2/build/XI3A_9Udil/Protocol-HTTP-1.1.2/clib/src/panda/protocol/http/MessageParser.h:2,
                 from /home/cpan/pit/bare-qm/conf/perl-5.28.2/.cpanplus/5.28.2/build/XI3A_9Udil/Protocol-HTTP-1.1.2/clib/src/panda/protocol/http/RequestParser.h:3,
                 from /home/cpan/pit/bare-qm/conf/perl-5.28.2/.cpanplus/5.28.2/build/XI3A_9Udil/Protocol-HTTP-1.1.2/clib/src/panda/protocol/http.h:2,
                 from /home/cpan/pit/bare-qm/conf/perl-5.28.2/.cpanplus/5.28.2/build/XI3A_9Udil/Protocol-HTTP-1.1.2/clib/tests/test.h:3,
                 from /home/cpan/pit/bare-qm/conf/perl-5.28.2/.cpanplus/5.28.2/build/XI3A_9Udil/Protocol-HTTP-1.1.2/clib/tests/cookie-jar.cc:1:
/home/cpan/pit/jail/WO_rNORkzw/lib/perl5/XS/libboost/mini.x/i/boost/container/new_allocator.hpp:130:4: note: because ‘boost::container::new_allocator<panda::protocol::http::CookieJar::Cookie>’ has user-provided ‘boost::container::new_allocator<T>::new_allocator(const boost::container::new_allocator<T>&) [with T = panda::protocol::http::CookieJar::Cookie]’
  130 |    new_allocator(const new_allocator &) BOOST_NOEXCEPT_OR_NOTHROW
      |    ^~~~~~~~~~~~~
[ 72%] Building CXX object ../build/CMakeFiles/panda-protocol-http-tests.dir/tests/header.cc.o
In file included from /home/cpan/pit/jail/WO_rNORkzw/lib/perl5/XS/librangeV3.x/i/concepts/concepts.hpp:27,
                 from /home/cpan/pit/jail/WO_rNORkzw/lib/perl5/XS/librangeV3.x/i/range/v3/iterator/common_iterator.hpp:23,
                 from /home/cpan/pit/jail/WO_rNORkzw/lib/perl5/XS/librangeV3.x/i/range/v3/core.hpp:17,
                 from /home/cpan/pit/bare-qm/conf/perl-5.28.2/.cpanplus/5.28.2/build/XI3A_9Udil/Protocol-HTTP-1.1.2/clib/src/panda/protocol/http/Fields.h:4,
                 from /home/cpan/pit/bare-qm/conf/perl-5.28.2/.cpanplus/5.28.2/build/XI3A_9Udil/Protocol-HTTP-1.1.2/clib/src/panda/protocol/http/Headers.h:3,
                 from /home/cpan/pit/bare-qm/conf/perl-5.28.2/.cpanplus/5.28.2/build/XI3A_9Udil/Protocol-HTTP-1.1.2/clib/src/panda/protocol/http/Message.h:4,
                 from /home/cpan/pit/bare-qm/conf/perl-5.28.2/.cpanplus/5.28.2/build/XI3A_9Udil/Protocol-HTTP-1.1.2/clib/src/panda/protocol/http/Response.h:2,
                 from /home/cpan/pit/bare-qm/conf/perl-5.28.2/.cpanplus/5.28.2/build/XI3A_9Udil/Protocol-HTTP-1.1.2/clib/src/panda/protocol/http/Request.h:2,
                 from /home/cpan/pit/bare-qm/conf/perl-5.28.2/.cpanplus/5.28.2/build/XI3A_9Udil/Protocol-HTTP-1.1.2/clib/src/panda/protocol/http/MessageParser.h:2,
                 from /home/cpan/pit/bare-qm/conf/perl-5.28.2/.cpanplus/5.28.2/build/XI3A_9Udil/Protocol-HTTP-1.1.2/clib/src/panda/protocol/http/RequestParser.h:3,
                 from /home/cpan/pit/bare-qm/conf/perl-5.28.2/.cpanplus/5.28.2/build/XI3A_9Udil/Protocol-HTTP-1.1.2/clib/src/panda/protocol/http.h:2,
                 from /home/cpan/pit/bare-qm/conf/perl-5.28.2/.cpanplus/5.28.2/build/XI3A_9Udil/Protocol-HTTP-1.1.2/clib/tests/test.h:3,
                 from /home/cpan/pit/bare-qm/conf/perl-5.28.2/.cpanplus/5.28.2/build/XI3A_9Udil/Protocol-HTTP-1.1.2/clib/tests/header.cc:1:
/home/cpan/pit/jail/WO_rNORkzw/lib/perl5/XS/librangeV3.x/i/concepts/swap.hpp: In instantiation of ‘constexpr meta::if_c<((! is_adl_swappable_v<T&>) && is_movable_v<T>)> concepts::adl_swap_detail::swap_fn::operator()(T&, T&) const [with T = boost::container::vec_iterator<panda::protocol::http::Fields<panda::basic_string<char>, false, 15>::Field*, false>; meta::if_c<((! is_adl_swappable_v<T&>) && is_movable_v<T>)> = void]’:
/home/cpan/pit/jail/WO_rNORkzw/lib/perl5/XS/librangeV3.x/i/concepts/concepts.hpp:943:9:   required by substitution of ‘template<class ... As> char (& concepts::defs::swappable__requires_(concepts::detail::tag<As ...>*, decltype (& swappable__requires_test_<As ...>)))[1] [with As = {boost::container::vec_iterator<panda::protocol::http::Fields<panda::basic_string<char>, false, 15>::Field*, false>}]’
/home/cpan/pit/jail/WO_rNORkzw/lib/perl5/XS/librangeV3.x/i/concepts/concepts.hpp:950:13:   required from ‘constexpr const bool concepts::defs::swappable<boost::container::vec_iterator<panda::protocol::http::Fields<panda::basic_string<char>, false, 15>::Field*, false> >’
/home/cpan/pit/jail/WO_rNORkzw/lib/perl5/XS/librangeV3.x/i/concepts/concepts.hpp:1109:13:   required from ‘constexpr const bool concepts::defs::movable<boost::container::vec_iterator<panda::protocol::http::Fields<panda::basic_string<char>, false, 15>::Field*, false> >’
/home/cpan/pit/jail/WO_rNORkzw/lib/perl5/XS/librangeV3.x/i/concepts/concepts.hpp:1118:13:   required from ‘constexpr const bool concepts::defs::copyable<boost::container::vec_iterator<panda::protocol::http::Fields<panda::basic_string<char>, false, 15>::Field*, false> >’
/home/cpan/pit/jail/WO_rNORkzw/lib/perl5/XS/librangeV3.x/i/concepts/concepts.hpp:1123:13:   required from ‘constexpr const bool concepts::defs::semiregular<boost::container::vec_iterator<panda::protocol::http::Fields<panda::basic_string<char>, false, 15>::Field*, false> >’
/home/cpan/pit/jail/WO_rNORkzw/lib/perl5/XS/librangeV3.x/i/range/v3/iterator/concepts.hpp:258:9:   [ skipping 7 instantiation contexts, use -ftemplate-backtrace-limit=0 to disable ]
/home/cpan/pit/jail/WO_rNORkzw/lib/perl5/XS/librangeV3.x/i/range/v3/range/concepts.hpp:66:9:   required from ‘constexpr const bool ranges::range<boost::container::small_vector<panda::protocol::http::Fields<panda::basic_string<char>, false, 15>::Field, 15, boost::container::new_allocator<panda::protocol::http::Fields<panda::basic_string<char>, false, 15>::Field> > >’
/home/cpan/pit/jail/WO_rNORkzw/lib/perl5/XS/librangeV3.x/i/range/v3/range/concepts.hpp:209:9:   required from ‘constexpr const bool ranges::view_<boost::container::small_vector<panda::protocol::http::Fields<panda::basic_string<char>, false, 15>::Field, 15, boost::container::new_allocator<panda::protocol::http::Fields<panda::basic_string<char>, false, 15>::Field> > >’
/home/cpan/pit/jail/WO_rNORkzw/lib/perl5/XS/librangeV3.x/i/range/v3/range/concepts.hpp:216:31:   required from ‘constexpr const bool ranges::viewable_range<const boost::container::small_vector<panda::protocol::http::Fields<panda::basic_string<char>, false, 15>::Field, 15, boost::container::new_allocator<panda::protocol::http::Fields<panda::basic_string<char>, false, 15>::Field> >&>’
/home/cpan/pit/jail/WO_rNORkzw/lib/perl5/XS/librangeV3.x/i/range/v3/view/view.hpp:106:13:   required by substitution of ‘template<class Rng, class ViewFn, bool CPP_true, typename std::enable_if<(viewable_range<Rng> && CPP_true), int>::type <anonymous>, typename std::enable_if<(invocable_view_closure<ViewFn, Rng> && CPP_true), int>::type <anonymous> > constexpr auto ranges::views::view_closure_base_ns::operator|(Rng&&, ranges::views::view_closure<ViewFn>) [with Rng = const boost::container::small_vector<panda::protocol::http::Fields<panda::basic_string<char>, false, 15>::Field, 15, boost::container::new_allocator<panda::protocol::http::Fields<panda::basic_string<char>, false, 15>::Field> >&; ViewFn = ranges::detail::bind_back_fn_<ranges::views::filter_base_fn, panda::protocol::http::Fields<T, CASE_SENSITIVE, PRERESERVE>::get_multi(const string_view&) const [with T = panda::basic_string<char>; bool CASE_SENSITIVE = false; long unsigned int PRERESERVE = 15; panda::string_view = panda::basic_string_view<char>]::<lambda(const panda::protocol::http::Fields<panda::basic_string<char>, false, 15>::Field&)> >; bool CPP_true = true; typename std::enable_if<(viewable_range<Rng> && CPP_true), int>::type <anonymous> = <missing>; typename std::enable_if<(invocable_view_closure<ViewFn, Rng> && CPP_true), int>::type <anonymous> = <missing>]’
/home/cpan/pit/bare-qm/conf/perl-5.28.2/.cpanplus/5.28.2/build/XI3A_9Udil/Protocol-HTTP-1.1.2/clib/src/panda/protocol/http/Fields.h:147:23:   required from ‘auto panda::protocol::http::Fields<T, CASE_SENSITIVE, PRERESERVE>::get_multi(const string_view&) const [with T = panda::basic_string<char>; bool CASE_SENSITIVE = false; long unsigned int PRERESERVE = 15; panda::string_view = panda::basic_string_view<char>]’
/home/cpan/pit/bare-qm/conf/perl-5.28.2/.cpanplus/5.28.2/build/XI3A_9Udil/Protocol-HTTP-1.1.2/clib/tests/header.cc:35:31:   required from here
/home/cpan/pit/jail/WO_rNORkzw/lib/perl5/XS/librangeV3.x/i/concepts/swap.hpp:208:33: warning: implicitly-declared ‘constexpr boost::container::vec_iterator<panda::protocol::http::Fields<panda::basic_string<char>, false, 15>::Field*, false>& boost::container::vec_iterator<panda::protocol::http::Fields<panda::basic_string<char>, false, 15>::Field*, false>::operator=(const boost::container::vec_iterator<panda::protocol::http::Fields<panda::basic_string<char>, false, 15>::Field*, false>&)’ is deprecated [-Wdeprecated-copy]
  208 |             noexcept(noexcept(b = concepts::exchange(a, (T &&) b)))
      |                               ~~^~~~~~~~~~~~~~~~~~~~~~~~~~~~~~~~~
In file included from /home/cpan/pit/jail/WO_rNORkzw/lib/perl5/XS/libboost/mini.x/i/boost/container/small_vector.hpp:27,
                 from /home/cpan/pit/bare-qm/conf/perl-5.28.2/.cpanplus/5.28.2/build/XI3A_9Udil/Protocol-HTTP-1.1.2/clib/src/panda/protocol/http/Body.h:5,
                 from /home/cpan/pit/bare-qm/conf/perl-5.28.2/.cpanplus/5.28.2/build/XI3A_9Udil/Protocol-HTTP-1.1.2/clib/src/panda/protocol/http/Message.h:2,
                 from /home/cpan/pit/bare-qm/conf/perl-5.28.2/.cpanplus/5.28.2/build/XI3A_9Udil/Protocol-HTTP-1.1.2/clib/src/panda/protocol/http/Response.h:2,
                 from /home/cpan/pit/bare-qm/conf/perl-5.28.2/.cpanplus/5.28.2/build/XI3A_9Udil/Protocol-HTTP-1.1.2/clib/src/panda/protocol/http/Request.h:2,
                 from /home/cpan/pit/bare-qm/conf/perl-5.28.2/.cpanplus/5.28.2/build/XI3A_9Udil/Protocol-HTTP-1.1.2/clib/src/panda/protocol/http/MessageParser.h:2,
                 from /home/cpan/pit/bare-qm/conf/perl-5.28.2/.cpanplus/5.28.2/build/XI3A_9Udil/Protocol-HTTP-1.1.2/clib/src/panda/protocol/http/RequestParser.h:3,
                 from /home/cpan/pit/bare-qm/conf/perl-5.28.2/.cpanplus/5.28.2/build/XI3A_9Udil/Protocol-HTTP-1.1.2/clib/src/panda/protocol/http.h:2,
                 from /home/cpan/pit/bare-qm/conf/perl-5.28.2/.cpanplus/5.28.2/build/XI3A_9Udil/Protocol-HTTP-1.1.2/clib/tests/test.h:3,
                 from /home/cpan/pit/bare-qm/conf/perl-5.28.2/.cpanplus/5.28.2/build/XI3A_9Udil/Protocol-HTTP-1.1.2/clib/tests/header.cc:1:
/home/cpan/pit/jail/WO_rNORkzw/lib/perl5/XS/libboost/mini.x/i/boost/container/vector.hpp:119:32: note: because ‘boost::container::vec_iterator<panda::protocol::http::Fields<panda::basic_string<char>, false, 15>::Field*, false>’ has user-provided ‘boost::container::vec_iterator<Pointer, IsConst>::vec_iterator(const boost::container::vec_iterator<Pointer, false>&) [with Pointer = panda::protocol::http::Fields<panda::basic_string<char>, false, 15>::Field*; bool IsConst = false]’
  119 |    BOOST_CONTAINER_FORCEINLINE vec_iterator(vec_iterator<Pointer, false> const& other) BOOST_NOEXCEPT_OR_NOTHROW
      |                                ^~~~~~~~~~~~
In file included from /home/cpan/pit/bare-qm/conf/perl-5.28.2/.cpanplus/5.28.2/build/XI3A_9Udil/Protocol-HTTP-1.1.2/clib/src/panda/protocol/http/Headers.h:3,
                 from /home/cpan/pit/bare-qm/conf/perl-5.28.2/.cpanplus/5.28.2/build/XI3A_9Udil/Protocol-HTTP-1.1.2/clib/src/panda/protocol/http/Message.h:4,
                 from /home/cpan/pit/bare-qm/conf/perl-5.28.2/.cpanplus/5.28.2/build/XI3A_9Udil/Protocol-HTTP-1.1.2/clib/src/panda/protocol/http/Response.h:2,
                 from /home/cpan/pit/bare-qm/conf/perl-5.28.2/.cpanplus/5.28.2/build/XI3A_9Udil/Protocol-HTTP-1.1.2/clib/src/panda/protocol/http/Request.h:2,
                 from /home/cpan/pit/bare-qm/conf/perl-5.28.2/.cpanplus/5.28.2/build/XI3A_9Udil/Protocol-HTTP-1.1.2/clib/src/panda/protocol/http/MessageParser.h:2,
                 from /home/cpan/pit/bare-qm/conf/perl-5.28.2/.cpanplus/5.28.2/build/XI3A_9Udil/Protocol-HTTP-1.1.2/clib/src/panda/protocol/http/RequestParser.h:3,
                 from /home/cpan/pit/bare-qm/conf/perl-5.28.2/.cpanplus/5.28.2/build/XI3A_9Udil/Protocol-HTTP-1.1.2/clib/src/panda/protocol/http.h:2,
                 from /home/cpan/pit/bare-qm/conf/perl-5.28.2/.cpanplus/5.28.2/build/XI3A_9Udil/Protocol-HTTP-1.1.2/clib/tests/test.h:3,
                 from /home/cpan/pit/bare-qm/conf/perl-5.28.2/.cpanplus/5.28.2/build/XI3A_9Udil/Protocol-HTTP-1.1.2/clib/tests/header.cc:1:
/home/cpan/pit/bare-qm/conf/perl-5.28.2/.cpanplus/5.28.2/build/XI3A_9Udil/Protocol-HTTP-1.1.2/clib/src/panda/protocol/http/Fields.h: In instantiation of ‘void panda::protocol::http::Fields<T, CASE_SENSITIVE, PRERESERVE>::set(const string&, const T&) [with T = panda::basic_string<char>; bool CASE_SENSITIVE = false; long unsigned int PRERESERVE = 2; panda::string = panda::basic_string<char>]’:
/home/cpan/pit/bare-qm/conf/perl-5.28.2/.cpanplus/5.28.2/build/XI3A_9Udil/Protocol-HTTP-1.1.2/clib/src/panda/protocol/http/Message.h:87:67:   required from here
/home/cpan/pit/bare-qm/conf/perl-5.28.2/.cpanplus/5.28.2/build/XI3A_9Udil/Protocol-HTTP-1.1.2/clib/src/panda/protocol/http/Fields.h:105:34: warning: implicitly-declared ‘constexpr boost::container::vec_iterator<panda::protocol::http::Fields<panda::basic_string<char>, false, 2>::Field*, false>& boost::container::vec_iterator<panda::protocol::http::Fields<panda::basic_string<char>, false, 2>::Field*, false>::operator=(const boost::container::vec_iterator<panda::protocol::http::Fields<panda::basic_string<char>, false, 2>::Field*, false>&)’ is deprecated [-Wdeprecated-copy]
  105 |                 if (replaced) it = fields.erase(it);
In file included from /home/cpan/pit/jail/WO_rNORkzw/lib/perl5/XS/libboost/mini.x/i/boost/container/small_vector.hpp:27,
                 from /home/cpan/pit/bare-qm/conf/perl-5.28.2/.cpanplus/5.28.2/build/XI3A_9Udil/Protocol-HTTP-1.1.2/clib/src/panda/protocol/http/Body.h:5,
                 from /home/cpan/pit/bare-qm/conf/perl-5.28.2/.cpanplus/5.28.2/build/XI3A_9Udil/Protocol-HTTP-1.1.2/clib/src/panda/protocol/http/Message.h:2,
                 from /home/cpan/pit/bare-qm/conf/perl-5.28.2/.cpanplus/5.28.2/build/XI3A_9Udil/Protocol-HTTP-1.1.2/clib/src/panda/protocol/http/Response.h:2,
                 from /home/cpan/pit/bare-qm/conf/perl-5.28.2/.cpanplus/5.28.2/build/XI3A_9Udil/Protocol-HTTP-1.1.2/clib/src/panda/protocol/http/Request.h:2,
                 from /home/cpan/pit/bare-qm/conf/perl-5.28.2/.cpanplus/5.28.2/build/XI3A_9Udil/Protocol-HTTP-1.1.2/clib/src/panda/protocol/http/MessageParser.h:2,
                 from /home/cpan/pit/bare-qm/conf/perl-5.28.2/.cpanplus/5.28.2/build/XI3A_9Udil/Protocol-HTTP-1.1.2/clib/src/panda/protocol/http/RequestParser.h:3,
                 from /home/cpan/pit/bare-qm/conf/perl-5.28.2/.cpanplus/5.28.2/build/XI3A_9Udil/Protocol-HTTP-1.1.2/clib/src/panda/protocol/http.h:2,
                 from /home/cpan/pit/bare-qm/conf/perl-5.28.2/.cpanplus/5.28.2/build/XI3A_9Udil/Protocol-HTTP-1.1.2/clib/tests/test.h:3,
                 from /home/cpan/pit/bare-qm/conf/perl-5.28.2/.cpanplus/5.28.2/build/XI3A_9Udil/Protocol-HTTP-1.1.2/clib/tests/header.cc:1:
/home/cpan/pit/jail/WO_rNORkzw/lib/perl5/XS/libboost/mini.x/i/boost/container/vector.hpp:119:32: note: because ‘boost::container::vec_iterator<panda::protocol::http::Fields<panda::basic_string<char>, false, 2>::Field*, false>’ has user-provided ‘boost::container::vec_iterator<Pointer, IsConst>::vec_iterator(const boost::container::vec_iterator<Pointer, false>&) [with Pointer = panda::protocol::http::Fields<panda::basic_string<char>, false, 2>::Field*; bool IsConst = false]’
  119 |    BOOST_CONTAINER_FORCEINLINE vec_iterator(vec_iterator<Pointer, false> const& other) BOOST_NOEXCEPT_OR_NOTHROW
      |                                ^~~~~~~~~~~~
In file included from /home/cpan/pit/bare-qm/conf/perl-5.28.2/.cpanplus/5.28.2/build/XI3A_9Udil/Protocol-HTTP-1.1.2/clib/src/panda/protocol/http/Headers.h:3,
                 from /home/cpan/pit/bare-qm/conf/perl-5.28.2/.cpanplus/5.28.2/build/XI3A_9Udil/Protocol-HTTP-1.1.2/clib/src/panda/protocol/http/Message.h:4,
                 from /home/cpan/pit/bare-qm/conf/perl-5.28.2/.cpanplus/5.28.2/build/XI3A_9Udil/Protocol-HTTP-1.1.2/clib/src/panda/protocol/http/Response.h:2,
                 from /home/cpan/pit/bare-qm/conf/perl-5.28.2/.cpanplus/5.28.2/build/XI3A_9Udil/Protocol-HTTP-1.1.2/clib/src/panda/protocol/http/Request.h:2,
                 from /home/cpan/pit/bare-qm/conf/perl-5.28.2/.cpanplus/5.28.2/build/XI3A_9Udil/Protocol-HTTP-1.1.2/clib/src/panda/protocol/http/MessageParser.h:2,
                 from /home/cpan/pit/bare-qm/conf/perl-5.28.2/.cpanplus/5.28.2/build/XI3A_9Udil/Protocol-HTTP-1.1.2/clib/src/panda/protocol/http/RequestParser.h:3,
                 from /home/cpan/pit/bare-qm/conf/perl-5.28.2/.cpanplus/5.28.2/build/XI3A_9Udil/Protocol-HTTP-1.1.2/clib/src/panda/protocol/http.h:2,
                 from /home/cpan/pit/bare-qm/conf/perl-5.28.2/.cpanplus/5.28.2/build/XI3A_9Udil/Protocol-HTTP-1.1.2/clib/tests/test.h:3,
                 from /home/cpan/pit/bare-qm/conf/perl-5.28.2/.cpanplus/5.28.2/build/XI3A_9Udil/Protocol-HTTP-1.1.2/clib/tests/header.cc:1:
/home/cpan/pit/bare-qm/conf/perl-5.28.2/.cpanplus/5.28.2/build/XI3A_9Udil/Protocol-HTTP-1.1.2/clib/src/panda/protocol/http/Fields.h: In instantiation of ‘void panda::protocol::http::Fields<T, CASE_SENSITIVE, PRERESERVE>::set(const string&, const T&) [with T = panda::basic_string<char>; bool CASE_SENSITIVE = false; long unsigned int PRERESERVE = 15; panda::string = panda::basic_string<char>]’:
/home/cpan/pit/bare-qm/conf/perl-5.28.2/.cpanplus/5.28.2/build/XI3A_9Udil/Protocol-HTTP-1.1.2/clib/tests/header.cc:20:29:   required from here
/home/cpan/pit/bare-qm/conf/perl-5.28.2/.cpanplus/5.28.2/build/XI3A_9Udil/Protocol-HTTP-1.1.2/clib/src/panda/protocol/http/Fields.h:105:34: warning: implicitly-declared ‘constexpr boost::container::vec_iterator<panda::protocol::http::Fields<panda::basic_string<char>, false, 15>::Field*, false>& boost::container::vec_iterator<panda::protocol::http::Fields<panda::basic_string<char>, false, 15>::Field*, false>::operator=(const boost::container::vec_iterator<panda::protocol::http::Fields<panda::basic_string<char>, false, 15>::Field*, false>&)’ is deprecated [-Wdeprecated-copy]
  105 |                 if (replaced) it = fields.erase(it);
In file included from /home/cpan/pit/jail/WO_rNORkzw/lib/perl5/XS/libboost/mini.x/i/boost/container/small_vector.hpp:27,
                 from /home/cpan/pit/bare-qm/conf/perl-5.28.2/.cpanplus/5.28.2/build/XI3A_9Udil/Protocol-HTTP-1.1.2/clib/src/panda/protocol/http/Body.h:5,
                 from /home/cpan/pit/bare-qm/conf/perl-5.28.2/.cpanplus/5.28.2/build/XI3A_9Udil/Protocol-HTTP-1.1.2/clib/src/panda/protocol/http/Message.h:2,
                 from /home/cpan/pit/bare-qm/conf/perl-5.28.2/.cpanplus/5.28.2/build/XI3A_9Udil/Protocol-HTTP-1.1.2/clib/src/panda/protocol/http/Response.h:2,
                 from /home/cpan/pit/bare-qm/conf/perl-5.28.2/.cpanplus/5.28.2/build/XI3A_9Udil/Protocol-HTTP-1.1.2/clib/src/panda/protocol/http/Request.h:2,
                 from /home/cpan/pit/bare-qm/conf/perl-5.28.2/.cpanplus/5.28.2/build/XI3A_9Udil/Protocol-HTTP-1.1.2/clib/src/panda/protocol/http/MessageParser.h:2,
                 from /home/cpan/pit/bare-qm/conf/perl-5.28.2/.cpanplus/5.28.2/build/XI3A_9Udil/Protocol-HTTP-1.1.2/clib/src/panda/protocol/http/RequestParser.h:3,
                 from /home/cpan/pit/bare-qm/conf/perl-5.28.2/.cpanplus/5.28.2/build/XI3A_9Udil/Protocol-HTTP-1.1.2/clib/src/panda/protocol/http.h:2,
                 from /home/cpan/pit/bare-qm/conf/perl-5.28.2/.cpanplus/5.28.2/build/XI3A_9Udil/Protocol-HTTP-1.1.2/clib/tests/test.h:3,
                 from /home/cpan/pit/bare-qm/conf/perl-5.28.2/.cpanplus/5.28.2/build/XI3A_9Udil/Protocol-HTTP-1.1.2/clib/tests/header.cc:1:
/home/cpan/pit/jail/WO_rNORkzw/lib/perl5/XS/libboost/mini.x/i/boost/container/vector.hpp:119:32: note: because ‘boost::container::vec_iterator<panda::protocol::http::Fields<panda::basic_string<char>, false, 15>::Field*, false>’ has user-provided ‘boost::container::vec_iterator<Pointer, IsConst>::vec_iterator(const boost::container::vec_iterator<Pointer, false>&) [with Pointer = panda::protocol::http::Fields<panda::basic_string<char>, false, 15>::Field*; bool IsConst = false]’
  119 |    BOOST_CONTAINER_FORCEINLINE vec_iterator(vec_iterator<Pointer, false> const& other) BOOST_NOEXCEPT_OR_NOTHROW
      |                                ^~~~~~~~~~~~
[ 75%] Building CXX object ../build/CMakeFiles/panda-protocol-http-tests.dir/tests/parse/chunks.cc.o
In file included from /home/cpan/pit/bare-qm/conf/perl-5.28.2/.cpanplus/5.28.2/build/XI3A_9Udil/Protocol-HTTP-1.1.2/clib/src/panda/protocol/http/Headers.h:3,
                 from /home/cpan/pit/bare-qm/conf/perl-5.28.2/.cpanplus/5.28.2/build/XI3A_9Udil/Protocol-HTTP-1.1.2/clib/src/panda/protocol/http/Message.h:4,
                 from /home/cpan/pit/bare-qm/conf/perl-5.28.2/.cpanplus/5.28.2/build/XI3A_9Udil/Protocol-HTTP-1.1.2/clib/src/panda/protocol/http/Response.h:2,
                 from /home/cpan/pit/bare-qm/conf/perl-5.28.2/.cpanplus/5.28.2/build/XI3A_9Udil/Protocol-HTTP-1.1.2/clib/src/panda/protocol/http/Request.h:2,
                 from /home/cpan/pit/bare-qm/conf/perl-5.28.2/.cpanplus/5.28.2/build/XI3A_9Udil/Protocol-HTTP-1.1.2/clib/src/panda/protocol/http/MessageParser.h:2,
                 from /home/cpan/pit/bare-qm/conf/perl-5.28.2/.cpanplus/5.28.2/build/XI3A_9Udil/Protocol-HTTP-1.1.2/clib/src/panda/protocol/http/RequestParser.h:3,
                 from /home/cpan/pit/bare-qm/conf/perl-5.28.2/.cpanplus/5.28.2/build/XI3A_9Udil/Protocol-HTTP-1.1.2/clib/src/panda/protocol/http.h:2,
                 from /home/cpan/pit/bare-qm/conf/perl-5.28.2/.cpanplus/5.28.2/build/XI3A_9Udil/Protocol-HTTP-1.1.2/clib/tests/parse/../test.h:3,
                 from /home/cpan/pit/bare-qm/conf/perl-5.28.2/.cpanplus/5.28.2/build/XI3A_9Udil/Protocol-HTTP-1.1.2/clib/tests/parse/chunks.cc:1:
/home/cpan/pit/bare-qm/conf/perl-5.28.2/.cpanplus/5.28.2/build/XI3A_9Udil/Protocol-HTTP-1.1.2/clib/src/panda/protocol/http/Fields.h: In instantiation of ‘void panda::protocol::http::Fields<T, CASE_SENSITIVE, PRERESERVE>::set(const string&, const T&) [with T = panda::basic_string<char>; bool CASE_SENSITIVE = false; long unsigned int PRERESERVE = 2; panda::string = panda::basic_string<char>]’:
/home/cpan/pit/bare-qm/conf/perl-5.28.2/.cpanplus/5.28.2/build/XI3A_9Udil/Protocol-HTTP-1.1.2/clib/src/panda/protocol/http/Message.h:87:67:   required from here
/home/cpan/pit/bare-qm/conf/perl-5.28.2/.cpanplus/5.28.2/build/XI3A_9Udil/Protocol-HTTP-1.1.2/clib/src/panda/protocol/http/Fields.h:105:34: warning: implicitly-declared ‘constexpr boost::container::vec_iterator<panda::protocol::http::Fields<panda::basic_string<char>, false, 2>::Field*, false>& boost::container::vec_iterator<panda::protocol::http::Fields<panda::basic_string<char>, false, 2>::Field*, false>::operator=(const boost::container::vec_iterator<panda::protocol::http::Fields<panda::basic_string<char>, false, 2>::Field*, false>&)’ is deprecated [-Wdeprecated-copy]
  105 |                 if (replaced) it = fields.erase(it);
In file included from /home/cpan/pit/jail/WO_rNORkzw/lib/perl5/XS/libboost/mini.x/i/boost/container/small_vector.hpp:27,
                 from /home/cpan/pit/bare-qm/conf/perl-5.28.2/.cpanplus/5.28.2/build/XI3A_9Udil/Protocol-HTTP-1.1.2/clib/src/panda/protocol/http/Body.h:5,
                 from /home/cpan/pit/bare-qm/conf/perl-5.28.2/.cpanplus/5.28.2/build/XI3A_9Udil/Protocol-HTTP-1.1.2/clib/src/panda/protocol/http/Message.h:2,
                 from /home/cpan/pit/bare-qm/conf/perl-5.28.2/.cpanplus/5.28.2/build/XI3A_9Udil/Protocol-HTTP-1.1.2/clib/src/panda/protocol/http/Response.h:2,
                 from /home/cpan/pit/bare-qm/conf/perl-5.28.2/.cpanplus/5.28.2/build/XI3A_9Udil/Protocol-HTTP-1.1.2/clib/src/panda/protocol/http/Request.h:2,
                 from /home/cpan/pit/bare-qm/conf/perl-5.28.2/.cpanplus/5.28.2/build/XI3A_9Udil/Protocol-HTTP-1.1.2/clib/src/panda/protocol/http/MessageParser.h:2,
                 from /home/cpan/pit/bare-qm/conf/perl-5.28.2/.cpanplus/5.28.2/build/XI3A_9Udil/Protocol-HTTP-1.1.2/clib/src/panda/protocol/http/RequestParser.h:3,
                 from /home/cpan/pit/bare-qm/conf/perl-5.28.2/.cpanplus/5.28.2/build/XI3A_9Udil/Protocol-HTTP-1.1.2/clib/src/panda/protocol/http.h:2,
                 from /home/cpan/pit/bare-qm/conf/perl-5.28.2/.cpanplus/5.28.2/build/XI3A_9Udil/Protocol-HTTP-1.1.2/clib/tests/parse/../test.h:3,
                 from /home/cpan/pit/bare-qm/conf/perl-5.28.2/.cpanplus/5.28.2/build/XI3A_9Udil/Protocol-HTTP-1.1.2/clib/tests/parse/chunks.cc:1:
/home/cpan/pit/jail/WO_rNORkzw/lib/perl5/XS/libboost/mini.x/i/boost/container/vector.hpp:119:32: note: because ‘boost::container::vec_iterator<panda::protocol::http::Fields<panda::basic_string<char>, false, 2>::Field*, false>’ has user-provided ‘boost::container::vec_iterator<Pointer, IsConst>::vec_iterator(const boost::container::vec_iterator<Pointer, false>&) [with Pointer = panda::protocol::http::Fields<panda::basic_string<char>, false, 2>::Field*; bool IsConst = false]’
  119 |    BOOST_CONTAINER_FORCEINLINE vec_iterator(vec_iterator<Pointer, false> const& other) BOOST_NOEXCEPT_OR_NOTHROW
      |                                ^~~~~~~~~~~~
[ 77%] Building CXX object ../build/CMakeFiles/panda-protocol-http-tests.dir/tests/parse/compression.cc.o
In file included from /home/cpan/pit/bare-qm/conf/perl-5.28.2/.cpanplus/5.28.2/build/XI3A_9Udil/Protocol-HTTP-1.1.2/clib/src/panda/protocol/http/Headers.h:3,
                 from /home/cpan/pit/bare-qm/conf/perl-5.28.2/.cpanplus/5.28.2/build/XI3A_9Udil/Protocol-HTTP-1.1.2/clib/src/panda/protocol/http/Message.h:4,
                 from /home/cpan/pit/bare-qm/conf/perl-5.28.2/.cpanplus/5.28.2/build/XI3A_9Udil/Protocol-HTTP-1.1.2/clib/src/panda/protocol/http/Response.h:2,
                 from /home/cpan/pit/bare-qm/conf/perl-5.28.2/.cpanplus/5.28.2/build/XI3A_9Udil/Protocol-HTTP-1.1.2/clib/src/panda/protocol/http/Request.h:2,
                 from /home/cpan/pit/bare-qm/conf/perl-5.28.2/.cpanplus/5.28.2/build/XI3A_9Udil/Protocol-HTTP-1.1.2/clib/src/panda/protocol/http/MessageParser.h:2,
                 from /home/cpan/pit/bare-qm/conf/perl-5.28.2/.cpanplus/5.28.2/build/XI3A_9Udil/Protocol-HTTP-1.1.2/clib/src/panda/protocol/http/RequestParser.h:3,
                 from /home/cpan/pit/bare-qm/conf/perl-5.28.2/.cpanplus/5.28.2/build/XI3A_9Udil/Protocol-HTTP-1.1.2/clib/src/panda/protocol/http.h:2,
                 from /home/cpan/pit/bare-qm/conf/perl-5.28.2/.cpanplus/5.28.2/build/XI3A_9Udil/Protocol-HTTP-1.1.2/clib/tests/parse/../test.h:3,
                 from /home/cpan/pit/bare-qm/conf/perl-5.28.2/.cpanplus/5.28.2/build/XI3A_9Udil/Protocol-HTTP-1.1.2/clib/tests/parse/compression.cc:1:
/home/cpan/pit/bare-qm/conf/perl-5.28.2/.cpanplus/5.28.2/build/XI3A_9Udil/Protocol-HTTP-1.1.2/clib/src/panda/protocol/http/Fields.h: In instantiation of ‘void panda::protocol::http::Fields<T, CASE_SENSITIVE, PRERESERVE>::set(const string&, const T&) [with T = panda::basic_string<char>; bool CASE_SENSITIVE = false; long unsigned int PRERESERVE = 2; panda::string = panda::basic_string<char>]’:
/home/cpan/pit/bare-qm/conf/perl-5.28.2/.cpanplus/5.28.2/build/XI3A_9Udil/Protocol-HTTP-1.1.2/clib/src/panda/protocol/http/Message.h:87:67:   required from here
/home/cpan/pit/bare-qm/conf/perl-5.28.2/.cpanplus/5.28.2/build/XI3A_9Udil/Protocol-HTTP-1.1.2/clib/src/panda/protocol/http/Fields.h:105:34: warning: implicitly-declared ‘constexpr boost::container::vec_iterator<panda::protocol::http::Fields<panda::basic_string<char>, false, 2>::Field*, false>& boost::container::vec_iterator<panda::protocol::http::Fields<panda::basic_string<char>, false, 2>::Field*, false>::operator=(const boost::container::vec_iterator<panda::protocol::http::Fields<panda::basic_string<char>, false, 2>::Field*, false>&)’ is deprecated [-Wdeprecated-copy]
  105 |                 if (replaced) it = fields.erase(it);
In file included from /home/cpan/pit/jail/WO_rNORkzw/lib/perl5/XS/libboost/mini.x/i/boost/container/small_vector.hpp:27,
                 from /home/cpan/pit/bare-qm/conf/perl-5.28.2/.cpanplus/5.28.2/build/XI3A_9Udil/Protocol-HTTP-1.1.2/clib/src/panda/protocol/http/Body.h:5,
                 from /home/cpan/pit/bare-qm/conf/perl-5.28.2/.cpanplus/5.28.2/build/XI3A_9Udil/Protocol-HTTP-1.1.2/clib/src/panda/protocol/http/Message.h:2,
                 from /home/cpan/pit/bare-qm/conf/perl-5.28.2/.cpanplus/5.28.2/build/XI3A_9Udil/Protocol-HTTP-1.1.2/clib/src/panda/protocol/http/Response.h:2,
                 from /home/cpan/pit/bare-qm/conf/perl-5.28.2/.cpanplus/5.28.2/build/XI3A_9Udil/Protocol-HTTP-1.1.2/clib/src/panda/protocol/http/Request.h:2,
                 from /home/cpan/pit/bare-qm/conf/perl-5.28.2/.cpanplus/5.28.2/build/XI3A_9Udil/Protocol-HTTP-1.1.2/clib/src/panda/protocol/http/MessageParser.h:2,
                 from /home/cpan/pit/bare-qm/conf/perl-5.28.2/.cpanplus/5.28.2/build/XI3A_9Udil/Protocol-HTTP-1.1.2/clib/src/panda/protocol/http/RequestParser.h:3,
                 from /home/cpan/pit/bare-qm/conf/perl-5.28.2/.cpanplus/5.28.2/build/XI3A_9Udil/Protocol-HTTP-1.1.2/clib/src/panda/protocol/http.h:2,
                 from /home/cpan/pit/bare-qm/conf/perl-5.28.2/.cpanplus/5.28.2/build/XI3A_9Udil/Protocol-HTTP-1.1.2/clib/tests/parse/../test.h:3,
                 from /home/cpan/pit/bare-qm/conf/perl-5.28.2/.cpanplus/5.28.2/build/XI3A_9Udil/Protocol-HTTP-1.1.2/clib/tests/parse/compression.cc:1:
/home/cpan/pit/jail/WO_rNORkzw/lib/perl5/XS/libboost/mini.x/i/boost/container/vector.hpp:119:32: note: because ‘boost::container::vec_iterator<panda::protocol::http::Fields<panda::basic_string<char>, false, 2>::Field*, false>’ has user-provided ‘boost::container::vec_iterator<Pointer, IsConst>::vec_iterator(const boost::container::vec_iterator<Pointer, false>&) [with Pointer = panda::protocol::http::Fields<panda::basic_string<char>, false, 2>::Field*; bool IsConst = false]’
  119 |    BOOST_CONTAINER_FORCEINLINE vec_iterator(vec_iterator<Pointer, false> const& other) BOOST_NOEXCEPT_OR_NOTHROW
      |                                ^~~~~~~~~~~~
[ 80%] Building CXX object ../build/CMakeFiles/panda-protocol-http-tests.dir/tests/parse/content-length.cc.o
In file included from /home/cpan/pit/bare-qm/conf/perl-5.28.2/.cpanplus/5.28.2/build/XI3A_9Udil/Protocol-HTTP-1.1.2/clib/src/panda/protocol/http/Headers.h:3,
                 from /home/cpan/pit/bare-qm/conf/perl-5.28.2/.cpanplus/5.28.2/build/XI3A_9Udil/Protocol-HTTP-1.1.2/clib/src/panda/protocol/http/Message.h:4,
                 from /home/cpan/pit/bare-qm/conf/perl-5.28.2/.cpanplus/5.28.2/build/XI3A_9Udil/Protocol-HTTP-1.1.2/clib/src/panda/protocol/http/Response.h:2,
                 from /home/cpan/pit/bare-qm/conf/perl-5.28.2/.cpanplus/5.28.2/build/XI3A_9Udil/Protocol-HTTP-1.1.2/clib/src/panda/protocol/http/Request.h:2,
                 from /home/cpan/pit/bare-qm/conf/perl-5.28.2/.cpanplus/5.28.2/build/XI3A_9Udil/Protocol-HTTP-1.1.2/clib/src/panda/protocol/http/MessageParser.h:2,
                 from /home/cpan/pit/bare-qm/conf/perl-5.28.2/.cpanplus/5.28.2/build/XI3A_9Udil/Protocol-HTTP-1.1.2/clib/src/panda/protocol/http/RequestParser.h:3,
                 from /home/cpan/pit/bare-qm/conf/perl-5.28.2/.cpanplus/5.28.2/build/XI3A_9Udil/Protocol-HTTP-1.1.2/clib/src/panda/protocol/http.h:2,
                 from /home/cpan/pit/bare-qm/conf/perl-5.28.2/.cpanplus/5.28.2/build/XI3A_9Udil/Protocol-HTTP-1.1.2/clib/tests/parse/../test.h:3,
                 from /home/cpan/pit/bare-qm/conf/perl-5.28.2/.cpanplus/5.28.2/build/XI3A_9Udil/Protocol-HTTP-1.1.2/clib/tests/parse/content-length.cc:1:
/home/cpan/pit/bare-qm/conf/perl-5.28.2/.cpanplus/5.28.2/build/XI3A_9Udil/Protocol-HTTP-1.1.2/clib/src/panda/protocol/http/Fields.h: In instantiation of ‘void panda::protocol::http::Fields<T, CASE_SENSITIVE, PRERESERVE>::set(const string&, const T&) [with T = panda::basic_string<char>; bool CASE_SENSITIVE = false; long unsigned int PRERESERVE = 2; panda::string = panda::basic_string<char>]’:
/home/cpan/pit/bare-qm/conf/perl-5.28.2/.cpanplus/5.28.2/build/XI3A_9Udil/Protocol-HTTP-1.1.2/clib/src/panda/protocol/http/Message.h:87:67:   required from here
/home/cpan/pit/bare-qm/conf/perl-5.28.2/.cpanplus/5.28.2/build/XI3A_9Udil/Protocol-HTTP-1.1.2/clib/src/panda/protocol/http/Fields.h:105:34: warning: implicitly-declared ‘constexpr boost::container::vec_iterator<panda::protocol::http::Fields<panda::basic_string<char>, false, 2>::Field*, false>& boost::container::vec_iterator<panda::protocol::http::Fields<panda::basic_string<char>, false, 2>::Field*, false>::operator=(const boost::container::vec_iterator<panda::protocol::http::Fields<panda::basic_string<char>, false, 2>::Field*, false>&)’ is deprecated [-Wdeprecated-copy]
  105 |                 if (replaced) it = fields.erase(it);
In file included from /home/cpan/pit/jail/WO_rNORkzw/lib/perl5/XS/libboost/mini.x/i/boost/container/small_vector.hpp:27,
                 from /home/cpan/pit/bare-qm/conf/perl-5.28.2/.cpanplus/5.28.2/build/XI3A_9Udil/Protocol-HTTP-1.1.2/clib/src/panda/protocol/http/Body.h:5,
                 from /home/cpan/pit/bare-qm/conf/perl-5.28.2/.cpanplus/5.28.2/build/XI3A_9Udil/Protocol-HTTP-1.1.2/clib/src/panda/protocol/http/Message.h:2,
                 from /home/cpan/pit/bare-qm/conf/perl-5.28.2/.cpanplus/5.28.2/build/XI3A_9Udil/Protocol-HTTP-1.1.2/clib/src/panda/protocol/http/Response.h:2,
                 from /home/cpan/pit/bare-qm/conf/perl-5.28.2/.cpanplus/5.28.2/build/XI3A_9Udil/Protocol-HTTP-1.1.2/clib/src/panda/protocol/http/Request.h:2,
                 from /home/cpan/pit/bare-qm/conf/perl-5.28.2/.cpanplus/5.28.2/build/XI3A_9Udil/Protocol-HTTP-1.1.2/clib/src/panda/protocol/http/MessageParser.h:2,
                 from /home/cpan/pit/bare-qm/conf/perl-5.28.2/.cpanplus/5.28.2/build/XI3A_9Udil/Protocol-HTTP-1.1.2/clib/src/panda/protocol/http/RequestParser.h:3,
                 from /home/cpan/pit/bare-qm/conf/perl-5.28.2/.cpanplus/5.28.2/build/XI3A_9Udil/Protocol-HTTP-1.1.2/clib/src/panda/protocol/http.h:2,
                 from /home/cpan/pit/bare-qm/conf/perl-5.28.2/.cpanplus/5.28.2/build/XI3A_9Udil/Protocol-HTTP-1.1.2/clib/tests/parse/../test.h:3,
                 from /home/cpan/pit/bare-qm/conf/perl-5.28.2/.cpanplus/5.28.2/build/XI3A_9Udil/Protocol-HTTP-1.1.2/clib/tests/parse/content-length.cc:1:
/home/cpan/pit/jail/WO_rNORkzw/lib/perl5/XS/libboost/mini.x/i/boost/container/vector.hpp:119:32: note: because ‘boost::container::vec_iterator<panda::protocol::http::Fields<panda::basic_string<char>, false, 2>::Field*, false>’ has user-provided ‘boost::container::vec_iterator<Pointer, IsConst>::vec_iterator(const boost::container::vec_iterator<Pointer, false>&) [with Pointer = panda::protocol::http::Fields<panda::basic_string<char>, false, 2>::Field*; bool IsConst = false]’
  119 |    BOOST_CONTAINER_FORCEINLINE vec_iterator(vec_iterator<Pointer, false> const& other) BOOST_NOEXCEPT_OR_NOTHROW
      |                                ^~~~~~~~~~~~
[ 83%] Building CXX object ../build/CMakeFiles/panda-protocol-http-tests.dir/tests/parse/cookies.cc.o
In file included from /home/cpan/pit/bare-qm/conf/perl-5.28.2/.cpanplus/5.28.2/build/XI3A_9Udil/Protocol-HTTP-1.1.2/clib/src/panda/protocol/http/Headers.h:3,
                 from /home/cpan/pit/bare-qm/conf/perl-5.28.2/.cpanplus/5.28.2/build/XI3A_9Udil/Protocol-HTTP-1.1.2/clib/src/panda/protocol/http/Message.h:4,
                 from /home/cpan/pit/bare-qm/conf/perl-5.28.2/.cpanplus/5.28.2/build/XI3A_9Udil/Protocol-HTTP-1.1.2/clib/src/panda/protocol/http/Response.h:2,
                 from /home/cpan/pit/bare-qm/conf/perl-5.28.2/.cpanplus/5.28.2/build/XI3A_9Udil/Protocol-HTTP-1.1.2/clib/src/panda/protocol/http/Request.h:2,
                 from /home/cpan/pit/bare-qm/conf/perl-5.28.2/.cpanplus/5.28.2/build/XI3A_9Udil/Protocol-HTTP-1.1.2/clib/src/panda/protocol/http/MessageParser.h:2,
                 from /home/cpan/pit/bare-qm/conf/perl-5.28.2/.cpanplus/5.28.2/build/XI3A_9Udil/Protocol-HTTP-1.1.2/clib/src/panda/protocol/http/RequestParser.h:3,
                 from /home/cpan/pit/bare-qm/conf/perl-5.28.2/.cpanplus/5.28.2/build/XI3A_9Udil/Protocol-HTTP-1.1.2/clib/src/panda/protocol/http.h:2,
                 from /home/cpan/pit/bare-qm/conf/perl-5.28.2/.cpanplus/5.28.2/build/XI3A_9Udil/Protocol-HTTP-1.1.2/clib/tests/parse/../test.h:3,
                 from /home/cpan/pit/bare-qm/conf/perl-5.28.2/.cpanplus/5.28.2/build/XI3A_9Udil/Protocol-HTTP-1.1.2/clib/tests/parse/cookies.cc:1:
/home/cpan/pit/bare-qm/conf/perl-5.28.2/.cpanplus/5.28.2/build/XI3A_9Udil/Protocol-HTTP-1.1.2/clib/src/panda/protocol/http/Fields.h: In instantiation of ‘void panda::protocol::http::Fields<T, CASE_SENSITIVE, PRERESERVE>::set(const string&, const T&) [with T = panda::basic_string<char>; bool CASE_SENSITIVE = false; long unsigned int PRERESERVE = 2; panda::string = panda::basic_string<char>]’:
/home/cpan/pit/bare-qm/conf/perl-5.28.2/.cpanplus/5.28.2/build/XI3A_9Udil/Protocol-HTTP-1.1.2/clib/src/panda/protocol/http/Message.h:87:67:   required from here
/home/cpan/pit/bare-qm/conf/perl-5.28.2/.cpanplus/5.28.2/build/XI3A_9Udil/Protocol-HTTP-1.1.2/clib/src/panda/protocol/http/Fields.h:105:34: warning: implicitly-declared ‘constexpr boost::container::vec_iterator<panda::protocol::http::Fields<panda::basic_string<char>, false, 2>::Field*, false>& boost::container::vec_iterator<panda::protocol::http::Fields<panda::basic_string<char>, false, 2>::Field*, false>::operator=(const boost::container::vec_iterator<panda::protocol::http::Fields<panda::basic_string<char>, false, 2>::Field*, false>&)’ is deprecated [-Wdeprecated-copy]
  105 |                 if (replaced) it = fields.erase(it);
In file included from /home/cpan/pit/jail/WO_rNORkzw/lib/perl5/XS/libboost/mini.x/i/boost/container/small_vector.hpp:27,
                 from /home/cpan/pit/bare-qm/conf/perl-5.28.2/.cpanplus/5.28.2/build/XI3A_9Udil/Protocol-HTTP-1.1.2/clib/src/panda/protocol/http/Body.h:5,
                 from /home/cpan/pit/bare-qm/conf/perl-5.28.2/.cpanplus/5.28.2/build/XI3A_9Udil/Protocol-HTTP-1.1.2/clib/src/panda/protocol/http/Message.h:2,
                 from /home/cpan/pit/bare-qm/conf/perl-5.28.2/.cpanplus/5.28.2/build/XI3A_9Udil/Protocol-HTTP-1.1.2/clib/src/panda/protocol/http/Response.h:2,
                 from /home/cpan/pit/bare-qm/conf/perl-5.28.2/.cpanplus/5.28.2/build/XI3A_9Udil/Protocol-HTTP-1.1.2/clib/src/panda/protocol/http/Request.h:2,
                 from /home/cpan/pit/bare-qm/conf/perl-5.28.2/.cpanplus/5.28.2/build/XI3A_9Udil/Protocol-HTTP-1.1.2/clib/src/panda/protocol/http/MessageParser.h:2,
                 from /home/cpan/pit/bare-qm/conf/perl-5.28.2/.cpanplus/5.28.2/build/XI3A_9Udil/Protocol-HTTP-1.1.2/clib/src/panda/protocol/http/RequestParser.h:3,
                 from /home/cpan/pit/bare-qm/conf/perl-5.28.2/.cpanplus/5.28.2/build/XI3A_9Udil/Protocol-HTTP-1.1.2/clib/src/panda/protocol/http.h:2,
                 from /home/cpan/pit/bare-qm/conf/perl-5.28.2/.cpanplus/5.28.2/build/XI3A_9Udil/Protocol-HTTP-1.1.2/clib/tests/parse/../test.h:3,
                 from /home/cpan/pit/bare-qm/conf/perl-5.28.2/.cpanplus/5.28.2/build/XI3A_9Udil/Protocol-HTTP-1.1.2/clib/tests/parse/cookies.cc:1:
/home/cpan/pit/jail/WO_rNORkzw/lib/perl5/XS/libboost/mini.x/i/boost/container/vector.hpp:119:32: note: because ‘boost::container::vec_iterator<panda::protocol::http::Fields<panda::basic_string<char>, false, 2>::Field*, false>’ has user-provided ‘boost::container::vec_iterator<Pointer, IsConst>::vec_iterator(const boost::container::vec_iterator<Pointer, false>&) [with Pointer = panda::protocol::http::Fields<panda::basic_string<char>, false, 2>::Field*; bool IsConst = false]’
  119 |    BOOST_CONTAINER_FORCEINLINE vec_iterator(vec_iterator<Pointer, false> const& other) BOOST_NOEXCEPT_OR_NOTHROW
      |                                ^~~~~~~~~~~~
[ 86%] Building CXX object ../build/CMakeFiles/panda-protocol-http-tests.dir/tests/parse/message.cc.o
In file included from /home/cpan/pit/bare-qm/conf/perl-5.28.2/.cpanplus/5.28.2/build/XI3A_9Udil/Protocol-HTTP-1.1.2/clib/src/panda/protocol/http/Headers.h:3,
                 from /home/cpan/pit/bare-qm/conf/perl-5.28.2/.cpanplus/5.28.2/build/XI3A_9Udil/Protocol-HTTP-1.1.2/clib/src/panda/protocol/http/Message.h:4,
                 from /home/cpan/pit/bare-qm/conf/perl-5.28.2/.cpanplus/5.28.2/build/XI3A_9Udil/Protocol-HTTP-1.1.2/clib/src/panda/protocol/http/Response.h:2,
                 from /home/cpan/pit/bare-qm/conf/perl-5.28.2/.cpanplus/5.28.2/build/XI3A_9Udil/Protocol-HTTP-1.1.2/clib/src/panda/protocol/http/Request.h:2,
                 from /home/cpan/pit/bare-qm/conf/perl-5.28.2/.cpanplus/5.28.2/build/XI3A_9Udil/Protocol-HTTP-1.1.2/clib/src/panda/protocol/http/MessageParser.h:2,
                 from /home/cpan/pit/bare-qm/conf/perl-5.28.2/.cpanplus/5.28.2/build/XI3A_9Udil/Protocol-HTTP-1.1.2/clib/src/panda/protocol/http/RequestParser.h:3,
                 from /home/cpan/pit/bare-qm/conf/perl-5.28.2/.cpanplus/5.28.2/build/XI3A_9Udil/Protocol-HTTP-1.1.2/clib/src/panda/protocol/http.h:2,
                 from /home/cpan/pit/bare-qm/conf/perl-5.28.2/.cpanplus/5.28.2/build/XI3A_9Udil/Protocol-HTTP-1.1.2/clib/tests/parse/../test.h:3,
                 from /home/cpan/pit/bare-qm/conf/perl-5.28.2/.cpanplus/5.28.2/build/XI3A_9Udil/Protocol-HTTP-1.1.2/clib/tests/parse/message.cc:1:
/home/cpan/pit/bare-qm/conf/perl-5.28.2/.cpanplus/5.28.2/build/XI3A_9Udil/Protocol-HTTP-1.1.2/clib/src/panda/protocol/http/Fields.h: In instantiation of ‘void panda::protocol::http::Fields<T, CASE_SENSITIVE, PRERESERVE>::set(const string&, const T&) [with T = panda::basic_string<char>; bool CASE_SENSITIVE = false; long unsigned int PRERESERVE = 2; panda::string = panda::basic_string<char>]’:
/home/cpan/pit/bare-qm/conf/perl-5.28.2/.cpanplus/5.28.2/build/XI3A_9Udil/Protocol-HTTP-1.1.2/clib/src/panda/protocol/http/Message.h:87:67:   required from here
/home/cpan/pit/bare-qm/conf/perl-5.28.2/.cpanplus/5.28.2/build/XI3A_9Udil/Protocol-HTTP-1.1.2/clib/src/panda/protocol/http/Fields.h:105:34: warning: implicitly-declared ‘constexpr boost::container::vec_iterator<panda::protocol::http::Fields<panda::basic_string<char>, false, 2>::Field*, false>& boost::container::vec_iterator<panda::protocol::http::Fields<panda::basic_string<char>, false, 2>::Field*, false>::operator=(const boost::container::vec_iterator<panda::protocol::http::Fields<panda::basic_string<char>, false, 2>::Field*, false>&)’ is deprecated [-Wdeprecated-copy]
  105 |                 if (replaced) it = fields.erase(it);
In file included from /home/cpan/pit/jail/WO_rNORkzw/lib/perl5/XS/libboost/mini.x/i/boost/container/small_vector.hpp:27,
                 from /home/cpan/pit/bare-qm/conf/perl-5.28.2/.cpanplus/5.28.2/build/XI3A_9Udil/Protocol-HTTP-1.1.2/clib/src/panda/protocol/http/Body.h:5,
                 from /home/cpan/pit/bare-qm/conf/perl-5.28.2/.cpanplus/5.28.2/build/XI3A_9Udil/Protocol-HTTP-1.1.2/clib/src/panda/protocol/http/Message.h:2,
                 from /home/cpan/pit/bare-qm/conf/perl-5.28.2/.cpanplus/5.28.2/build/XI3A_9Udil/Protocol-HTTP-1.1.2/clib/src/panda/protocol/http/Response.h:2,
                 from /home/cpan/pit/bare-qm/conf/perl-5.28.2/.cpanplus/5.28.2/build/XI3A_9Udil/Protocol-HTTP-1.1.2/clib/src/panda/protocol/http/Request.h:2,
                 from /home/cpan/pit/bare-qm/conf/perl-5.28.2/.cpanplus/5.28.2/build/XI3A_9Udil/Protocol-HTTP-1.1.2/clib/src/panda/protocol/http/MessageParser.h:2,
                 from /home/cpan/pit/bare-qm/conf/perl-5.28.2/.cpanplus/5.28.2/build/XI3A_9Udil/Protocol-HTTP-1.1.2/clib/src/panda/protocol/http/RequestParser.h:3,
                 from /home/cpan/pit/bare-qm/conf/perl-5.28.2/.cpanplus/5.28.2/build/XI3A_9Udil/Protocol-HTTP-1.1.2/clib/src/panda/protocol/http.h:2,
                 from /home/cpan/pit/bare-qm/conf/perl-5.28.2/.cpanplus/5.28.2/build/XI3A_9Udil/Protocol-HTTP-1.1.2/clib/tests/parse/../test.h:3,
                 from /home/cpan/pit/bare-qm/conf/perl-5.28.2/.cpanplus/5.28.2/build/XI3A_9Udil/Protocol-HTTP-1.1.2/clib/tests/parse/message.cc:1:
/home/cpan/pit/jail/WO_rNORkzw/lib/perl5/XS/libboost/mini.x/i/boost/container/vector.hpp:119:32: note: because ‘boost::container::vec_iterator<panda::protocol::http::Fields<panda::basic_string<char>, false, 2>::Field*, false>’ has user-provided ‘boost::container::vec_iterator<Pointer, IsConst>::vec_iterator(const boost::container::vec_iterator<Pointer, false>&) [with Pointer = panda::protocol::http::Fields<panda::basic_string<char>, false, 2>::Field*; bool IsConst = false]’
  119 |    BOOST_CONTAINER_FORCEINLINE vec_iterator(vec_iterator<Pointer, false> const& other) BOOST_NOEXCEPT_OR_NOTHROW
      |                                ^~~~~~~~~~~~
[ 88%] Building CXX object ../build/CMakeFiles/panda-protocol-http-tests.dir/tests/parse/request.cc.o
In file included from /home/cpan/pit/bare-qm/conf/perl-5.28.2/.cpanplus/5.28.2/build/XI3A_9Udil/Protocol-HTTP-1.1.2/clib/src/panda/protocol/http/Headers.h:3,
                 from /home/cpan/pit/bare-qm/conf/perl-5.28.2/.cpanplus/5.28.2/build/XI3A_9Udil/Protocol-HTTP-1.1.2/clib/src/panda/protocol/http/Message.h:4,
                 from /home/cpan/pit/bare-qm/conf/perl-5.28.2/.cpanplus/5.28.2/build/XI3A_9Udil/Protocol-HTTP-1.1.2/clib/src/panda/protocol/http/Response.h:2,
                 from /home/cpan/pit/bare-qm/conf/perl-5.28.2/.cpanplus/5.28.2/build/XI3A_9Udil/Protocol-HTTP-1.1.2/clib/src/panda/protocol/http/Request.h:2,
                 from /home/cpan/pit/bare-qm/conf/perl-5.28.2/.cpanplus/5.28.2/build/XI3A_9Udil/Protocol-HTTP-1.1.2/clib/src/panda/protocol/http/MessageParser.h:2,
                 from /home/cpan/pit/bare-qm/conf/perl-5.28.2/.cpanplus/5.28.2/build/XI3A_9Udil/Protocol-HTTP-1.1.2/clib/src/panda/protocol/http/RequestParser.h:3,
                 from /home/cpan/pit/bare-qm/conf/perl-5.28.2/.cpanplus/5.28.2/build/XI3A_9Udil/Protocol-HTTP-1.1.2/clib/src/panda/protocol/http.h:2,
                 from /home/cpan/pit/bare-qm/conf/perl-5.28.2/.cpanplus/5.28.2/build/XI3A_9Udil/Protocol-HTTP-1.1.2/clib/tests/parse/../test.h:3,
                 from /home/cpan/pit/bare-qm/conf/perl-5.28.2/.cpanplus/5.28.2/build/XI3A_9Udil/Protocol-HTTP-1.1.2/clib/tests/parse/request.cc:1:
/home/cpan/pit/bare-qm/conf/perl-5.28.2/.cpanplus/5.28.2/build/XI3A_9Udil/Protocol-HTTP-1.1.2/clib/src/panda/protocol/http/Fields.h: In instantiation of ‘void panda::protocol::http::Fields<T, CASE_SENSITIVE, PRERESERVE>::set(const string&, const T&) [with T = panda::basic_string<char>; bool CASE_SENSITIVE = false; long unsigned int PRERESERVE = 2; panda::string = panda::basic_string<char>]’:
/home/cpan/pit/bare-qm/conf/perl-5.28.2/.cpanplus/5.28.2/build/XI3A_9Udil/Protocol-HTTP-1.1.2/clib/src/panda/protocol/http/Message.h:87:67:   required from here
/home/cpan/pit/bare-qm/conf/perl-5.28.2/.cpanplus/5.28.2/build/XI3A_9Udil/Protocol-HTTP-1.1.2/clib/src/panda/protocol/http/Fields.h:105:34: warning: implicitly-declared ‘constexpr boost::container::vec_iterator<panda::protocol::http::Fields<panda::basic_string<char>, false, 2>::Field*, false>& boost::container::vec_iterator<panda::protocol::http::Fields<panda::basic_string<char>, false, 2>::Field*, false>::operator=(const boost::container::vec_iterator<panda::protocol::http::Fields<panda::basic_string<char>, false, 2>::Field*, false>&)’ is deprecated [-Wdeprecated-copy]
  105 |                 if (replaced) it = fields.erase(it);
In file included from /home/cpan/pit/jail/WO_rNORkzw/lib/perl5/XS/libboost/mini.x/i/boost/container/small_vector.hpp:27,
                 from /home/cpan/pit/bare-qm/conf/perl-5.28.2/.cpanplus/5.28.2/build/XI3A_9Udil/Protocol-HTTP-1.1.2/clib/src/panda/protocol/http/Body.h:5,
                 from /home/cpan/pit/bare-qm/conf/perl-5.28.2/.cpanplus/5.28.2/build/XI3A_9Udil/Protocol-HTTP-1.1.2/clib/src/panda/protocol/http/Message.h:2,
                 from /home/cpan/pit/bare-qm/conf/perl-5.28.2/.cpanplus/5.28.2/build/XI3A_9Udil/Protocol-HTTP-1.1.2/clib/src/panda/protocol/http/Response.h:2,
                 from /home/cpan/pit/bare-qm/conf/perl-5.28.2/.cpanplus/5.28.2/build/XI3A_9Udil/Protocol-HTTP-1.1.2/clib/src/panda/protocol/http/Request.h:2,
                 from /home/cpan/pit/bare-qm/conf/perl-5.28.2/.cpanplus/5.28.2/build/XI3A_9Udil/Protocol-HTTP-1.1.2/clib/src/panda/protocol/http/MessageParser.h:2,
                 from /home/cpan/pit/bare-qm/conf/perl-5.28.2/.cpanplus/5.28.2/build/XI3A_9Udil/Protocol-HTTP-1.1.2/clib/src/panda/protocol/http/RequestParser.h:3,
                 from /home/cpan/pit/bare-qm/conf/perl-5.28.2/.cpanplus/5.28.2/build/XI3A_9Udil/Protocol-HTTP-1.1.2/clib/src/panda/protocol/http.h:2,
                 from /home/cpan/pit/bare-qm/conf/perl-5.28.2/.cpanplus/5.28.2/build/XI3A_9Udil/Protocol-HTTP-1.1.2/clib/tests/parse/../test.h:3,
                 from /home/cpan/pit/bare-qm/conf/perl-5.28.2/.cpanplus/5.28.2/build/XI3A_9Udil/Protocol-HTTP-1.1.2/clib/tests/parse/request.cc:1:
/home/cpan/pit/jail/WO_rNORkzw/lib/perl5/XS/libboost/mini.x/i/boost/container/vector.hpp:119:32: note: because ‘boost::container::vec_iterator<panda::protocol::http::Fields<panda::basic_string<char>, false, 2>::Field*, false>’ has user-provided ‘boost::container::vec_iterator<Pointer, IsConst>::vec_iterator(const boost::container::vec_iterator<Pointer, false>&) [with Pointer = panda::protocol::http::Fields<panda::basic_string<char>, false, 2>::Field*; bool IsConst = false]’
  119 |    BOOST_CONTAINER_FORCEINLINE vec_iterator(vec_iterator<Pointer, false> const& other) BOOST_NOEXCEPT_OR_NOTHROW
      |                                ^~~~~~~~~~~~
[ 91%] Building CXX object ../build/CMakeFiles/panda-protocol-http-tests.dir/tests/parse/response.cc.o
In file included from /home/cpan/pit/bare-qm/conf/perl-5.28.2/.cpanplus/5.28.2/build/XI3A_9Udil/Protocol-HTTP-1.1.2/clib/src/panda/protocol/http/Headers.h:3,
                 from /home/cpan/pit/bare-qm/conf/perl-5.28.2/.cpanplus/5.28.2/build/XI3A_9Udil/Protocol-HTTP-1.1.2/clib/src/panda/protocol/http/Message.h:4,
                 from /home/cpan/pit/bare-qm/conf/perl-5.28.2/.cpanplus/5.28.2/build/XI3A_9Udil/Protocol-HTTP-1.1.2/clib/src/panda/protocol/http/Response.h:2,
                 from /home/cpan/pit/bare-qm/conf/perl-5.28.2/.cpanplus/5.28.2/build/XI3A_9Udil/Protocol-HTTP-1.1.2/clib/src/panda/protocol/http/Request.h:2,
                 from /home/cpan/pit/bare-qm/conf/perl-5.28.2/.cpanplus/5.28.2/build/XI3A_9Udil/Protocol-HTTP-1.1.2/clib/src/panda/protocol/http/MessageParser.h:2,
                 from /home/cpan/pit/bare-qm/conf/perl-5.28.2/.cpanplus/5.28.2/build/XI3A_9Udil/Protocol-HTTP-1.1.2/clib/src/panda/protocol/http/RequestParser.h:3,
                 from /home/cpan/pit/bare-qm/conf/perl-5.28.2/.cpanplus/5.28.2/build/XI3A_9Udil/Protocol-HTTP-1.1.2/clib/src/panda/protocol/http.h:2,
                 from /home/cpan/pit/bare-qm/conf/perl-5.28.2/.cpanplus/5.28.2/build/XI3A_9Udil/Protocol-HTTP-1.1.2/clib/tests/parse/../test.h:3,
                 from /home/cpan/pit/bare-qm/conf/perl-5.28.2/.cpanplus/5.28.2/build/XI3A_9Udil/Protocol-HTTP-1.1.2/clib/tests/parse/response.cc:1:
/home/cpan/pit/bare-qm/conf/perl-5.28.2/.cpanplus/5.28.2/build/XI3A_9Udil/Protocol-HTTP-1.1.2/clib/src/panda/protocol/http/Fields.h: In instantiation of ‘void panda::protocol::http::Fields<T, CASE_SENSITIVE, PRERESERVE>::set(const string&, const T&) [with T = panda::basic_string<char>; bool CASE_SENSITIVE = false; long unsigned int PRERESERVE = 2; panda::string = panda::basic_string<char>]’:
/home/cpan/pit/bare-qm/conf/perl-5.28.2/.cpanplus/5.28.2/build/XI3A_9Udil/Protocol-HTTP-1.1.2/clib/src/panda/protocol/http/Message.h:87:67:   required from here
/home/cpan/pit/bare-qm/conf/perl-5.28.2/.cpanplus/5.28.2/build/XI3A_9Udil/Protocol-HTTP-1.1.2/clib/src/panda/protocol/http/Fields.h:105:34: warning: implicitly-declared ‘constexpr boost::container::vec_iterator<panda::protocol::http::Fields<panda::basic_string<char>, false, 2>::Field*, false>& boost::container::vec_iterator<panda::protocol::http::Fields<panda::basic_string<char>, false, 2>::Field*, false>::operator=(const boost::container::vec_iterator<panda::protocol::http::Fields<panda::basic_string<char>, false, 2>::Field*, false>&)’ is deprecated [-Wdeprecated-copy]
  105 |                 if (replaced) it = fields.erase(it);
In file included from /home/cpan/pit/jail/WO_rNORkzw/lib/perl5/XS/libboost/mini.x/i/boost/container/small_vector.hpp:27,
                 from /home/cpan/pit/bare-qm/conf/perl-5.28.2/.cpanplus/5.28.2/build/XI3A_9Udil/Protocol-HTTP-1.1.2/clib/src/panda/protocol/http/Body.h:5,
                 from /home/cpan/pit/bare-qm/conf/perl-5.28.2/.cpanplus/5.28.2/build/XI3A_9Udil/Protocol-HTTP-1.1.2/clib/src/panda/protocol/http/Message.h:2,
                 from /home/cpan/pit/bare-qm/conf/perl-5.28.2/.cpanplus/5.28.2/build/XI3A_9Udil/Protocol-HTTP-1.1.2/clib/src/panda/protocol/http/Response.h:2,
                 from /home/cpan/pit/bare-qm/conf/perl-5.28.2/.cpanplus/5.28.2/build/XI3A_9Udil/Protocol-HTTP-1.1.2/clib/src/panda/protocol/http/Request.h:2,
                 from /home/cpan/pit/bare-qm/conf/perl-5.28.2/.cpanplus/5.28.2/build/XI3A_9Udil/Protocol-HTTP-1.1.2/clib/src/panda/protocol/http/MessageParser.h:2,
                 from /home/cpan/pit/bare-qm/conf/perl-5.28.2/.cpanplus/5.28.2/build/XI3A_9Udil/Protocol-HTTP-1.1.2/clib/src/panda/protocol/http/RequestParser.h:3,
                 from /home/cpan/pit/bare-qm/conf/perl-5.28.2/.cpanplus/5.28.2/build/XI3A_9Udil/Protocol-HTTP-1.1.2/clib/src/panda/protocol/http.h:2,
                 from /home/cpan/pit/bare-qm/conf/perl-5.28.2/.cpanplus/5.28.2/build/XI3A_9Udil/Protocol-HTTP-1.1.2/clib/tests/parse/../test.h:3,
                 from /home/cpan/pit/bare-qm/conf/perl-5.28.2/.cpanplus/5.28.2/build/XI3A_9Udil/Protocol-HTTP-1.1.2/clib/tests/parse/response.cc:1:
/home/cpan/pit/jail/WO_rNORkzw/lib/perl5/XS/libboost/mini.x/i/boost/container/vector.hpp:119:32: note: because ‘boost::container::vec_iterator<panda::protocol::http::Fields<panda::basic_string<char>, false, 2>::Field*, false>’ has user-provided ‘boost::container::vec_iterator<Pointer, IsConst>::vec_iterator(const boost::container::vec_iterator<Pointer, false>&) [with Pointer = panda::protocol::http::Fields<panda::basic_string<char>, false, 2>::Field*; bool IsConst = false]’
  119 |    BOOST_CONTAINER_FORCEINLINE vec_iterator(vec_iterator<Pointer, false> const& other) BOOST_NOEXCEPT_OR_NOTHROW
      |                                ^~~~~~~~~~~~
[ 94%] Building CXX object ../build/CMakeFiles/panda-protocol-http-tests.dir/tests/parse/special-codes.cc.o
In file included from /home/cpan/pit/bare-qm/conf/perl-5.28.2/.cpanplus/5.28.2/build/XI3A_9Udil/Protocol-HTTP-1.1.2/clib/src/panda/protocol/http/Headers.h:3,
                 from /home/cpan/pit/bare-qm/conf/perl-5.28.2/.cpanplus/5.28.2/build/XI3A_9Udil/Protocol-HTTP-1.1.2/clib/src/panda/protocol/http/Message.h:4,
                 from /home/cpan/pit/bare-qm/conf/perl-5.28.2/.cpanplus/5.28.2/build/XI3A_9Udil/Protocol-HTTP-1.1.2/clib/src/panda/protocol/http/Response.h:2,
                 from /home/cpan/pit/bare-qm/conf/perl-5.28.2/.cpanplus/5.28.2/build/XI3A_9Udil/Protocol-HTTP-1.1.2/clib/src/panda/protocol/http/Request.h:2,
                 from /home/cpan/pit/bare-qm/conf/perl-5.28.2/.cpanplus/5.28.2/build/XI3A_9Udil/Protocol-HTTP-1.1.2/clib/src/panda/protocol/http/MessageParser.h:2,
                 from /home/cpan/pit/bare-qm/conf/perl-5.28.2/.cpanplus/5.28.2/build/XI3A_9Udil/Protocol-HTTP-1.1.2/clib/src/panda/protocol/http/RequestParser.h:3,
                 from /home/cpan/pit/bare-qm/conf/perl-5.28.2/.cpanplus/5.28.2/build/XI3A_9Udil/Protocol-HTTP-1.1.2/clib/src/panda/protocol/http.h:2,
                 from /home/cpan/pit/bare-qm/conf/perl-5.28.2/.cpanplus/5.28.2/build/XI3A_9Udil/Protocol-HTTP-1.1.2/clib/tests/parse/../test.h:3,
                 from /home/cpan/pit/bare-qm/conf/perl-5.28.2/.cpanplus/5.28.2/build/XI3A_9Udil/Protocol-HTTP-1.1.2/clib/tests/parse/special-codes.cc:1:
/home/cpan/pit/bare-qm/conf/perl-5.28.2/.cpanplus/5.28.2/build/XI3A_9Udil/Protocol-HTTP-1.1.2/clib/src/panda/protocol/http/Fields.h: In instantiation of ‘void panda::protocol::http::Fields<T, CASE_SENSITIVE, PRERESERVE>::set(const string&, const T&) [with T = panda::basic_string<char>; bool CASE_SENSITIVE = false; long unsigned int PRERESERVE = 2; panda::string = panda::basic_string<char>]’:
/home/cpan/pit/bare-qm/conf/perl-5.28.2/.cpanplus/5.28.2/build/XI3A_9Udil/Protocol-HTTP-1.1.2/clib/src/panda/protocol/http/Message.h:87:67:   required from here
/home/cpan/pit/bare-qm/conf/perl-5.28.2/.cpanplus/5.28.2/build/XI3A_9Udil/Protocol-HTTP-1.1.2/clib/src/panda/protocol/http/Fields.h:105:34: warning: implicitly-declared ‘constexpr boost::container::vec_iterator<panda::protocol::http::Fields<panda::basic_string<char>, false, 2>::Field*, false>& boost::container::vec_iterator<panda::protocol::http::Fields<panda::basic_string<char>, false, 2>::Field*, false>::operator=(const boost::container::vec_iterator<panda::protocol::http::Fields<panda::basic_string<char>, false, 2>::Field*, false>&)’ is deprecated [-Wdeprecated-copy]
  105 |                 if (replaced) it = fields.erase(it);
In file included from /home/cpan/pit/jail/WO_rNORkzw/lib/perl5/XS/libboost/mini.x/i/boost/container/small_vector.hpp:27,
                 from /home/cpan/pit/bare-qm/conf/perl-5.28.2/.cpanplus/5.28.2/build/XI3A_9Udil/Protocol-HTTP-1.1.2/clib/src/panda/protocol/http/Body.h:5,
                 from /home/cpan/pit/bare-qm/conf/perl-5.28.2/.cpanplus/5.28.2/build/XI3A_9Udil/Protocol-HTTP-1.1.2/clib/src/panda/protocol/http/Message.h:2,
                 from /home/cpan/pit/bare-qm/conf/perl-5.28.2/.cpanplus/5.28.2/build/XI3A_9Udil/Protocol-HTTP-1.1.2/clib/src/panda/protocol/http/Response.h:2,
                 from /home/cpan/pit/bare-qm/conf/perl-5.28.2/.cpanplus/5.28.2/build/XI3A_9Udil/Protocol-HTTP-1.1.2/clib/src/panda/protocol/http/Request.h:2,
                 from /home/cpan/pit/bare-qm/conf/perl-5.28.2/.cpanplus/5.28.2/build/XI3A_9Udil/Protocol-HTTP-1.1.2/clib/src/panda/protocol/http/MessageParser.h:2,
                 from /home/cpan/pit/bare-qm/conf/perl-5.28.2/.cpanplus/5.28.2/build/XI3A_9Udil/Protocol-HTTP-1.1.2/clib/src/panda/protocol/http/RequestParser.h:3,
                 from /home/cpan/pit/bare-qm/conf/perl-5.28.2/.cpanplus/5.28.2/build/XI3A_9Udil/Protocol-HTTP-1.1.2/clib/src/panda/protocol/http.h:2,
                 from /home/cpan/pit/bare-qm/conf/perl-5.28.2/.cpanplus/5.28.2/build/XI3A_9Udil/Protocol-HTTP-1.1.2/clib/tests/parse/../test.h:3,
                 from /home/cpan/pit/bare-qm/conf/perl-5.28.2/.cpanplus/5.28.2/build/XI3A_9Udil/Protocol-HTTP-1.1.2/clib/tests/parse/special-codes.cc:1:
/home/cpan/pit/jail/WO_rNORkzw/lib/perl5/XS/libboost/mini.x/i/boost/container/vector.hpp:119:32: note: because ‘boost::container::vec_iterator<panda::protocol::http::Fields<panda::basic_string<char>, false, 2>::Field*, false>’ has user-provided ‘boost::container::vec_iterator<Pointer, IsConst>::vec_iterator(const boost::container::vec_iterator<Pointer, false>&) [with Pointer = panda::protocol::http::Fields<panda::basic_string<char>, false, 2>::Field*; bool IsConst = false]’
  119 |    BOOST_CONTAINER_FORCEINLINE vec_iterator(vec_iterator<Pointer, false> const& other) BOOST_NOEXCEPT_OR_NOTHROW
      |                                ^~~~~~~~~~~~
[ 97%] Building CXX object ../build/CMakeFiles/panda-protocol-http-tests.dir/tests/regression.cc.o
In file included from /home/cpan/pit/bare-qm/conf/perl-5.28.2/.cpanplus/5.28.2/build/XI3A_9Udil/Protocol-HTTP-1.1.2/clib/src/panda/protocol/http/Headers.h:3,
                 from /home/cpan/pit/bare-qm/conf/perl-5.28.2/.cpanplus/5.28.2/build/XI3A_9Udil/Protocol-HTTP-1.1.2/clib/src/panda/protocol/http/Message.h:4,
                 from /home/cpan/pit/bare-qm/conf/perl-5.28.2/.cpanplus/5.28.2/build/XI3A_9Udil/Protocol-HTTP-1.1.2/clib/src/panda/protocol/http/Response.h:2,
                 from /home/cpan/pit/bare-qm/conf/perl-5.28.2/.cpanplus/5.28.2/build/XI3A_9Udil/Protocol-HTTP-1.1.2/clib/src/panda/protocol/http/Request.h:2,
                 from /home/cpan/pit/bare-qm/conf/perl-5.28.2/.cpanplus/5.28.2/build/XI3A_9Udil/Protocol-HTTP-1.1.2/clib/src/panda/protocol/http/MessageParser.h:2,
                 from /home/cpan/pit/bare-qm/conf/perl-5.28.2/.cpanplus/5.28.2/build/XI3A_9Udil/Protocol-HTTP-1.1.2/clib/src/panda/protocol/http/RequestParser.h:3,
                 from /home/cpan/pit/bare-qm/conf/perl-5.28.2/.cpanplus/5.28.2/build/XI3A_9Udil/Protocol-HTTP-1.1.2/clib/src/panda/protocol/http.h:2,
                 from /home/cpan/pit/bare-qm/conf/perl-5.28.2/.cpanplus/5.28.2/build/XI3A_9Udil/Protocol-HTTP-1.1.2/clib/tests/test.h:3,
                 from /home/cpan/pit/bare-qm/conf/perl-5.28.2/.cpanplus/5.28.2/build/XI3A_9Udil/Protocol-HTTP-1.1.2/clib/tests/regression.cc:1:
/home/cpan/pit/bare-qm/conf/perl-5.28.2/.cpanplus/5.28.2/build/XI3A_9Udil/Protocol-HTTP-1.1.2/clib/src/panda/protocol/http/Fields.h: In instantiation of ‘void panda::protocol::http::Fields<T, CASE_SENSITIVE, PRERESERVE>::set(const string&, const T&) [with T = panda::basic_string<char>; bool CASE_SENSITIVE = false; long unsigned int PRERESERVE = 2; panda::string = panda::basic_string<char>]’:
/home/cpan/pit/bare-qm/conf/perl-5.28.2/.cpanplus/5.28.2/build/XI3A_9Udil/Protocol-HTTP-1.1.2/clib/src/panda/protocol/http/Message.h:87:67:   required from here
/home/cpan/pit/bare-qm/conf/perl-5.28.2/.cpanplus/5.28.2/build/XI3A_9Udil/Protocol-HTTP-1.1.2/clib/src/panda/protocol/http/Fields.h:105:34: warning: implicitly-declared ‘constexpr boost::container::vec_iterator<panda::protocol::http::Fields<panda::basic_string<char>, false, 2>::Field*, false>& boost::container::vec_iterator<panda::protocol::http::Fields<panda::basic_string<char>, false, 2>::Field*, false>::operator=(const boost::container::vec_iterator<panda::protocol::http::Fields<panda::basic_string<char>, false, 2>::Field*, false>&)’ is deprecated [-Wdeprecated-copy]
  105 |                 if (replaced) it = fields.erase(it);
In file included from /home/cpan/pit/jail/WO_rNORkzw/lib/perl5/XS/libboost/mini.x/i/boost/container/small_vector.hpp:27,
                 from /home/cpan/pit/bare-qm/conf/perl-5.28.2/.cpanplus/5.28.2/build/XI3A_9Udil/Protocol-HTTP-1.1.2/clib/src/panda/protocol/http/Body.h:5,
                 from /home/cpan/pit/bare-qm/conf/perl-5.28.2/.cpanplus/5.28.2/build/XI3A_9Udil/Protocol-HTTP-1.1.2/clib/src/panda/protocol/http/Message.h:2,
                 from /home/cpan/pit/bare-qm/conf/perl-5.28.2/.cpanplus/5.28.2/build/XI3A_9Udil/Protocol-HTTP-1.1.2/clib/src/panda/protocol/http/Response.h:2,
                 from /home/cpan/pit/bare-qm/conf/perl-5.28.2/.cpanplus/5.28.2/build/XI3A_9Udil/Protocol-HTTP-1.1.2/clib/src/panda/protocol/http/Request.h:2,
                 from /home/cpan/pit/bare-qm/conf/perl-5.28.2/.cpanplus/5.28.2/build/XI3A_9Udil/Protocol-HTTP-1.1.2/clib/src/panda/protocol/http/MessageParser.h:2,
                 from /home/cpan/pit/bare-qm/conf/perl-5.28.2/.cpanplus/5.28.2/build/XI3A_9Udil/Protocol-HTTP-1.1.2/clib/src/panda/protocol/http/RequestParser.h:3,
                 from /home/cpan/pit/bare-qm/conf/perl-5.28.2/.cpanplus/5.28.2/build/XI3A_9Udil/Protocol-HTTP-1.1.2/clib/src/panda/protocol/http.h:2,
                 from /home/cpan/pit/bare-qm/conf/perl-5.28.2/.cpanplus/5.28.2/build/XI3A_9Udil/Protocol-HTTP-1.1.2/clib/tests/test.h:3,
                 from /home/cpan/pit/bare-qm/conf/perl-5.28.2/.cpanplus/5.28.2/build/XI3A_9Udil/Protocol-HTTP-1.1.2/clib/tests/regression.cc:1:
/home/cpan/pit/jail/WO_rNORkzw/lib/perl5/XS/libboost/mini.x/i/boost/container/vector.hpp:119:32: note: because ‘boost::container::vec_iterator<panda::protocol::http::Fields<panda::basic_string<char>, false, 2>::Field*, false>’ has user-provided ‘boost::container::vec_iterator<Pointer, IsConst>::vec_iterator(const boost::container::vec_iterator<Pointer, false>&) [with Pointer = panda::protocol::http::Fields<panda::basic_string<char>, false, 2>::Field*; bool IsConst = false]’
  119 |    BOOST_CONTAINER_FORCEINLINE vec_iterator(vec_iterator<Pointer, false> const& other) BOOST_NOEXCEPT_OR_NOTHROW
      |                                ^~~~~~~~~~~~
[100%] Linking CXX static library libpanda-protocol-http-tests.a
[100%] Built target panda-protocol-http-tests
rm -f blib/arch/auto/MyTest/MyTest.so
c++  -shared -O2 -L/usr/local/lib -fstack-protector-strong   blib/arch/auto/Protocol/HTTP/HTTP.so -Wl,--whole-archive clib/build/libpanda-protocol-http-tests.a  -Wl,--no-whole-archive -lz -o blib/arch/auto/MyTest/MyTest.so  \
      \
  
chmod 755 blib/arch/auto/MyTest/MyTest.so
cd clib/build && make install > /dev/null 2>&1
Skip blib/arch/Protocol/HTTP/Message.pm (unchanged)
Skip blib/arch/Protocol/HTTP/RequestParser.pod (unchanged)
Skip blib/arch/Protocol/HTTP/Error.pm (unchanged)
Skip blib/arch/Protocol/HTTP/Message.pod (unchanged)
Skip blib/arch/Protocol/HTTP/Cookiejar.pm (unchanged)
Skip blib/arch/Protocol/HTTP/ResponseParser.pm (unchanged)
Skip blib/arch/Protocol/HTTP/RequestParser.pm (unchanged)
Skip blib/arch/Protocol/HTTP/Request.pm (unchanged)
Skip blib/arch/Protocol/HTTP/Cookiejar.pod (unchanged)
Skip blib/arch/Protocol/HTTP.pm (unchanged)
Skip blib/arch/Protocol/HTTP/Compression.pod (unchanged)
Skip blib/arch/Protocol/HTTP/ResponseParser.pod (unchanged)
Skip blib/arch/Protocol/HTTP/Response.pm (unchanged)
Skip blib/arch/Protocol/HTTP/Request.pod (unchanged)
Skip blib/arch/Protocol/HTTP/Response.pod (unchanged)
Skip blib/arch/Protocol/HTTP/Compression.pm (unchanged)
Skip blib/arch/Protocol/HTTP.pod (unchanged)
Skip blib/arch/Protocol/HTTP/Error.pod (unchanged)
Manifying 9 pod documents
PERL_DL_NONLAZY=1 "/home/cpan/pit/bare-qm/perl-5.28.2/bin/perl" "-MExtUtils::Command::MM" "-MTest::Harness" "-e" "undef *Test::Harness::Switches; test_harness(0, 'blib/lib', 'blib/arch')" t/*.t t/*/*.t
t/compile/chunks.t ........ ok
t/compile/compression.t ... ok
t/compile/cookies.t ....... ok
t/compile/form.t .......... ok
t/compile/message.t ....... ok
t/compile/request.t ....... ok
t/compile/response.t ...... ok
t/cookie-jar.t ............ ok
t/header.t ................ ok
t/parse/chunks.t .......... ok
t/parse/compression.t ..... ok
t/parse/content-length.t .. ok
t/parse/cookies.t ......... ok
t/parse/message.t ......... ok
t/parse/request.t ......... ok
t/parse/response.t ........ ok
t/parse/special-codes.t ... ok
t/regression.t ............ ok
All tests successful.
Files=18, Tests=186,  2 wallclock secs ( 0.12 usr  0.02 sys +  1.19 cusr  0.21 csys =  1.54 CPU)
Result: PASS


PREREQUISITES:

Here is a list of prerequisites you specified and versions we
managed to load:

	  Module Name                        Have     Want
	  Date                              5.2.5   v5.2.5
	  Export::XS                        3.0.5   v3.0.5
	  Test::Catch                      1.0.16  v1.0.16
	  Test::Deep                        1.130        0
	  Test::Fatal                       0.016        0
	  Test::More                     1.302183        0
	  Test::Simple                   1.302183     0.96
	  URI::XS                           2.1.2   v2.1.2
	  XS::Framework                     1.4.1   v1.4.1
	  XS::Install                       1.3.2   v1.3.2
	  XS::libboost::mini             1.69.0.0 v1.69.0.0
	  XS::libcatch                   2.13.4.2 v2.13.4.2
	  XS::libpanda                      1.5.2   v1.5.2
	  XS::librangeV3                    1.0.2   v1.0.2
	  next::XS                          1.0.7   v1.0.7

Perl module toolchain versions installed:
	Module Name                        Have
	CPANPLUS                         0.9910
	CPANPLUS::Dist::Build              0.90
	Cwd                                3.75
	ExtUtils::CBuilder             0.280235
	ExtUtils::Command                  7.58
	ExtUtils::Install                  2.20
	ExtUtils::MakeMaker                7.58
	ExtUtils::Manifest                 1.73
	ExtUtils::ParseXS                  3.39
	File::Spec                         3.75
	Module::Build                    0.4231
	Pod::Parser                        1.63
	Pod::Simple                        3.35
	Test2                          1.302183
	Test::Harness                      3.42
	Test::More                     1.302183
	version                          0.9928

******************************** NOTE ********************************
The comments above are created mechanically, possibly without manual
checking by the sender.  As there are many people performing automatic
tests on each upload to CPAN, it is likely that you will receive
identical messages about the same problem.

If you believe that the message is mistaken, please reply to the first
one with correction and/or additional informations, and do not take
it personally.  We appreciate your patience. :)
**********************************************************************

Additional comments:


This report was machine-generated by CPANPLUS::Dist::YACSmoke 1.08.
Powered by minismokebox version 0.68

CPANPLUS is prefering Build.PL

------------------------------
ENVIRONMENT AND OTHER CONTEXT
------------------------------

Environment variables:

    AUTOMATED_TESTING = 1
    LANG = en_GB.UTF-8
    LANGUAGE = en_GB:en
    NONINTERACTIVE_TESTING = 1
    PATH = /usr/local/sbin:/usr/local/bin:/usr/sbin:/usr/bin:/sbin:/bin:/usr/games:/usr/local/games:/snap/bin
    PERL5LIB = /home/cpan/pit/jail/WO_rNORkzw/lib/perl5:/home/cpan/pit/bare-qm/conf/perl-5.28.2/.cpanplus/5.28.2/build/XI3A_9Udil/Protocol-HTTP-1.1.2/blib/lib:/home/cpan/pit/bare-qm/conf/perl-5.28.2/.cpanplus/5.28.2/build/XI3A_9Udil/Protocol-HTTP-1.1.2/blib/arch
    PERL5_CPANPLUS_IS_RUNNING = 1823714
    PERL5_CPANPLUS_IS_VERSION = 0.9910
    PERL5_MINISMOKEBOX = 0.68
    PERL5_YACSMOKE_BASE = /home/cpan/pit/bare-qm/conf/perl-5.28.2
    PERL_EXTUTILS_AUTOINSTALL = --defaultdeps
    PERL_LOCAL_LIB_ROOT = /home/cpan/pit/jail/WO_rNORkzw
    PERL_MB_OPT = --install_base "/home/cpan/pit/jail/WO_rNORkzw"
    PERL_MM_OPT = INSTALL_BASE=/home/cpan/pit/jail/WO_rNORkzw
    PERL_MM_USE_DEFAULT = 1
    SHELL = /bin/bash
    TERM = screen

Perl special variables (and OS-specific diagnostics, for MSWin32):

    Perl: $^X = /home/cpan/pit/bare-qm/perl-5.28.2/bin/perl
    UID:  $<  = 1001
    EUID: $>  = 1001
    GID:  $(  = 1001 1001
    EGID: $)  = 1001 1001


-------------------------------


--

Summary of my perl5 (revision 5 version 28 subversion 2) configuration:
   
  Platform:
    osname=linux
    osvers=5.4.0-26-generic
    archname=x86_64-linux-quadmath
    uname='linux uchder 5.4.0-26-generic #30-ubuntu smp mon apr 20 16:58:30 utc 2020 x86_64 x86_64 x86_64 gnulinux '
    config_args='-des -Dprefix=/home/cpan/pit/bare-qm/perl-5.28.2 -Dusequadmath'
    hint=recommended
    useposix=true
    d_sigaction=define
    useithreads=undef
    usemultiplicity=undef
    use64bitint=define
    use64bitall=define
    uselongdouble=undef
    usemymalloc=n
    default_inc_excludes_dot=define
    bincompat5005=undef
  Compiler:
    cc='cc'
    ccflags ='-fwrapv -fno-strict-aliasing -pipe -fstack-protector-strong -I/usr/local/include -D_LARGEFILE_SOURCE -D_FILE_OFFSET_BITS=64'
    optimize='-O2'
    cppflags='-fwrapv -fno-strict-aliasing -pipe -fstack-protector-strong -I/usr/local/include'
    ccversion=''
    gccversion='9.3.0'
    gccosandvers=''
    intsize=4
    longsize=8
    ptrsize=8
    doublesize=8
    byteorder=12345678
    doublekind=3
    d_longlong=define
    longlongsize=8
    d_longdbl=define
    longdblsize=16
    longdblkind=3
    ivtype='long'
    ivsize=8
    nvtype='__float128'
    nvsize=16
    Off_t='off_t'
    lseeksize=8
    alignbytes=16
    prototype=define
  Linker and Libraries:
    ld='cc'
    ldflags =' -fstack-protector-strong -L/usr/local/lib'
    libpth=/usr/local/lib /usr/include/x86_64-linux-gnu /usr/lib /lib/x86_64-linux-gnu /lib/../lib /usr/lib/x86_64-linux-gnu /usr/lib/../lib /lib
    libs=-lpthread -lnsl -lgdbm -ldl -lm -lcrypt -lutil -lc -lquadmath
    perllibs=-lpthread -lnsl -ldl -lm -lcrypt -lutil -lc -lquadmath
    libc=libc-2.31.so
    so=so
    useshrplib=false
    libperl=libperl.a
    gnulibc_version='2.31'
  Dynamic Linking:
    dlsrc=dl_dlopen.xs
    dlext=so
    d_dlsymun=undef
    ccdlflags='-Wl,-E'
    cccdlflags='-fPIC'
    lddlflags='-shared -O2 -L/usr/local/lib -fstack-protector-strong'


Characteristics of this binary (from libperl): 
  Compile-time options:
    HAS_TIMES
    PERLIO_LAYERS
    PERL_COPY_ON_WRITE
    PERL_DONT_CREATE_GVSV
    PERL_MALLOC_WRAP
    PERL_OP_PARENT
    PERL_PRESERVE_IVUV
    USE_64_BIT_ALL
    USE_64_BIT_INT
    USE_LARGE_FILES
    USE_LOCALE
    USE_LOCALE_COLLATE
    USE_LOCALE_CTYPE
    USE_LOCALE_NUMERIC
    USE_LOCALE_TIME
    USE_PERLIO
    USE_PERL_ATOF
    USE_QUADMATH
  Locally applied patches:
    Devel::PatchPerl 1.90
  Built under linux
  Compiled at Apr 27 2020 00:25:51
  %ENV:
    PERL5LIB="/home/cpan/pit/jail/WO_rNORkzw/lib/perl5:/home/cpan/pit/bare-qm/conf/perl-5.28.2/.cpanplus/5.28.2/build/XI3A_9Udil/Protocol-HTTP-1.1.2/blib/lib:/home/cpan/pit/bare-qm/conf/perl-5.28.2/.cpanplus/5.28.2/build/XI3A_9Udil/Protocol-HTTP-1.1.2/blib/arch"
    PERL5_CPANPLUS_IS_RUNNING="1823714"
    PERL5_CPANPLUS_IS_VERSION="0.9910"
    PERL5_MINISMOKEBOX="0.68"
    PERL5_YACSMOKE_BASE="/home/cpan/pit/bare-qm/conf/perl-5.28.2"
    PERL_EXTUTILS_AUTOINSTALL="--defaultdeps"
    PERL_LOCAL_LIB_ROOT="/home/cpan/pit/jail/WO_rNORkzw"
    PERL_MB_OPT="--install_base "/home/cpan/pit/jail/WO_rNORkzw""
    PERL_MM_OPT="INSTALL_BASE=/home/cpan/pit/jail/WO_rNORkzw"
    PERL_MM_USE_DEFAULT="1"
  @INC:
    /home/cpan/pit/jail/WO_rNORkzw/lib/perl5/5.28.2/x86_64-linux-quadmath
    /home/cpan/pit/jail/WO_rNORkzw/lib/perl5/5.28.2
    /home/cpan/pit/jail/WO_rNORkzw/lib/perl5/x86_64-linux-quadmath
    /home/cpan/pit/jail/WO_rNORkzw/lib/perl5
    /home/cpan/pit/bare-qm/conf/perl-5.28.2/.cpanplus/5.28.2/build/XI3A_9Udil/Protocol-HTTP-1.1.2/blib/lib
    /home/cpan/pit/bare-qm/conf/perl-5.28.2/.cpanplus/5.28.2/build/XI3A_9Udil/Protocol-HTTP-1.1.2/blib/arch
    /home/cpan/pit/bare-qm/perl-5.28.2/lib/site_perl/5.28.2/x86_64-linux-quadmath
    /home/cpan/pit/bare-qm/perl-5.28.2/lib/site_perl/5.28.2
    /home/cpan/pit/bare-qm/perl-5.28.2/lib/5.28.2/x86_64-linux-quadmath
    /home/cpan/pit/bare-qm/perl-5.28.2/lib/5.28.2