DateTime-Format-Pg v0.16013 Perl 5 v5.30.0 RC2 x86_64-linux
- Status
- Pass
- From
- Slaven Rezić (SREZIC)
- Dist
-
DateTime-Format-Pg v0.16013
- Platform
- Perl 5 v5.30.0 RC2 x86_64-linux
- Date
- 2019-05-20 23:55:12
- ID
- b51a4688-7b5a-11e9-85d7-8c831f24ea8f
This distribution has been tested as part of the CPAN Testers
project, supporting the Perl programming language. See
http://wiki.cpantesters.org/ for more information or email
questions to cpan-testers-discuss@perl.org
--
Dear Daisuke Maki,
This is a computer-generated report for DateTime-Format-Pg-0.16013
on perl 5.30.0, created by CPAN-Reporter-1.2018.
Thank you for uploading your work to CPAN. Congratulations!
All tests were successful.
Sections of this report:
* Tester comments
* Program output
* Prerequisites
* Environment and other context
------------------------------
TESTER COMMENTS
------------------------------
Additional comments from tester:
none provided
------------------------------
PROGRAM OUTPUT
------------------------------
Output from './Build test':
t/1basic.t ............. ok
t/2new-param.t ......... ok
t/99-pod-coverage.t .... ok
t/99-pod.t ............. ok
t/format_date.t ........ ok
t/format_datetime.t .... ok
t/format_fractional.t .. ok
t/format_interval.t .... ok
t/gh12.t ............... ok
t/parse_date.t ......... ok
t/parse_datetime.t ..... ok
t/parse_datetime2.t .... ok
t/parse_datetime3.t .... ok
t/parse_datetime4.t .... ok
t/parse_datetime5.t .... ok
t/parse_infinity.t ..... ok
t/parse_interval.t ..... ok
t/parse_time.t ......... ok
t/rt18487.t ............ ok
t/rt29635.t ............ ok
t/rt72706.t ............ ok
t/self_circle.t ........ ok
t/tz_1901_2038.t ....... ok
All tests successful.
Files=23, Tests=203, 11 wallclock secs ( 0.08 usr 0.02 sys + 5.50 cusr 0.90 csys = 6.50 CPU)
Result: PASS
------------------------------
PREREQUISITES
------------------------------
Prerequisite modules loaded:
requires:
Module Need Have
------------------------- ----- --------
DateTime 0.10 1.51
DateTime::Format::Builder 0.72 0.82
DateTime::TimeZone 0.05 2.35
build_requires:
Module Need Have
------------------------- ----- --------
ExtUtils::MakeMaker 6.36 7.34
Test::More 0 1.302162
configure_requires:
Module Need Have
------------------------- ----- --------
Module::Build::Tiny 0.035 0.039
------------------------------
ENVIRONMENT AND OTHER CONTEXT
------------------------------
Environment variables:
LANG = en_US.UTF-8
PATH = /usr/local/bin:/usr/bin:/bin:/usr/local/sbin:/usr/sbin:/sbin:/home/cpansand/bin/linux-gnu:/home/cpansand/bin/sh:/home/cpansand/bin:/usr/games:/home/cpansand/devel:/home/eserte/src/srezic-misc/scripts
PERL5LIB = /home/cpansand/.cpan/build/2019052022/DateTime-Format-Oracle-0.06-0/blib/arch:/home/cpansand/.cpan/build/2019052022/DateTime-Format-Oracle-0.06-0/blib/lib:/home/cpansand/.cpan/build/2019052022/Convert-NLS_DATE_FORMAT-0.06-0/blib/arch:/home/cpansand/.cpan/build/2019052022/Convert-NLS_DATE_FORMAT-0.06-0/blib/lib:/home/cpansand/.cpan/build/2019052022/DateTime-Format-MySQL-0.06-0/blib/arch:/home/cpansand/.cpan/build/2019052022/DateTime-Format-MySQL-0.06-0/blib/lib:/home/cpansand/.cpan/build/2019052022/DateTime-Format-Builder-0.82-0/blib/arch:/home/cpansand/.cpan/build/2019052022/DateTime-Format-Builder-0.82-0/blib/lib:/home/cpansand/.cpan/build/2019052022/DateTime-Format-Strptime-1.76-0/blib/arch:/home/cpansand/.cpan/build/2019052022/DateTime-Format-Strptime-1.76-0/blib/lib:/home/cpansand/.cpan/build/2019052022/Bit-Vector-7.4-0/blib/arch:/home/cpansand/.cpan/build/2019052022/Bit-Vector-7.4-0/blib/lib
PERL5OPT =
PERL5_CPANPLUS_IS_RUNNING = 2598
PERL5_CPAN_IS_RUNNING = 2598
PERL5_CPAN_IS_RUNNING_IN_RECURSION = 2580,2598
PERLDOC = -MPod::Perldoc::ToTextOverstrike
PERL_BATCH = yes
PERL_CANARY_STABILITY_NOPROMPT = 1
PERL_CPAN_REPORTER_CONFIG = /var/tmp/cpansmoker-1023/2019052022/cpanreporter_002_config.ini
PERL_EXTUTILS_AUTOINSTALL = --defaultdeps
PERL_USE_UNSAFE_INC = 1
SHELL = /usr/bin/zsh
TERM = screen
TMPDIR = /var/tmp/cpansmoker-1023/2019052022
Perl special variables (and OS-specific diagnostics, for MSWin32):
$^X = /opt/perl-5.30.0-RC2/bin/perl
$UID/$EUID = 1023 / 1023
$GID = 1023 1023
$EGID = 1023 1023
Perl module toolchain versions installed:
Module Have
------------------- --------
CPAN 2.22
CPAN::Meta 2.150010
Cwd 3.78
ExtUtils::CBuilder 0.280231
ExtUtils::Command 7.34
ExtUtils::Install 2.14
ExtUtils::MakeMaker 7.34
ExtUtils::Manifest 1.72
ExtUtils::ParseXS 3.40
File::Spec 3.78
JSON 4.02
JSON::PP 4.02
Module::Build 0.4229
Module::Signature n/a
Parse::CPAN::Meta 2.150010
Test::Harness 3.42
Test::More 1.302162
YAML 1.29
YAML::Syck 1.31
version 0.9924
--
Summary of my perl5 (revision 5 version 30 subversion 0) configuration:
Platform:
osname=linux
osvers=3.10.0-957.12.2.el7.x86_64
archname=x86_64-linux
uname='linux centos-4gb-hel1-1 3.10.0-957.12.2.el7.x86_64 #1 smp tue may 14 21:24:32 utc 2019 x86_64 x86_64 x86_64 gnulinux '
config_args='-ds -e -Dprefix=/opt/perl-5.30.0-RC2 -Dcf_email=srezic@cpan.org'
hint=recommended
useposix=true
d_sigaction=define
useithreads=undef
usemultiplicity=undef
use64bitint=define
use64bitall=define
uselongdouble=undef
usemymalloc=n
default_inc_excludes_dot=define
bincompat5005=undef
Compiler:
cc='cc'
ccflags ='-fwrapv -fno-strict-aliasing -pipe -fstack-protector-strong -I/usr/local/include -D_LARGEFILE_SOURCE -D_FILE_OFFSET_BITS=64 -D_FORTIFY_SOURCE=2'
optimize='-O2'
cppflags='-fwrapv -fno-strict-aliasing -pipe -fstack-protector-strong -I/usr/local/include'
ccversion=''
gccversion='4.8.5 20150623 (Red Hat 4.8.5-36)'
gccosandvers=''
intsize=4
longsize=8
ptrsize=8
doublesize=8
byteorder=12345678
doublekind=3
d_longlong=define
longlongsize=8
d_longdbl=define
longdblsize=16
longdblkind=3
ivtype='long'
ivsize=8
nvtype='double'
nvsize=8
Off_t='off_t'
lseeksize=8
alignbytes=8
prototype=define
Linker and Libraries:
ld='cc'
ldflags =' -fstack-protector-strong -L/usr/local/lib'
libpth=/usr/local/lib /usr/lib /lib/../lib64 /usr/lib/../lib64 /lib /lib64 /usr/lib64 /usr/local/lib64
libs=-lpthread -lnsl -lgdbm -ldb -ldl -lm -lcrypt -lutil -lc -lgdbm_compat
perllibs=-lpthread -lnsl -ldl -lm -lcrypt -lutil -lc
libc=libc-2.17.so
so=so
useshrplib=false
libperl=libperl.a
gnulibc_version='2.17'
Dynamic Linking:
dlsrc=dl_dlopen.xs
dlext=so
d_dlsymun=undef
ccdlflags='-Wl,-E'
cccdlflags='-fPIC'
lddlflags='-shared -O2 -L/usr/local/lib -fstack-protector-strong'
Characteristics of this binary (from libperl):
Compile-time options:
HAS_TIMES
PERLIO_LAYERS
PERL_COPY_ON_WRITE
PERL_DONT_CREATE_GVSV
PERL_MALLOC_WRAP
PERL_OP_PARENT
PERL_PRESERVE_IVUV
USE_64_BIT_ALL
USE_64_BIT_INT
USE_LARGE_FILES
USE_LOCALE
USE_LOCALE_COLLATE
USE_LOCALE_CTYPE
USE_LOCALE_NUMERIC
USE_LOCALE_TIME
USE_PERLIO
USE_PERL_ATOF
Locally applied patches:
RC2
Built under linux
Compiled at May 20 2019 08:18:08
%ENV:
PERL5LIB="/home/cpansand/.cpan/build/2019052022/DateTime-Format-Oracle-0.06-0/blib/arch:/home/cpansand/.cpan/build/2019052022/DateTime-Format-Oracle-0.06-0/blib/lib:/home/cpansand/.cpan/build/2019052022/Convert-NLS_DATE_FORMAT-0.06-0/blib/arch:/home/cpansand/.cpan/build/2019052022/Convert-NLS_DATE_FORMAT-0.06-0/blib/lib:/home/cpansand/.cpan/build/2019052022/DateTime-Format-MySQL-0.06-0/blib/arch:/home/cpansand/.cpan/build/2019052022/DateTime-Format-MySQL-0.06-0/blib/lib:/home/cpansand/.cpan/build/2019052022/DateTime-Format-Builder-0.82-0/blib/arch:/home/cpansand/.cpan/build/2019052022/DateTime-Format-Builder-0.82-0/blib/lib:/home/cpansand/.cpan/build/2019052022/DateTime-Format-Strptime-1.76-0/blib/arch:/home/cpansand/.cpan/build/2019052022/DateTime-Format-Strptime-1.76-0/blib/lib:/home/cpansand/.cpan/build/2019052022/Bit-Vector-7.4-0/blib/arch:/home/cpansand/.cpan/build/2019052022/Bit-Vector-7.4-0/blib/lib"
PERL5OPT=""
PERL5_CPANPLUS_IS_RUNNING="2598"
PERL5_CPAN_IS_RUNNING="2598"
PERL5_CPAN_IS_RUNNING_IN_RECURSION="2580,2598"
PERLDOC="-MPod::Perldoc::ToTextOverstrike"
PERL_BATCH="yes"
PERL_CANARY_STABILITY_NOPROMPT="1"
PERL_CPAN_REPORTER_CONFIG="/var/tmp/cpansmoker-1023/2019052022/cpanreporter_002_config.ini"
PERL_EXTUTILS_AUTOINSTALL="--defaultdeps"
PERL_USE_UNSAFE_INC="1"
@INC:
/home/cpansand/.cpan/build/2019052022/DateTime-Format-Oracle-0.06-0/blib/arch
/home/cpansand/.cpan/build/2019052022/DateTime-Format-Oracle-0.06-0/blib/lib
/home/cpansand/.cpan/build/2019052022/Convert-NLS_DATE_FORMAT-0.06-0/blib/arch
/home/cpansand/.cpan/build/2019052022/Convert-NLS_DATE_FORMAT-0.06-0/blib/lib
/home/cpansand/.cpan/build/2019052022/DateTime-Format-MySQL-0.06-0/blib/arch
/home/cpansand/.cpan/build/2019052022/DateTime-Format-MySQL-0.06-0/blib/lib
/home/cpansand/.cpan/build/2019052022/DateTime-Format-Builder-0.82-0/blib/arch
/home/cpansand/.cpan/build/2019052022/DateTime-Format-Builder-0.82-0/blib/lib
/home/cpansand/.cpan/build/2019052022/DateTime-Format-Strptime-1.76-0/blib/arch
/home/cpansand/.cpan/build/2019052022/DateTime-Format-Strptime-1.76-0/blib/lib
/home/cpansand/.cpan/build/2019052022/Bit-Vector-7.4-0/blib/arch
/home/cpansand/.cpan/build/2019052022/Bit-Vector-7.4-0/blib/lib
/opt/perl-5.30.0-RC2/lib/site_perl/5.30.0/x86_64-linux
/opt/perl-5.30.0-RC2/lib/site_perl/5.30.0
/opt/perl-5.30.0-RC2/lib/5.30.0/x86_64-linux
/opt/perl-5.30.0-RC2/lib/5.30.0
.