CGI-Application-Server v0.063 Perl 5 v5.27.4 x86_64-linux

Status
Pass
From
Slaven Rezić (SREZIC)
Dist
CGI-Application-Server v0.063
Platform
Perl 5 v5.27.4 x86_64-linux
Date
2017-09-23 16:24:43
ID
b51a6110-a07b-11e7-bca8-8df3810da2b9
This distribution has been tested as part of the CPAN Testers
project, supporting the Perl programming language.  See
http://wiki.cpantesters.org/ for more information or email
questions to cpan-testers-discuss@perl.org


--
Dear Ricardo SIGNES,

This is a computer-generated report for CGI-Application-Server-0.063
on perl 5.27.4, created by CPAN-Reporter-1.2018.

Thank you for uploading your work to CPAN.  Congratulations!
All tests were successful.

Sections of this report:

    * Tester comments
    * Program output
    * Prerequisites
    * Environment and other context

------------------------------
TESTER COMMENTS
------------------------------

Additional comments from tester:

none provided

------------------------------
PROGRAM OUTPUT
------------------------------

Output from '/usr/bin/make test':

PERL_DL_NONLAZY=1 "/opt/perl-5.27.4/bin/perl5.27.4" "-MExtUtils::Command::MM" "-MTest::Harness" "-e" "undef *Test::Harness::Switches; test_harness(0, 'blib/lib', 'blib/arch')" t/*.t
t/00-compile.t ..................... ok
# 
# 
# Generated by Dist::Zilla::Plugin::ReportVersions::Tiny v1.08
# perl: 5.027004 (wanted any version) on linux from /opt/perl-5.27.4/bin/perl5.27.4
# 
# CGI                                           => 4.36       (want any version)
# CGI::Application                              => 4.50       (want 4.21)   
# CGI::Application::Dispatch                    => 3.12       (want any version)
# CGI::Application::Plugin::Redirect            => 1.00       (want any version)
# Carp                                          => 1.38       (want 0.01)   
# ExtUtils::MakeMaker                           => 7.3        (want 6.30)   
# File::Find                                    => 1.34       (want any version)
# File::Temp                                    => 0.2304     (want any version)
# HTTP::Response                                => 6.13       (want any version)
# HTTP::Server::Simple                          => 0.52       (want 0.18)   
# HTTP::Server::Simple::CGI                     => <undef>    (want any version)
# HTTP::Server::Simple::Static                  => 0.12       (want 0.02)   
# HTTP::Status                                  => 6.13       (want any version)
# Scalar::Util                                  => 1.49       (want 1.18)   
# Test::Exception                               => 0.43       (want any version)
# Test::HTTP::Server::Simple                    => 0.11       (want any version)
# Test::More                                    => 1.302096   (want 0.96)   
# Test::Pod                                     => 1.51       (want 1.41)   
# Test::WWW::Mechanize                          => 1.48       (want any version)
# base                                          => 2.23       (want any version)
# lib                                           => 0.64       (want any version)
# strict                                        => 1.11       (want any version)
# version                                       => 0.9918     (want 0.9901) 
# warnings                                      => 1.37       (want any version)
# 
# Thanks for using my code.  I hope it works for you.
# If not, please try and include this output in the bug report.
# That will help me reproduce the issue and solve your problem.
# 
t/000-report-versions-tiny.t ....... ok
t/000_load.t ....................... ok
t/001_basic.t ...................... ok
t/002_valid_entry_points.t ......... ok
t/003_dispatch.t ................... ok
t/004_object_as_entry_point.t ...... ok
t/005_mode_param_from_path_info.t .. ok
t/006_docroot_as_entry_point.t ..... ok
CGI::param called in list context from t/lib/ReplaceQueryObject.pm line 14, this can lead to vulnerabilities. See the warning in "Fetching the value or values of a single named parameter" at /opt/perl-5.27.4/lib/site_perl/5.27.4/CGI.pm line 412, <DATA> line 16.
t/006_replacequeryobject.t ......... ok
t/007_default_target.t ............. ok
All tests successful.
Files=11, Tests=112,  2 wallclock secs ( 0.03 usr  0.06 sys +  1.64 cusr  0.41 csys =  2.14 CPU)
Result: PASS

------------------------------
PREREQUISITES
------------------------------

Prerequisite modules loaded:

requires:

    Module                             Need Have    
    ---------------------------------- ---- --------
    base                               0    2.23    
    Carp                               0.01 1.38    
    CGI                                0    4.36    
    CGI::Application                   4.21 4.50    
    HTTP::Response                     0    6.13    
    HTTP::Server::Simple               0.18 0.52    
    HTTP::Server::Simple::CGI          0    0       
    HTTP::Server::Simple::Static       0.02 0.12    
    HTTP::Status                       0    6.13    
    Scalar::Util                       1.18 1.49    
    strict                             0    1.11    
    warnings                           0    1.37    

build_requires:

    Module                             Need Have    
    ---------------------------------- ---- --------
    CGI::Application                   0    4.50    
    CGI::Application::Dispatch         0    3.12    
    CGI::Application::Plugin::Redirect 0    1.00    
    File::Find                         0    1.34    
    File::Temp                         0    0.2304  
    lib                                0    0.64    
    Test::Exception                    0    0.43    
    Test::HTTP::Server::Simple         0    0.11    
    Test::More                         0.96 1.302096
    Test::WWW::Mechanize               0    1.48    

configure_requires:

    Module                             Need Have    
    ---------------------------------- ---- --------
    ExtUtils::MakeMaker                6.30 7.30    


------------------------------
ENVIRONMENT AND OTHER CONTEXT
------------------------------

Environment variables:

    LANG = C
    LC_ALL = de_DE.UTF-8
    PATH = /usr/local/bin:/usr/bin:/bin:/usr/local/sbin:/usr/sbin:/sbin:/home/cpansand/bin/linux-gnu:/home/cpansand/bin/sh:/home/cpansand/bin:/usr/games:/home/cpansand/devel:/home/eserte/src/srezic-misc/scripts
    PERL5LIB = 
    PERL5OPT = 
    PERL5_CPANPLUS_IS_RUNNING = 25800
    PERL5_CPAN_IS_RUNNING = 25800
    PERL5_CPAN_IS_RUNNING_IN_RECURSION = 27773,25800
    PERLDOC = -MPod::Perldoc::ToTextOverstrike
    PERL_BATCH = yes
    PERL_CANARY_STABILITY_NOPROMPT = 1
    PERL_CPAN_REPORTER_CONFIG = /var/tmp/cpansmoker-1023/2017092303/cpanreporter_000_config.ini
    PERL_EXTUTILS_AUTOINSTALL = --defaultdeps
    PERL_PARALLEL_SMOKER = yes
    PERL_USE_UNSAFE_INC = 1
    SHELL = /usr/bin/zsh
    TERM = screen
    TMPDIR = /var/tmp/cpansmoker-1023/2017092303

Perl special variables (and OS-specific diagnostics, for MSWin32):

    $^X = /opt/perl-5.27.4/bin/perl5.27.4
    $UID/$EUID = 1023 / 1023
    $GID = 1023 1023
    $EGID = 1023 1023

Perl module toolchain versions installed:

    Module              Have    
    ------------------- --------
    CPAN                2.16    
    CPAN::Meta          2.150010
    Cwd                 3.62    
    ExtUtils::CBuilder  0.280226
    ExtUtils::Command   7.30    
    ExtUtils::Install   2.14    
    ExtUtils::MakeMaker 7.30    
    ExtUtils::Manifest  1.70    
    ExtUtils::ParseXS   3.35    
    File::Spec          3.62    
    JSON                2.94    
    JSON::PP            2.94    
    Module::Build       0.4224  
    Module::Signature   0.81    
    Parse::CPAN::Meta   2.150010
    Test::Harness       3.39    
    Test::More          1.302096
    YAML                1.23    
    YAML::Syck          1.30    
    version             0.9918  


--

Summary of my perl5 (revision 5 version 27 subversion 4) configuration:
   
  Platform:
    osname=linux
    osvers=4.9.0-3-amd64
    archname=x86_64-linux
    uname='linux debian9 4.9.0-3-amd64 #1 smp debian 4.9.30-2+deb9u3 (2017-08-06) x86_64 gnulinux '
    config_args='-ds -e -Dprefix=/opt/perl-5.27.4 -Dusedevel -Dusemallocwrap=no -Dcf_email=srezic@cpan.org'
    hint=recommended
    useposix=true
    d_sigaction=define
    useithreads=undef
    usemultiplicity=undef
    use64bitint=define
    use64bitall=define
    uselongdouble=undef
    usemymalloc=n
    default_inc_excludes_dot=define
    bincompat5005=undef
  Compiler:
    cc='cc'
    ccflags ='-fwrapv -fno-strict-aliasing -pipe -fstack-protector-strong -I/usr/local/include -D_LARGEFILE_SOURCE -D_FILE_OFFSET_BITS=64 -D_FORTIFY_SOURCE=2'
    optimize='-O2'
    cppflags='-fwrapv -fno-strict-aliasing -pipe -fstack-protector-strong -I/usr/local/include'
    ccversion=''
    gccversion='6.3.0 20170516'
    gccosandvers=''
    intsize=4
    longsize=8
    ptrsize=8
    doublesize=8
    byteorder=12345678
    doublekind=3
    d_longlong=define
    longlongsize=8
    d_longdbl=define
    longdblsize=16
    longdblkind=3
    ivtype='long'
    ivsize=8
    nvtype='double'
    nvsize=8
    Off_t='off_t'
    lseeksize=8
    alignbytes=8
    prototype=define
  Linker and Libraries:
    ld='cc'
    ldflags =' -fstack-protector-strong -L/usr/local/lib'
    libpth=/usr/local/lib /usr/lib/gcc/x86_64-linux-gnu/6/include-fixed /usr/include/x86_64-linux-gnu /usr/lib /lib/x86_64-linux-gnu /lib/../lib /usr/lib/x86_64-linux-gnu /usr/lib/../lib /lib
    libs=-lpthread -lnsl -lgdbm -ldb -ldl -lm -lcrypt -lutil -lc -lgdbm_compat
    perllibs=-lpthread -lnsl -ldl -lm -lcrypt -lutil -lc
    libc=libc-2.24.so
    so=so
    useshrplib=false
    libperl=libperl.a
    gnulibc_version='2.24'
  Dynamic Linking:
    dlsrc=dl_dlopen.xs
    dlext=so
    d_dlsymun=undef
    ccdlflags='-Wl,-E'
    cccdlflags='-fPIC'
    lddlflags='-shared -O2 -L/usr/local/lib -fstack-protector-strong'


Characteristics of this binary (from libperl): 
  Compile-time options:
    HAS_TIMES
    PERLIO_LAYERS
    PERL_COPY_ON_WRITE
    PERL_DONT_CREATE_GVSV
    PERL_OP_PARENT
    PERL_PRESERVE_IVUV
    PERL_USE_DEVEL
    USE_64_BIT_ALL
    USE_64_BIT_INT
    USE_LARGE_FILES
    USE_LOCALE
    USE_LOCALE_COLLATE
    USE_LOCALE_CTYPE
    USE_LOCALE_NUMERIC
    USE_LOCALE_TIME
    USE_PERLIO
    USE_PERL_ATOF
  Built under linux
  Compiled at Sep 20 2017 22:26:09
  %ENV:
    PERL5LIB=""
    PERL5OPT=""
    PERL5_CPANPLUS_IS_RUNNING="25800"
    PERL5_CPAN_IS_RUNNING="25800"
    PERL5_CPAN_IS_RUNNING_IN_RECURSION="27773,25800"
    PERLDOC="-MPod::Perldoc::ToTextOverstrike"
    PERL_BATCH="yes"
    PERL_CANARY_STABILITY_NOPROMPT="1"
    PERL_CPAN_REPORTER_CONFIG="/var/tmp/cpansmoker-1023/2017092303/cpanreporter_000_config.ini"
    PERL_EXTUTILS_AUTOINSTALL="--defaultdeps"
    PERL_PARALLEL_SMOKER="yes"
    PERL_USE_UNSAFE_INC="1"
  @INC:
    /opt/perl-5.27.4/lib/site_perl/5.27.4/x86_64-linux
    /opt/perl-5.27.4/lib/site_perl/5.27.4
    /opt/perl-5.27.4/lib/5.27.4/x86_64-linux
    /opt/perl-5.27.4/lib/5.27.4
    .