Report for Module-Metadata-1.000033

Back
From: metabase:user:838e5b0a-2bb6-1016-a696-43a2537fa0c6
Subject: PASS Module-Metadata-1.000033 v5.22.0 
Date: 2016-07-25T15:49:31Z

This distribution has been tested as part of the CPAN Testers
project, supporting the Perl programming language.  See
http://wiki.cpantesters.org/ for more information or email
questions to cpan-testers-discuss@perl.org


--
Dear Karen Etheridge,

This is a computer-generated report for Module-Metadata-1.000033
on perl 5.22.0, created by CPAN-Reporter-1.2014.

Thank you for uploading your work to CPAN.  Congratulations!
All tests were successful.

Sections of this report:

    * Tester comments
    * Program output
    * Prerequisites
    * Environment and other context

------------------------------
TESTER COMMENTS
------------------------------

Additional comments from tester:

this report is from an automated smoke testing program
and was not reviewed by a human for accuracy

------------------------------
PROGRAM OUTPUT
------------------------------

Output from 'C:\STRAWB~1\c\bin\dmake.exe test':

"C:\Strawberry\perl\bin\perl.exe" "-MExtUtils::Command::MM" "-MTest::Harness" "-e" "undef *Test::Harness::Switches; test_harness(0, 'blib\lib', 'blib\arch')" t/*.t
# 
# Versions for all modules listed in MYMETA.json (including optional ones):
# 
# === Configure Requires ===
# 
#     Module              Want    Have
#     ------------------- ---- -------
#     ExtUtils::MakeMaker  any 7.04_01
# 
# === Build Requires ===
# 
#     Module              Want    Have
#     ------------------- ---- -------
#     ExtUtils::MakeMaker  any 7.04_01
# 
# === Test Requires ===
# 
#     Module              Want     Have
#     ------------------- ---- --------
#     Cwd                  any     3.56
#     Exporter             any     5.72
#     ExtUtils::MakeMaker  any  7.04_01
#     File::Basename       any     2.85
#     File::Path           any     2.11
#     File::Spec           any     3.56
#     File::Temp           any   0.2304
#     IO::File             any     1.16
#     Test::More          0.82 1.001014
#     base                 any     2.22
#     lib                  any     0.63
# 
# === Test Recommends ===
# 
#     Module         Want     Have
#     ---------- -------- --------
#     CPAN::Meta 2.120900 2.150005
# 
# === Runtime Requires ===
# 
#     Module     Want   Have
#     ---------- ---- ------
#     Carp        any   1.36
#     Fcntl       any   1.13
#     File::Find  any   1.29
#     File::Spec  any   3.56
#     strict      any   1.09
#     version    0.87 0.9912
#     warnings    any   1.32
# 
# === Other Modules ===
# 
#     Module           Have
#     ------------- -------
#     Pod::Coverage missing
# 
t/00-report-prereqs.t .. ok
t/contains_pod.t ....... ok
t/encoding.t ........... ok
t/endpod.t ............. ok
# Got: '_private'
# Module contents:
# package _private;
# $::VERSION = 0.01;
# $VERSION = '999';
# Got: '_private'
# Module contents:
# package _private;
# $VERSION = '999';
# $::VERSION = 0.01;
t/extract-package.t .... ok
# parsed module: bless( {
#   'collect_pod' => undef,
#   'filename' => 'C:\\Users\\SOLIMA~1\\AppData\\Local\\Temp\\MMD-lic4q6Ja\\Simple51\\Simple.pm',
#   'inc' => undef,
#   'module' => 'Simple',
#   'packages' => [
#     'Simple'
#   ],
#   'pod' => {},
#   'pod_headings' => [],
#   'version' => bless( {
#     'original' => '0',
#     'version' => [
#       0
#     ]
#   }, 'version' ),
#   'versions' => {
#     'Simple' => $VAR1->{'version'}
#   }
# }, 'Module::Metadata' )
# parsed module: bless( {
#   'collect_pod' => undef,
#   'filename' => 'C:\\Users\\SOLIMA~1\\AppData\\Local\\Temp\\MMD-lic4q6Ja\\Simple52\\Simple.pm',
#   'inc' => undef,
#   'module' => 'Simple',
#   'packages' => [
#     'main',
#     'Simple'
#   ],
#   'pod' => {},
#   'pod_headings' => [],
#   'version' => bless( {
#     'original' => '0',
#     'version' => [
#       0
#     ]
#   }, 'version' ),
#   'versions' => {
#     'Simple' => $VAR1->{'version'},
#     'main' => ''
#   }
# }, 'Module::Metadata' )
# parsed module: bless( {
#   'collect_pod' => undef,
#   'filename' => 'C:\\Users\\SOLIMA~1\\AppData\\Local\\Temp\\MMD-lic4q6Ja\\Simple54\\Simple.pm',
#   'inc' => undef,
#   'module' => undef,
#   'packages' => [
#     'main'
#   ],
#   'pod' => {},
#   'pod_headings' => [],
#   'version' => undef,
#   'versions' => {
#     'main' => bless( {
#       'original' => '1.23',
#       'version' => [
#         1,
#         230
#       ]
#     }, 'version' )
#   }
# }, 'Module::Metadata' )
# parsed module: bless( {
#   'collect_pod' => undef,
#   'filename' => 'C:\\Users\\SOLIMA~1\\AppData\\Local\\Temp\\MMD-lic4q6Ja\\Simple55\\Simple.pm',
#   'inc' => undef,
#   'module' => undef,
#   'packages' => [
#     'main'
#   ],
#   'pod' => {},
#   'pod_headings' => [],
#   'version' => undef,
#   'versions' => {
#     'main' => bless( {
#       'original' => '1.23',
#       'version' => [
#         1,
#         230
#       ]
#     }, 'version' )
#   }
# }, 'Module::Metadata' )
t/extract-version.t .... ok
t/metadata.t ........... ok
t/taint.t .............. ok
t/version.t ............ ok
All tests successful.
Files=9, Tests=348,  2 wallclock secs ( 0.08 usr +  0.05 sys =  0.13 CPU)
Result: PASS

------------------------------
PREREQUISITES
------------------------------

Prerequisite modules loaded:

requires:

    Module              Need     Have    
    ------------------- -------- --------
    Carp                0        1.36    
    Fcntl               0        1.13    
    File::Find          0        1.29    
    File::Spec          0        3.56    
    perl                5.006    5.022000
    strict              0        1.09    
    version             0.87     0.9912  
    warnings            0        1.32    

build_requires:

    Module              Need     Have    
    ------------------- -------- --------
    base                0        2.22    
    Cwd                 0        3.56    
    Exporter            0        5.72    
    ExtUtils::MakeMaker 0        7.04_01 
    File::Basename      0        2.85    
    File::Path          0        2.11    
    File::Spec          0        3.56    
    File::Temp          0        0.2304  
    IO::File            0        1.16    
    lib                 0        0.63    
    Test::More          0.82     1.001014

configure_requires:

    Module              Need     Have    
    ------------------- -------- --------
    ExtUtils::MakeMaker 0        7.04_01 
    perl                5.006    5.022000

opt_build_requires:

    Module              Need     Have    
    ------------------- -------- --------
    CPAN::Meta          2.120900 2.150005


------------------------------
ENVIRONMENT AND OTHER CONTEXT
------------------------------

Environment variables:

    AUTOMATED_TESTING = 1
    COMSPEC = C:\Windows\system32\cmd.exe
    LD_LIBRARY_PATH = /usr/lib/x86:/usr/X11R6/lib
    NUMBER_OF_PROCESSORS = 4
    PATH = C:\Windows\system32;C:\Windows;C:\Windows\System32\Wbem;C:\Windows\System32\WindowsPowerShell\v1.0\;C:\RV\BIN;C:\Program Files (x86)\GnuWin32\bin;C:\Windows\System32\Windows System Resource Manager\bin;C:\Windows\SUA\common\;C:\Windows\SUA\usr\lib\;C:\Program Files (x86)\Git\cmd;C:\Program Files\Microsoft SQL Server\110\Tools\Binn\;C:\Strawberry\c\bin;C:\Strawberry\perl\site\bin;C:\Strawberry\perl\bin
    PERL5LIB = 
    PERL5OPT = 
    PERL5_CPANPLUS_IS_RUNNING = 39616
    PERL5_CPAN_IS_RUNNING = 39616
    PERL5_CPAN_IS_RUNNING_IN_RECURSION = 11492,39616
    PERL_CR_SMOKER_CURRENT = Module-Metadata-1.000033
    PERL_EXTUTILS_AUTOINSTALL = --defaultdeps
    PERL_JSON_BACKEND = JSON::XS
    PERL_MM_USE_DEFAULT = 1
    PERL_YAML_BACKEND = YAML
    PROCESSOR_IDENTIFIER = Intel64 Family 6 Model 37 Stepping 1, GenuineIntel
    TEMP = C:\Users\SOLIMA~1\AppData\Local\Temp

Perl special variables (and OS-specific diagnostics, for MSWin32):

    $^X = C:\Strawberry\perl\bin\perl.exe
    $UID/$EUID = 0 / 0
    $GID = 0
    $EGID = 0
    Win32::GetOSName = Win2008
    Win32::GetOSVersion = Service Pack 1, 6, 1, 7601, 2, 1, 0, 272, 3
    Win32::FsType = NTFS
    Win32::IsAdminUser = 1

Perl module toolchain versions installed:

    Module              Have    
    ------------------- --------
    CPAN                2.11    
    CPAN::Meta          2.150005
    Cwd                 3.56    
    ExtUtils::CBuilder  0.280223
    ExtUtils::Command   1.20    
    ExtUtils::Install   2.04    
    ExtUtils::MakeMaker 7.04_01 
    ExtUtils::Manifest  1.70    
    ExtUtils::ParseXS   3.28    
    File::Spec          3.56    
    JSON                2.90    
    JSON::PP            2.27300 
    Module::Build       0.4214  
    Module::Signature   n/a     
    Parse::CPAN::Meta   1.4414  
    Test::Harness       3.35    
    Test::More          1.001014
    YAML                1.15    
    YAML::Syck          n/a     
    version             0.9912  


--

Summary of my perl5 (revision 5 version 22 subversion 0) configuration:
   
  Platform:
    osname=MSWin32, osvers=6.3, archname=MSWin32-x64-multi-thread
    uname='Win32 strawberry-perl 5.22.0.1 #1 Mon Jun  1 23:58:39 2015 x64'
    config_args='undef'
    hint=recommended, useposix=true, d_sigaction=undef
    useithreads=define, usemultiplicity=define
    use64bitint=define, use64bitall=undef, uselongdouble=undef
    usemymalloc=n, bincompat5005=undef
  Compiler:
    cc='gcc', ccflags =' -s -O2 -DWIN32 -DWIN64 -DCONSERVATIVE  -DPERL_TEXTMODE_SCRIPTS -DPERL_IMPLICIT_CONTEXT -DPERL_IMPLICIT_SYS -fwrapv -fno-strict-aliasing -mms-bitfields',
    optimize='-s -O2',
    cppflags='-DWIN32'
    ccversion='', gccversion='4.9.2', gccosandvers=''
    intsize=4, longsize=4, ptrsize=8, doublesize=8, byteorder=12345678, doublekind=3
    d_longlong=define, longlongsize=8, d_longdbl=define, longdblsize=8, longdblkind=3
    ivtype='long long', ivsize=8, nvtype='double', nvsize=8, Off_t='long long', lseeksize=8
    alignbytes=8, prototype=define
  Linker and Libraries:
    ld='g++', ldflags ='-s -L"C:\STRAWB~1\perl\lib\CORE" -L"C:\STRAWB~1\c\lib"'
    libpth=C:\STRAWB~1\c\lib C:\STRAWB~1\c\x86_64-w64-mingw32\lib C:\STRAWB~1\c\lib\gcc\x86_64-w64-mingw32\4.9.2
    libs=-lmoldname -lkernel32 -luser32 -lgdi32 -lwinspool -lcomdlg32 -ladvapi32 -lshell32 -lole32 -loleaut32 -lnetapi32 -luuid -lws2_32 -lmpr -lwinmm -lversion -lodbc32 -lodbccp32 -lcomctl32
    perllibs=-lmoldname -lkernel32 -luser32 -lgdi32 -lwinspool -lcomdlg32 -ladvapi32 -lshell32 -lole32 -loleaut32 -lnetapi32 -luuid -lws2_32 -lmpr -lwinmm -lversion -lodbc32 -lodbccp32 -lcomctl32
    libc=, so=dll, useshrplib=true, libperl=libperl522.a
    gnulibc_version=''
  Dynamic Linking:
    dlsrc=dl_win32.xs, dlext=xs.dll, d_dlsymun=undef, ccdlflags=' '
    cccdlflags=' ', lddlflags='-mdll -s -L"C:\STRAWB~1\perl\lib\CORE" -L"C:\STRAWB~1\c\lib"'


Characteristics of this binary (from libperl): 
  Compile-time options: HAS_TIMES HAVE_INTERP_INTERN MULTIPLICITY
                        PERLIO_LAYERS PERL_DONT_CREATE_GVSV
                        PERL_HASH_FUNC_ONE_AT_A_TIME_HARD
                        PERL_IMPLICIT_CONTEXT PERL_IMPLICIT_SYS
                        PERL_MALLOC_WRAP PERL_NEW_COPY_ON_WRITE
                        PERL_PRESERVE_IVUV USE_64_BIT_INT USE_ITHREADS
                        USE_LARGE_FILES USE_LOCALE USE_LOCALE_COLLATE
                        USE_LOCALE_CTYPE USE_LOCALE_NUMERIC USE_LOCALE_TIME
                        USE_PERLIO USE_PERL_ATOF
  Built under MSWin32
  Compiled at Jun  2 2015 00:03:35
  %ENV:
    PERL5_CPANPLUS_IS_RUNNING="39616"
    PERL5_CPAN_IS_RUNNING="39616"
    PERL5_CPAN_IS_RUNNING_IN_RECURSION="11492,39616"
    PERL_CR_SMOKER_CURRENT="Module-Metadata-1.000033"
    PERL_EXTUTILS_AUTOINSTALL="--defaultdeps"
    PERL_JSON_BACKEND="JSON::XS"
    PERL_MM_USE_DEFAULT="1"
    PERL_YAML_BACKEND="YAML"
  @INC:
    C:/Strawberry/perl/site/lib
    C:/Strawberry/perl/vendor/lib
    C:/Strawberry/perl/lib
    .