Web-MREST v0.290 Perl 5 v5.16.3 x86_64-linux
- Status
- Pass
- From
- Slaven Rezić
- Dist
-
Web-MREST v0.290
- Platform
- Perl 5 v5.16.3 x86_64-linux
- Date
- 2022-06-29 13:16:38
- ID
- b51c942e-f7ad-11ec-afaa-98d12cbfd570
This distribution has been tested as part of the CPAN Testers
project, supporting the Perl programming language. See
http://wiki.cpantesters.org/ for more information or email
questions to cpan-testers-discuss@perl.org
--
Dear Nathan Cutler,
This is a computer-generated report for Web-MREST-0.290
on perl 5.16.3, created by CPAN-Reporter-1.2018.
Thank you for uploading your work to CPAN. Congratulations!
All tests were successful.
Sections of this report:
* Tester comments
* Program output
* Prerequisites
* Environment and other context
------------------------------
TESTER COMMENTS
------------------------------
Additional comments from tester:
none provided
------------------------------
PROGRAM OUTPUT
------------------------------
Output from './Build test':
t/2xx/200-OK.t ........................ ok
t/2xx/201-Created.t ................... ok
t/4xx/400-Bad-Request.t ............... ok
t/4xx/401-Unauthorized.t .............. ok
t/4xx/403-Forbidden.t ................. ok
t/4xx/405-Method-Not-Allowed.t ........ ok
t/4xx/406-Not-Acceptable.t ............ ok
t/4xx/413-Request-Entity-Too-Large.t .. ok
t/4xx/414-Request-URI-Too-Long.t ...... ok
t/4xx/415-Unsupported-Media-Type.t .... ok
t/5xx/501-Not-Implemented.t ........... ok
t/5xx/503-Service-Unavailable.t ....... ok
t/config.t ............................ ok
t/dispatch/bugreport.t ................ ok
t/dispatch/docu.t ..................... ok
t/dispatch/echo.t ..................... ok
t/dispatch/noop.t ..................... ok
t/dispatch/param.t .................... ok
t/dispatch/root_resource.t ............ ok
t/dispatch/version.t .................. ok
t/mrest_declare_status.t .............. ok
t/request_body_read.t ................. ok
All tests successful.
Files=22, Tests=352, 6 wallclock secs ( 0.11 usr 0.01 sys + 4.62 cusr 0.40 csys = 5.14 CPU)
Result: PASS
------------------------------
PREREQUISITES
------------------------------
Prerequisite modules loaded:
requires:
Module Need Have
----------------------------- ------ --------
App::CELL 0.209 0.231
Encode 0 3.18
File::ShareDir 1.00 1.118
File::Spec 0 3.75
Getopt::Long 2.32 2.52
HTTP::Request 0 6.36
HTTP::Request::Common 0 6.36
JSON 0 4.06
LWP::Protocol::https 6.04 6.10
LWP::UserAgent 6.05 6.67
Module::Runtime 0 0.016
Params::Validate 1.06 1.30
Path::Router 0.12 0.15
perl 5.012 5.016003
Plack::Middleware::LogErrors 0 0.003
Plack::Middleware::Session 0 0.33
Plack::Middleware::StackTrace 0 0
Plack::Runner 0 0
Pod::Simple::HTML 0 3.43
Pod::Simple::Text 0 3.43
Pod::Usage 0 2.03
Term::ReadLine 0 1.14
Test::Deep::NoTest 0 0
Try::Tiny 0 0.31
URI::Escape 0 5.10
Web::Machine 0.15 0.17
Web::MREST::CLI 0.276 0.284
build_requires:
Module Need Have
----------------------------- ------ --------
App::CELL 0.209 0.231
Cwd 0 3.75
Encode 0 3.18
File::Basename 0 2.84
File::ShareDir 0 1.118
File::Spec 0 3.75
HTTP::Request 0 6.36
HTTP::Request::Common 0 6.36
JSON 0 4.06
LWP::Protocol::https 6.04 6.10
LWP::UserAgent 6.05 6.67
Module::Runtime 0 0.016
Params::Validate 0 1.30
Path::Router 0.12 0.15
Plack 1.0031 1.0048
Plack::Test 0 0
Pod::Simple::HTML 0 3.43
Pod::Simple::Text 0 3.43
Test::Deep 0 1.130
Test::Fatal 0 0.016
Test::JSON 0 0.11
Test::More 0 1.302190
Test::Warnings 0 0.031
Try::Tiny 0 0.31
URI::Escape 0 5.10
Web::Machine 0.15 0.17
configure_requires:
Module Need Have
----------------------------- ------ --------
Module::Build 0 0.4231
------------------------------
ENVIRONMENT AND OTHER CONTEXT
------------------------------
Environment variables:
LANG = C
PATH = /usr/local/bin:/usr/bin:/bin:/usr/local/sbin:/usr/sbin:/sbin:/home/cpansand/bin/linux-gnu:/home/cpansand/bin/sh:/home/cpansand/bin:/usr/games:/home/cpansand/devel:/home/eserte/src/srezic-misc/scripts
PERL5LIB =
PERL5OPT =
PERL5_CPANPLUS_IS_RUNNING = 11791
PERL5_CPAN_IS_RUNNING = 11791
PERL5_CPAN_IS_RUNNING_IN_RECURSION = 11239,11791
PERLDOC = -MPod::Perldoc::ToTextOverstrike
PERL_BATCH = yes
PERL_CANARY_STABILITY_NOPROMPT = 1
PERL_CPAN_REPORTER_CONFIG = /var/tmp/cpansmoker-1023/2022062913/cpanreporter_000_config.ini
PERL_EXTUTILS_AUTOINSTALL = --defaultdeps
PERL_USE_UNSAFE_INC = 1
SHELL = /usr/bin/zsh
TERM = screen
TMPDIR = /var/tmp/cpansmoker-1023/2022062913
Perl special variables (and OS-specific diagnostics, for MSWin32):
$^X = /opt/perl-5.16.3/bin/perl
$UID/$EUID = 1023 / 1023
$GID = 1023 1023
$EGID = 1023 1023
Perl module toolchain versions installed:
Module Have
------------------- --------
CPAN 2.34
CPAN::Meta 2.150010
Cwd 3.75
ExtUtils::CBuilder 0.280236
ExtUtils::Command 7.64
ExtUtils::Install 2.20
ExtUtils::MakeMaker 7.64
ExtUtils::Manifest 1.70
ExtUtils::ParseXS 3.35
File::Spec 3.75
JSON 4.06
JSON::PP 4.10
Module::Build 0.4231
Module::Signature 0.88
Parse::CPAN::Meta 2.150010
Test::Harness 3.44
Test::More 1.302190
YAML 1.30
YAML::Syck 1.34
version 0.9929
--
Summary of my perl5 (revision 5 version 16 subversion 3) configuration:
Platform:
osname=linux, osvers=4.9.0-16-amd64, archname=x86_64-linux
uname='linux cloud11.bbbike.org 4.9.0-16-amd64 #1 smp debian 4.9.272-2 (2021-07-19) x86_64 gnulinux '
config_args='-ds -e -Dprefix=/opt/perl-5.16.3 -Dcf_email=srezic@cpan.org'
hint=recommended, useposix=true, d_sigaction=define
useithreads=undef, usemultiplicity=undef
useperlio=define, d_sfio=undef, uselargefiles=define, usesocks=undef
use64bitint=define, use64bitall=define, uselongdouble=undef
usemymalloc=n, bincompat5005=undef
Compiler:
cc='cc', ccflags ='-fwrapv -fno-strict-aliasing -pipe -fstack-protector -I/usr/local/include -D_LARGEFILE_SOURCE -D_FILE_OFFSET_BITS=64',
optimize='-O2',
cppflags='-fwrapv -fno-strict-aliasing -pipe -fstack-protector -I/usr/local/include'
ccversion='', gccversion='6.3.0 20170516', gccosandvers=''
intsize=4, longsize=8, ptrsize=8, doublesize=8, byteorder=12345678
d_longlong=define, longlongsize=8, d_longdbl=define, longdblsize=16
ivtype='long', ivsize=8, nvtype='double', nvsize=8, Off_t='off_t', lseeksize=8
alignbytes=8, prototype=define
Linker and Libraries:
ld='cc', ldflags =' -fstack-protector -L/usr/local/lib'
libpth=/usr/local/lib /lib/x86_64-linux-gnu /lib/../lib /usr/lib/x86_64-linux-gnu /usr/lib/../lib /lib /usr/lib
libs=-lnsl -ldb -ldl -lm -lcrypt -lutil -lc
perllibs=-lnsl -ldl -lm -lcrypt -lutil -lc
libc=libc-2.24.so, so=so, useshrplib=false, libperl=libperl.a
gnulibc_version='2.24'
Dynamic Linking:
dlsrc=dl_dlopen.xs, dlext=so, d_dlsymun=undef, ccdlflags='-Wl,-E'
cccdlflags='-fPIC', lddlflags='-shared -O2 -L/usr/local/lib -fstack-protector'
Characteristics of this binary (from libperl):
Compile-time options: HAS_TIMES PERLIO_LAYERS PERL_DONT_CREATE_GVSV
PERL_MALLOC_WRAP PERL_PRESERVE_IVUV USE_64_BIT_ALL
USE_64_BIT_INT USE_LARGE_FILES USE_LOCALE
USE_LOCALE_COLLATE USE_LOCALE_CTYPE
USE_LOCALE_NUMERIC USE_PERLIO USE_PERL_ATOF
Locally applied patches:
Devel::PatchPerl 2.08
Built under linux
Compiled at Sep 5 2021 11:37:44
%ENV:
PERL5LIB=""
PERL5OPT=""
PERL5_CPANPLUS_IS_RUNNING="11791"
PERL5_CPAN_IS_RUNNING="11791"
PERL5_CPAN_IS_RUNNING_IN_RECURSION="11239,11791"
PERLDOC="-MPod::Perldoc::ToTextOverstrike"
PERL_BATCH="yes"
PERL_CANARY_STABILITY_NOPROMPT="1"
PERL_CPAN_REPORTER_CONFIG="/var/tmp/cpansmoker-1023/2022062913/cpanreporter_000_config.ini"
PERL_EXTUTILS_AUTOINSTALL="--defaultdeps"
PERL_USE_UNSAFE_INC="1"
@INC:
/opt/perl-5.16.3/lib/site_perl/5.16.3/x86_64-linux
/opt/perl-5.16.3/lib/site_perl/5.16.3
/opt/perl-5.16.3/lib/5.16.3/x86_64-linux
/opt/perl-5.16.3/lib/5.16.3
.