App-Dochazka-CLI v0.240 Perl 5 v5.14.4 amd64-freebsd
- Status
- Pass
- From
- Slaven Rezić (SREZIC)
- Dist
-
App-Dochazka-CLI v0.240
- Platform
- Perl 5 v5.14.4 amd64-freebsd
- Date
- 2017-10-18 21:38:40
- ID
- b52b1c5a-b44c-11e7-9da6-a89dbbd2981e
This distribution has been tested as part of the CPAN Testers
project, supporting the Perl programming language. See
http://wiki.cpantesters.org/ for more information or email
questions to cpan-testers-discuss@perl.org
--
Dear Nathan Cutler,
This is a computer-generated report for App-Dochazka-CLI-0.240
on perl 5.14.4, created by CPAN-Reporter-1.2018.
Thank you for uploading your work to CPAN. Congratulations!
All tests were successful.
Sections of this report:
* Tester comments
* Program output
* Prerequisites
* Environment and other context
------------------------------
TESTER COMMENTS
------------------------------
Additional comments from tester:
none provided
------------------------------
PROGRAM OUTPUT
------------------------------
Output from './Build test':
t/001-init.t ................. skipped: Can't connect to server
t/cmd_active/activity.t ...... skipped: Can't connect to server
t/cmd_active/employee.t ...... skipped: Can't connect to server
t/cmd_active/interval.t ...... skipped: Can't connect to server
t/cmd_admin/activity.t ....... skipped: Can't connect to server
t/cmd_admin/employee-utf8.t .. skipped: Can't connect to server
t/cmd_admin/employee.t ....... skipped: Can't connect to server
t/cmd_admin/history.t ........ skipped: Can't connect to server
t/cmd_inactive/activity.t .... skipped: Can't connect to server
t/cmd_inactive/employee.t .... skipped: Can't connect to server
t/cmd_passerby/activity.t .... skipped: Can't connect to server
t/cmd_passerby/employee.t .... skipped: Can't connect to server
t/cmd_passerby/schedule.t .... skipped: Can't connect to server
t/parser/completion.t ........ ok
t/parser/parse_test.t ........ ok
t/parser/possible_words.t .... ok
t/parser/rest_test.t ......... ok
t/parser/semantic_tree.t ..... ok
t/util/auth.t ................ skipped: Can't connect to server
t/util/datelist.t ............ ok
t/util/determine_employee.t .. skipped: Can't connect to server
t/util/truncate.t ............ ok
t/util/ts.t .................. ok
All tests successful.
Files=23, Tests=1831, 5 wallclock secs ( 0.09 usr 0.15 sys + 3.73 cusr 0.64 csys = 4.60 CPU)
Result: PASS
------------------------------
PREREQUISITES
------------------------------
Prerequisite modules loaded:
requires:
Module Need Have
--------------------- ----- --------
App::CELL 0.209 0.222
App::Dochazka::Common 0.199 0.208
Date::Calc 0 6.4
File::HomeDir 0 1.00
File::ShareDir 1.00 1.104
File::Slurp 0 9999.19
File::Temp 0 0.2304
Getopt::Long 2.32 2.49
HTTP::Cookies 0 6.04
HTTP::Request 0 6.13
JSON 0 2.94
LWP::UserAgent 0 6.27
Params::Validate 1.06 1.28
perl 5.012 5.014004
Term::ReadKey 0 2.33
Term::ReadLine::Gnu 0 1.35
Text::Table 0 1.133
Web::MREST::CLI 0.281 0.283
build_requires:
Module Need Have
--------------------- ----- --------
App::CELL 0.209 0.222
App::Dochazka::Common 0.199 0.208
Date::Calc 0 6.4
Params::Validate 1.06 1.28
Test::Deep 0 1.127
Test::Fatal 0 0.014
Test::Warnings 0 0.026
Web::MREST::CLI 0.28 0.283
configure_requires:
Module Need Have
--------------------- ----- --------
Module::Build 0.37 0.4224
Software::License 0 0.103010
------------------------------
ENVIRONMENT AND OTHER CONTEXT
------------------------------
Environment variables:
LC_ALL = de_DE.ISO8859-1
PATH = /usr/local/bin:/usr/bin:/bin:/usr/local/sbin:/usr/sbin:/sbin:/home/cpansand/bin/freebsd9.3:/home/cpansand/bin/sh:/home/cpansand/bin:/usr/games:/home/cpansand/devel:/usr/home/eserte/src/srezic-misc/scripts
PERL5LIB =
PERL5OPT =
PERL5_CPANPLUS_IS_RUNNING = 95839
PERL5_CPAN_IS_RUNNING = 95839
PERL5_CPAN_IS_RUNNING_IN_RECURSION = 95796,95839
PERLDOC = -MPod::Perldoc::ToTextOverstrike
PERL_BATCH = yes
PERL_CANARY_STABILITY_NOPROMPT = 1
PERL_CPAN_REPORTER_CONFIG = /var/tmp/cpansmoker-1023/2017101821/cpanreporter_000_config.ini
PERL_EXTUTILS_AUTOINSTALL = --defaultdeps
SHELL = /usr/local/bin/zsh
TERM = screen
TMPDIR = /var/tmp/cpansmoker-1023/2017101821
Perl special variables (and OS-specific diagnostics, for MSWin32):
$^X = /usr/perl5.14.4/bin/perl
$UID/$EUID = 1023 / 1023
$GID = 1023 1023
$EGID = 1023 1023
Perl module toolchain versions installed:
Module Have
------------------- --------
CPAN 2.16
CPAN::Meta 2.150010
Cwd 3.62
ExtUtils::CBuilder 0.280226
ExtUtils::Command 7.24
ExtUtils::Install 2.12
ExtUtils::MakeMaker 7.24
ExtUtils::Manifest 1.70
ExtUtils::ParseXS 3.35
File::Spec 3.62
JSON 2.94
JSON::PP 2.94
Module::Build 0.4224
Module::Signature 0.81
Parse::CPAN::Meta 2.150010
Test::Harness 3.39
Test::More 1.302101
YAML 1.20
YAML::Syck 1.30
version 0.9918
--
Summary of my perl5 (revision 5 version 14 subversion 4) configuration:
Platform:
osname=freebsd, osvers=9.2-release-p4, archname=amd64-freebsd
uname='freebsd cvrsnica-freebsd-92 9.2-release-p4 freebsd 9.2-release-p4 #0: tue apr 8 18:08:22 utc 2014 root@amd64-builder.daemonology.net:usrobjusrsrcsysgeneric amd64 '
config_args='-ds -e -Dprefix=/usr/perl5.14.4'
hint=recommended, useposix=true, d_sigaction=define
useithreads=undef, usemultiplicity=undef
useperlio=define, d_sfio=undef, uselargefiles=define, usesocks=undef
use64bitint=define, use64bitall=define, uselongdouble=undef
usemymalloc=n, bincompat5005=undef
Compiler:
cc='cc', ccflags ='-DHAS_FPSETMASK -DHAS_FLOATINGPOINT_H -fno-strict-aliasing -pipe -fstack-protector -I/usr/local/include',
optimize='-O',
cppflags='-DHAS_FPSETMASK -DHAS_FLOATINGPOINT_H -fno-strict-aliasing -pipe -fstack-protector -I/usr/local/include'
ccversion='', gccversion='4.2.1 20070831 patched [FreeBSD]', gccosandvers=''
intsize=4, longsize=8, ptrsize=8, doublesize=8, byteorder=12345678
d_longlong=define, longlongsize=8, d_longdbl=define, longdblsize=16
ivtype='long', ivsize=8, nvtype='double', nvsize=8, Off_t='off_t', lseeksize=8
alignbytes=8, prototype=define
Linker and Libraries:
ld='cc', ldflags ='-Wl,-E -fstack-protector -L/usr/local/lib'
libpth=/usr/lib /usr/local/lib
libs=-lgdbm -lm -lcrypt -lutil -lc
perllibs=-lm -lcrypt -lutil -lc
libc=, so=so, useshrplib=false, libperl=libperl.a
gnulibc_version=''
Dynamic Linking:
dlsrc=dl_dlopen.xs, dlext=so, d_dlsymun=undef, ccdlflags=' '
cccdlflags='-DPIC -fPIC', lddlflags='-shared -L/usr/local/lib -fstack-protector'
Characteristics of this binary (from libperl):
Compile-time options: PERL_DONT_CREATE_GVSV PERL_MALLOC_WRAP
PERL_PRESERVE_IVUV USE_64_BIT_ALL USE_64_BIT_INT
USE_LARGE_FILES USE_PERLIO USE_PERL_ATOF
Built under freebsd
Compiled at May 16 2014 00:20:44
%ENV:
PERL5LIB=""
PERL5OPT=""
PERL5_CPANPLUS_IS_RUNNING="95839"
PERL5_CPAN_IS_RUNNING="95839"
PERL5_CPAN_IS_RUNNING_IN_RECURSION="95796,95839"
PERLDOC="-MPod::Perldoc::ToTextOverstrike"
PERL_BATCH="yes"
PERL_CANARY_STABILITY_NOPROMPT="1"
PERL_CPAN_REPORTER_CONFIG="/var/tmp/cpansmoker-1023/2017101821/cpanreporter_000_config.ini"
PERL_EXTUTILS_AUTOINSTALL="--defaultdeps"
@INC:
/usr/perl5.14.4/lib/site_perl/5.14.4/amd64-freebsd
/usr/perl5.14.4/lib/site_perl/5.14.4
/usr/perl5.14.4/lib/5.14.4/amd64-freebsd
/usr/perl5.14.4/lib/5.14.4
.