Back
From: metabase:user:314402c4-2aae-11df-837a-5e0a49663a4f
Subject: PASS Tapper-Schema-5.0.8 v5.12.5 GNU/Linux
Date: 2016-08-24T12:03:02Z
This distribution has been tested as part of the CPAN Testers
project, supporting the Perl programming language. See
http://wiki.cpantesters.org/ for more information or email
questions to cpan-testers-discuss@perl.org
--
Dear Tapper Team,
This is a computer-generated report for Tapper-Schema-5.0.8
on perl 5.12.5, created by CPAN-Reporter-1.2018.
Thank you for uploading your work to CPAN. Congratulations!
All tests were successful.
Sections of this report:
* Tester comments
* Program output
* Prerequisites
* Environment and other context
------------------------------
TESTER COMMENTS
------------------------------
Additional comments from tester:
none provided
------------------------------
PROGRAM OUTPUT
------------------------------
Output from '/usr/bin/make test':
PERL_DL_NONLAZY=1 "/bbbike/perl-5.12.5/bin/perl5.12.5" "-MExtUtils::Command::MM" "-MTest::Harness" "-e" "undef *Test::Harness::Switches; test_harness(0, 'blib/lib', 'blib/arch')" t/*.t
t/00-load.t ................................... ok
t/author-eol.t ................................ skipped: these tests are for testing by the author
t/author-no-tabs.t ............................ skipped: these tests are for testing by the author
t/author-pod-syntax.t ......................... skipped: these tests are for testing by the author
t/tapper-schema-testrun-pool.t ................ ok
t/tapper-schema-testrun-precondition.t ........ ok
t/tapper-schema-testrun.t ..................... ok
# zomtec
t/tapper_schema_reportsdb.t ................... ok
t/tapper_schema_reportsdb_reportgroups.t ...... ok
t/tapper_schema_reportsdb_reportgroupviews.t .. ok
t/tapper_schema_testrundb.t ................... ok
All tests successful.
Files=11, Tests=147, 6 wallclock secs ( 0.02 usr 0.06 sys + 5.07 cusr 0.58 csys = 5.73 CPU)
Result: PASS
------------------------------
PREREQUISITES
------------------------------
Prerequisite modules loaded:
requires:
Module Need Have
---------------------------------------- ------- --------
Carp 0 1.38
Class::C3 0 0.31
common::sense 0 3.74
Compress::Bzip2 0 2.24
Data::Dumper 0 2.161
DateTime 0 1.36
DateTime::Duration 0 1.36
DateTime::Format::MySQL 0 0.06
DateTime::Format::Pg 0 0.16011
DateTime::Format::SQLite 0 0.11
DateTime::Format::Strptime 0 1.68
DBD::mysql 0 4.035
DBD::Pg 0 3.5.3
DBD::SQLite 0 1.50
DBIx::Class 0 0.082821
DBIx::Class::Core 0 0
DBIx::Class::InflateColumn::DateTime 0 0
DBIx::Class::InflateColumn::Object::Enum 0 0.06
DBIx::Class::ResultSet 0 0
DBIx::Class::Schema 0 0
DBIx::Class::TimeStamp 0 0.14
Module::Pluggable 0 5.2
MRO::Compat 0 0.12
namespace::clean 0 0.27
parent 0 0.234
perl 5.010 5.012005
SQL::Translator 0.11006 0.11021
strict 0 1.04
TAP::DOM 0.13 0.13
Tapper::Config 0 5.0.2
Tapper::TAP::Harness 0 5.0.7
Variable::Magic 0 0.59
warnings 0 1.09
YAML::Syck 0 1.29
YAML::XS 0 0.62
build_requires:
Module Need Have
---------------------------------------- ------- --------
ExtUtils::MakeMaker 0 7.24
lib 0 0.62
Scalar::Util 0 1.45
Test::Deep 0 1.120
Test::Fixture::DBIC::Schema 0 0.04
Test::More 0.88 1.302052
configure_requires:
Module Need Have
---------------------------------------- ------- --------
ExtUtils::MakeMaker 0 7.24
------------------------------
ENVIRONMENT AND OTHER CONTEXT
------------------------------
Environment variables:
LANG = C
LC_ALL = de_DE.UTF-8
PATH = /usr/local/bin:/usr/bin:/bin:/usr/local/sbin:/usr/sbin:/sbin:/home/cpansand/bin/linux-gnu:/home/cpansand/bin/sh:/home/cpansand/bin:/usr/games:/home/cpansand/devel:/home/eserte/src/srezic-misc/scripts
PERL5LIB =
PERL5OPT =
PERL5_CPANPLUS_IS_RUNNING = 14317
PERL5_CPAN_IS_RUNNING = 14317
PERL5_CPAN_IS_RUNNING_IN_RECURSION = 14231,14317
PERLDOC = -MPod::Perldoc::ToTextOverstrike
PERL_BATCH = yes
PERL_CANARY_STABILITY_NOPROMPT = 1
PERL_CPAN_REPORTER_CONFIG = /run/user/1023/cpansmoker/2016082412/cpanreporter_000_config.ini
PERL_EXTUTILS_AUTOINSTALL = --defaultdeps
PERL_PARALLEL_SMOKER = yes
PERL_USE_UNSAFE_INC = 1
SHELL = /bin/zsh
TERM = screen
TMPDIR = /run/user/1023/cpansmoker/2016082412
Perl special variables (and OS-specific diagnostics, for MSWin32):
$^X = /bbbike/perl-5.12.5/bin/perl5.12.5
$UID/$EUID = 1023 / 1023
$GID = 1023 1023
$EGID = 1023 1023
Perl module toolchain versions installed:
Module Have
------------------- --------
CPAN 2.14
CPAN::Meta 2.150010
Cwd 3.62
ExtUtils::CBuilder 0.280224
ExtUtils::Command 7.24
ExtUtils::Install 1.55
ExtUtils::MakeMaker 7.24
ExtUtils::Manifest 1.70
ExtUtils::ParseXS 3.30
File::Spec 3.62
JSON 2.90
JSON::PP 2.27400
Module::Build 0.4220
Module::Signature 0.80
Parse::CPAN::Meta 2.150010
Test::Harness 3.36
Test::More 1.302052
YAML 1.15
YAML::Syck 1.29
version 0.9916
--
Summary of my perl5 (revision 5 version 12 subversion 5) configuration:
Platform:
osname=linux, osvers=3.16.0-4-amd64, archname=x86_64-linux
uname='linux eserte 3.16.0-4-amd64 #1 smp debian 3.16.7-ckt25-2 (2016-04-08) x86_64 gnulinux '
config_args='-ds -e -Dprefix=/opt/perl-5.12.5 -Dcf_email=srezic@cpan.org'
hint=recommended, useposix=true, d_sigaction=define
useithreads=undef, usemultiplicity=undef
useperlio=define, d_sfio=undef, uselargefiles=define, usesocks=undef
use64bitint=define, use64bitall=define, uselongdouble=undef
usemymalloc=n, bincompat5005=undef
Compiler:
cc='cc', ccflags ='-fno-strict-aliasing -pipe -fstack-protector -I/usr/local/include -D_LARGEFILE_SOURCE -D_FILE_OFFSET_BITS=64',
optimize='-O2',
cppflags='-fno-strict-aliasing -pipe -fstack-protector -I/usr/local/include'
ccversion='', gccversion='4.9.2', gccosandvers=''
intsize=4, longsize=8, ptrsize=8, doublesize=8, byteorder=12345678
d_longlong=define, longlongsize=8, d_longdbl=define, longdblsize=16
ivtype='long', ivsize=8, nvtype='double', nvsize=8, Off_t='off_t', lseeksize=8
alignbytes=8, prototype=define
Linker and Libraries:
ld='cc', ldflags =' -fstack-protector -L/usr/local/lib'
libpth=/usr/local/lib /lib/x86_64-linux-gnu /lib/../lib /usr/lib/x86_64-linux-gnu /usr/lib/../lib /lib /usr/lib
libs=-lnsl -lgdbm -ldb -ldl -lm -lcrypt -lutil -lc -lgdbm_compat
perllibs=-lnsl -ldl -lm -lcrypt -lutil -lc
libc=libc-2.19.so, so=so, useshrplib=false, libperl=libperl.a
gnulibc_version='2.19'
Dynamic Linking:
dlsrc=dl_dlopen.xs, dlext=so, d_dlsymun=undef, ccdlflags='-Wl,-E'
cccdlflags='-fPIC', lddlflags='-shared -O2 -L/usr/local/lib -fstack-protector'
Characteristics of this binary (from libperl):
Compile-time options: PERL_DONT_CREATE_GVSV PERL_MALLOC_WRAP USE_64_BIT_ALL
USE_64_BIT_INT USE_LARGE_FILES USE_PERLIO
USE_PERL_ATOF
Locally applied patches:
Devel::PatchPerl 1.42
Built under linux
Compiled at May 7 2016 10:05:30
%ENV:
PERL5LIB=""
PERL5OPT=""
PERL5_CPANPLUS_IS_RUNNING="14317"
PERL5_CPAN_IS_RUNNING="14317"
PERL5_CPAN_IS_RUNNING_IN_RECURSION="14231,14317"
PERLDOC="-MPod::Perldoc::ToTextOverstrike"
PERL_BATCH="yes"
PERL_CANARY_STABILITY_NOPROMPT="1"
PERL_CPAN_REPORTER_CONFIG="/run/user/1023/cpansmoker/2016082412/cpanreporter_000_config.ini"
PERL_EXTUTILS_AUTOINSTALL="--defaultdeps"
PERL_PARALLEL_SMOKER="yes"
PERL_USE_UNSAFE_INC="1"
@INC:
/opt/perl-5.12.5/lib/site_perl/5.12.5/x86_64-linux
/opt/perl-5.12.5/lib/site_perl/5.12.5
/opt/perl-5.12.5/lib/5.12.5/x86_64-linux
/opt/perl-5.12.5/lib/5.12.5
.