Text-Table-Boxed v1.003 Perl 5 v5.43.5 i86pc-solaris-64
- Status
- Pass
- From
- Carlos Guevara
- Dist
-
Text-Table-Boxed v1.003
- Platform
- Perl 5 v5.43.5 i86pc-solaris-64
- Date
- 2025-11-01 00:35:46
- ID
- b5438f1e-b6ba-11f0-98b7-afde6aaa18e4
This distribution has been tested as part of the CPAN Testers
project, supporting the Perl programming language. See
http://wiki.cpantesters.org/ for more information or email
questions to cpan-testers-discuss@perl.org
--
Dear Jim Avera,
This is a computer-generated report for Text-Table-Boxed-1.003
on perl 5.43.5, created by CPAN-Reporter-1.2020.
Thank you for uploading your work to CPAN. Congratulations!
All tests were successful.
Sections of this report:
* Tester comments
* Program output
* Prerequisites
* Environment and other context
------------------------------
TESTER COMMENTS
------------------------------
Additional comments from tester:
none provided
------------------------------
PROGRAM OUTPUT
------------------------------
Output from '/usr/bin/make test':
PERL_DL_NONLAZY=1 "/export/home/cpan/bin/perl/bin/perl5.43.5" "-MExtUtils::Command::MM" "-MTest::Harness" "-e" "undef *Test::Harness::Switches; test_harness(0, 'blib/lib', 'blib/arch')" t/*.t
t/10_Basic.t ............. ok
t/20_defaults.t .......... ok
t/90_Pager.t ............. ok
t/author-pod-coverage.t .. skipped: these tests are for testing by the author
t/author-pod-syntax.t .... skipped: these tests are for testing by the author
All tests successful.
Files=5, Tests=82, 1 wallclock secs ( 0.03 usr 0.01 sys + 1.14 cusr 0.16 csys = 1.33 CPU)
Result: PASS
------------------------------
PREREQUISITES
------------------------------
Prerequisite modules loaded:
requires:
Module Need Have
------------------------- -------- --------
base 0 2.27
Carp 0 1.54
constant 0 1.33
Data::Dumper::Interp 7.010 7.020
Exporter 0 5.79
feature 0 2.00
List::MoreUtils 0 0.430
List::Util 0 1.70
overload 0 1.40
parent 0 0.244
perl 5.020000 5.043005
Scalar::Util 0 1.70
strict 0 1.14
Text::Table 0 1.135
utf8 0 1.29
warnings 0 1.75
warnings::register 0 1.06
build_requires:
Module Need Have
------------------------- -------- --------
autovivification 0 0.18
Capture::Tiny 0 0.50
Carp::Always 0 0.16
Cwd 0 3.94
Data::Dumper 0 2.192
Encode 0 3.21
English 0 1.11
Env 0 1.06
ExtUtils::MakeMaker 0 7.76
File::Basename 0 2.86
File::Path 0 2.18
File::Spec 0 3.94
File::Spec::Functions 0 3.94
File::Temp 0.23 0.2312
FindBin 0 1.54
Getopt::Long 0 2.58
Guard 0 1.023
Import::Into 0 1.002005
indirect 0 0.39
JSON 0 4.10
lib 0 0.65
multidimensional 0 0.014
Path::Tiny 0 0.150
POSIX 0 2.24
Test2::Plugin::BailOnFail 0 1.302214
Test2::V0 0 1.302214
Time::HiRes 0 1.9779
configure_requires:
Module Need Have
------------------------- -------- --------
ExtUtils::MakeMaker 0 7.76
------------------------------
ENVIRONMENT AND OTHER CONTEXT
------------------------------
Environment variables:
LANG = en_US.UTF-8
LC_ALL = C
NONINTERACTIVE_TESTING = 1
PATH = /export/home/cpan/bin/perl/bin:/usr/bin:/usr/sbin:/sbin:/opt/ooce/bin:/usr/gnu/bin
PERL5LIB =
PERL5OPT =
PERL5_CPANPLUS_IS_RUNNING = 18822
PERL5_CPAN_IS_RUNNING = 18822
PERL_MM_USE_DEFAULT = 1
PERL_USE_UNSAFE_INC = 1
SHELL = /usr/bin/bash
TERM = xterm
Perl special variables (and OS-specific diagnostics, for MSWin32):
$^X = /export/home/cpan/bin/perl/bin/perl5.43.5
$UID/$EUID = 101 / 101
$GID = 1 1
$EGID = 1 1
Perl module toolchain versions installed:
Module Have
------------------- --------
CPAN 2.38
CPAN::Meta 2.150010
Cwd 3.94
ExtUtils::CBuilder 0.280242
ExtUtils::Command 7.76
ExtUtils::Install 2.22
ExtUtils::MakeMaker 7.76
ExtUtils::Manifest 1.75
ExtUtils::ParseXS 3.60
File::Spec 3.94
JSON 4.10
JSON::PP 4.16
Module::Build 0.4234
Module::Signature n/a
Parse::CPAN::Meta 2.150010
Test2 1.302214
Test::Harness 3.52
Test::More 1.302214
YAML 1.31
YAML::Syck n/a
version 0.9933
--
Summary of my perl5 (revision 5 version 43 subversion 5) configuration:
Commit id: c7edb9f8f73589779281c3c0fc7d824e0b255977
Platform:
osname=solaris
osvers=2.11
archname=i86pc-solaris-64
uname='sunos cjg-omniosce 5.11 omnios-r151052-92934720d80 i86pc i386 i86pc '
config_args='-des -Dprefix=/export/home/cpan/bin/perl -Dscriptdir=/export/home/cpan/bin/perl/bin -Dusedevel -Duse64bitall -Dcc=gcc'
hint=recommended
useposix=true
d_sigaction=define
useithreads=undef
usemultiplicity=undef
use64bitint=define
use64bitall=define
uselongdouble=undef
usemymalloc=n
default_inc_excludes_dot=define
Compiler:
cc='gcc'
ccflags ='-m64 -fwrapv -fno-strict-aliasing -pipe -fstack-protector-strong -D_LARGEFILE_SOURCE -D_FILE_OFFSET_BITS=64 -D_FORTIFY_SOURCE=2'
optimize='-O'
cppflags='-m64 -fwrapv -fno-strict-aliasing -pipe -fstack-protector-strong'
ccversion=''
gccversion='14.2.0'
gccosandvers=''
intsize=4
longsize=8
ptrsize=8
doublesize=8
byteorder=12345678
doublekind=3
d_longlong=define
longlongsize=8
d_longdbl=define
longdblsize=16
longdblkind=3
ivtype='long'
ivsize=8
nvtype='double'
nvsize=8
Off_t='off_t'
lseeksize=8
alignbytes=8
prototype=define
Linker and Libraries:
ld='gcc'
ldflags =' -m64 -fstack-protector-strong -L/usr/gnu/lib '
libpth=/opt/gcc-14/lib /usr/lib /usr/gnu/lib /usr/ccs/lib
libs=-lpthread -lsocket -lnsl -ldl -lm -lc
perllibs=-lpthread -lsocket -lnsl -ldl -lm -lc
libc=/lib/libc.so
so=so
useshrplib=true
libperl=libperl.so
gnulibc_version=''
Dynamic Linking:
dlsrc=dl_dlopen.xs
dlext=so
d_dlsymun=undef
ccdlflags=' -R /export/home/cpan/bin/perl/lib/5.43.5/i86pc-solaris-64/CORE'
cccdlflags='-fPIC'
lddlflags=' -shared -m64 -L/usr/gnu/lib -fstack-protector-strong'
Characteristics of this binary (from libperl):
Compile-time options:
HAS_LONG_DOUBLE
HAS_STRTOLD
HAS_TIMES
PERLIO_LAYERS
PERL_COPY_ON_WRITE
PERL_DONT_CREATE_GVSV
PERL_HASH_FUNC_SIPHASH13
PERL_HASH_USE_SBOX32
PERL_MALLOC_WRAP
PERL_OP_PARENT
PERL_PRESERVE_IVUV
PERL_USE_DEVEL
PERL_USE_SAFE_PUTENV
USE_64_BIT_ALL
USE_64_BIT_INT
USE_LARGE_FILES
USE_LOCALE
USE_LOCALE_COLLATE
USE_LOCALE_CTYPE
USE_LOCALE_NUMERIC
USE_LOCALE_TIME
USE_PERLIO
USE_PERL_ATOF
Built under solaris
Compiled at Oct 31 2025 19:02:04
%ENV:
PERL5LIB=""
PERL5OPT=""
PERL5_CPANPLUS_IS_RUNNING="18822"
PERL5_CPAN_IS_RUNNING="18822"
PERL_MM_USE_DEFAULT="1"
PERL_USE_UNSAFE_INC="1"
@INC:
/export/home/cpan/bin/perl/lib/site_perl/5.43.5/i86pc-solaris-64
/export/home/cpan/bin/perl/lib/site_perl/5.43.5
/export/home/cpan/bin/perl/lib/5.43.5/i86pc-solaris-64
/export/home/cpan/bin/perl/lib/5.43.5
.