Report for HTML-Scrubber-0.16-TRIAL

Back
From: metabase:user:30f4dfbe-2aae-11df-837a-5e0a49663a4f
Subject: PASS HTML-Scrubber-0.16-TRIAL v5.8.9 Mac OS X
Date: 2017-06-29T14:10:30Z

This distribution has been tested as part of the CPAN Testers
project, supporting the Perl programming language.  See
http://wiki.cpantesters.org/ for more information or email
questions to cpan-testers-discuss@perl.org


--
Dear Nigel Metheringham,

This is a computer-generated report for HTML-Scrubber-0.16-TRIAL
on perl 5.8.9, created by CPAN-Reporter-1.2018.

Thank you for uploading your work to CPAN.  Congratulations!
All tests were successful.

Sections of this report:

    * Tester comments
    * Program output
    * Prerequisites
    * Environment and other context

------------------------------
TESTER COMMENTS
------------------------------

Additional comments from tester:

this report is from an automated smoke testing program
and was not reviewed by a human for accuracy

------------------------------
PROGRAM OUTPUT
------------------------------

Output from '/sw/bin/make test':

PERL_DL_NONLAZY=1 "/Users/hornenj/perl5/perlbrew/perls/perl-5.8.9/bin/perl" "-MExtUtils::Command::MM" "-MTest::Harness" "-e" "undef *Test::Harness::Switches; test_harness(0, 'blib/lib', 'blib/arch')" t/*.t
# 
# Versions for all modules listed in MYMETA.json (including optional ones):
# 
# === Configure Requires ===
# 
#     Module              Want Have
#     ------------------- ---- ----
#     ExtUtils::MakeMaker  any 7.22
# 
# === Build Requires ===
# 
#     Module              Want Have
#     ------------------- ---- ----
#     ExtUtils::MakeMaker  any 7.22
# 
# === Test Requires ===
# 
#     Module                   Want     Have
#     ------------------------ ---- --------
#     ExtUtils::MakeMaker       any     7.22
#     File::Spec                any     3.47
#     File::Temp                any   0.2304
#     Pod::Coverage::TrustPod   any 0.100003
#     Test                      any     1.26
#     Test::CPAN::Meta          any     0.25
#     Test::Differences         any     0.64
#     Test::EOL                 any      1.6
#     Test::Kwalitee           1.21     1.26
#     Test::Memory::Cycle       any     1.06
#     Test::More               0.88 1.302078
#     Test::NoTabs              any     2.00
#     Test::PAUSE::Permissions  any  missing
#     Test::Pod                1.41     1.51
#     Test::Pod::Coverage      1.08     1.10
#     utf8                      any     1.07
# 
# === Test Recommends ===
# 
#     Module         Want     Have
#     ---------- -------- --------
#     CPAN::Meta 2.120900 2.150005
# 
# === Runtime Requires ===
# 
#     Module         Want    Have
#     -------------- ---- -------
#     HTML::Entities  any    3.69
#     HTML::Parser   3.47    3.72
#     List::Util      any    1.42
#     Scalar::Util    any    1.42
#     strict          any    1.03
#     warnings        any 1.05_01
# 
# 
# *** WARNING WARNING WARNING WARNING WARNING WARNING WARNING WARNING ***
# 
# The following REQUIRED prerequisites were not satisfied:
# 
# Test::PAUSE::Permissions is not installed (any version required)
# 
t/00-report-prereqs.t ........... ok
# Testing HTML::Scrubber 0.16, Perl 5.008009, /Users/hornenj/perl5/perlbrew/perls/perl-5.8.9/bin/perl
t/01_use.t ...................... ok
t/02_basic.t .................... ok
t/03_more.t ..................... ok
t/04_style_script.t ............. ok
t/05_pi_comment.t ............... ok
t/06_scrub_file.t ............... ok
t/07_booleans.t ................. ok
t/08_cb_attrs.t ................. ok
t/09_memory_cycle.t ............. ok
t/09_no_scrub_warnings.t ........ ok
t/jvn53973084.t ................. ok
t/rt120384_remove_false_tags.t .. ok
t/rt19063_xhtml.t ............... ok
t/rt25477_self_closing.t ........ ok
t/rt72659_utf8.t ................ ok
t/rt79044_multiple.t ............ ok
All tests successful.
Files=17, Tests=172,  1 wallclock secs ( 0.05 usr  0.03 sys +  0.57 cusr  0.23 csys =  0.88 CPU)
Result: PASS

------------------------------
PREREQUISITES
------------------------------

Prerequisite modules loaded:

requires:

    Module                   Need  Have    
    ------------------------ ----- --------
    HTML::Entities           0     3.69    
    HTML::Parser             3.47  3.72    
    List::Util               0     1.42    
    perl                     5.008 5.008009
    Scalar::Util             0     1.42    
    strict                   0     1.03    
    warnings                 0     1.05_01 

build_requires:

    Module                   Need  Have    
    ------------------------ ----- --------
    ExtUtils::MakeMaker      0     7.22    
    File::Spec               0     3.47    
    File::Temp               0     0.2304  
    Pod::Coverage::TrustPod  0     0.100003
    Test                     0     1.26    
    Test::CPAN::Meta         0     0.25    
    Test::Differences        0     0.64    
    Test::EOL                0     1.6     
    Test::Kwalitee           1.21  1.26    
    Test::Memory::Cycle      0     1.06    
    Test::More               0.88  1.302078
    Test::NoTabs             0     2.00    
  ! Test::PAUSE::Permissions 0     n/a     
    Test::Pod                1.41  1.51    
    Test::Pod::Coverage      1.08  1.10    
    utf8                     0     1.07    

configure_requires:

    Module                   Need  Have    
    ------------------------ ----- --------
    ExtUtils::MakeMaker      0     7.22    


------------------------------
ENVIRONMENT AND OTHER CONTEXT
------------------------------

Environment variables:

    AUTOMATED_TESTING = 1
    LANG = en_US.UTF-8
    LC_ALL = POSIX
    LDFLAGS = 
    PATH = /Users/hornenj/perl5/perlbrew/bin:/Users/hornenj/perl5/perlbrew/perls/perl-5.8.9/bin:/Users/hornenj/perl5/perlbrew/bin:/Users/hornenj/bin:/sw/lib/perl5/ExtUtils:/sw/bin:/usr/bin:/bin:/usr/X11R6/bin
    PERL5LIB = /Users/hornenj/.cpan/build/Parse-LocalDistribution-0.19-4/blib/arch:/Users/hornenj/.cpan/build/Parse-LocalDistribution-0.19-4/blib/lib:/Users/hornenj/.cpan/build/Parse-PMFile-0.41-19/blib/arch:/Users/hornenj/.cpan/build/Parse-PMFile-0.41-19/blib/lib:/Users/hornenj/.cpan/build/Config-Identity-0.0019-7/blib/arch:/Users/hornenj/.cpan/build/Config-Identity-0.0019-7/blib/lib:/Users/hornenj/.cpan/build/ExtUtils-MakeMaker-CPANfile-0.08-15/blib/arch:/Users/hornenj/.cpan/build/ExtUtils-MakeMaker-CPANfile-0.08-15/blib/lib:/Users/hornenj/.cpan/build/Test-NoTabs-2.00-2/blib/arch:/Users/hornenj/.cpan/build/Test-NoTabs-2.00-2/blib/lib
    PERL5OPT = 
    PERL5_CPANPLUS_IS_RUNNING = 99085
    PERL5_CPAN_IS_RUNNING = 99085
    PERL5_MINISMOKEBOX = 0.68
    PERLBREW_BASHRC_VERSION = 0.77
    PERLBREW_HOME = /Users/hornenj/.perlbrew
    PERLBREW_LIB = 
    PERLBREW_MANPATH = /Users/hornenj/perl5/perlbrew/perls/perl-5.8.9/man
    PERLBREW_PATH = /Users/hornenj/perl5/perlbrew/bin:/Users/hornenj/perl5/perlbrew/perls/perl-5.8.9/bin
    PERLBREW_PERL = perl-5.8.9
    PERLBREW_ROOT = /Users/hornenj/perl5/perlbrew
    PERLBREW_VERSION = 0.77
    PERL_EXTUTILS_AUTOINSTALL = --defaultdeps
    PERL_LOCAL_LIB_ROOT = 
    PERL_MM_USE_DEFAULT = 1
    SHELL = /bin/bash
    TERM = xterm-256color
    TMPDIR = /var/folders/pz/pd7y1qjs6s3cbk170cw50fjc000c61/T/
    ac_cv_path_INTLTOOL_PERL = /usr/bin/perl

Perl special variables (and OS-specific diagnostics, for MSWin32):

    $^X = /Users/hornenj/perl5/perlbrew/perls/perl-5.8.9/bin/perl
    $UID/$EUID = 12481 / 12481
    $GID = 14 14 5344 37191 527 37223 241
    $EGID = 14 14 5344 37191 527 37223 241

Perl module toolchain versions installed:

    Module              Have    
    ------------------- --------
    CPAN                2.16    
    CPAN::Meta          2.150005
    Cwd                 3.47    
    ExtUtils::CBuilder  0.280224
    ExtUtils::Command   7.22    
    ExtUtils::Install   2.04    
    ExtUtils::MakeMaker 7.22    
    ExtUtils::Manifest  1.70    
    ExtUtils::ParseXS   3.30    
    File::Spec          3.47    
    JSON                2.93    
    JSON::PP            2.27400 
    Module::Build       0.4214  
    Module::Signature   n/a     
    Parse::CPAN::Meta   1.4422  
    Test::Harness       3.36    
    Test::More          1.302078
    YAML                1.23    
    YAML::Syck          1.30    
    version             0.9912  


--

Summary of my perl5 (revision 5 version 8 subversion 9) configuration:
  Platform:
    osname=darwin, osvers=12.5.0, archname=darwin-thread-multi-2level
    uname='darwin ncbimac2008.ncbi.nlm.nih.gov 12.5.0 darwin kernel version 12.5.0: sun sep 29 13:33:47 pdt 2013; root:xnu-2050.48.12~1release_x86_64 x86_64 '
    config_args='-de -Dprefix=/Users/hornenj/perl5/perlbrew/perls/perl-5.8.9 -Duseithreads -Dusemultiplicity -Accflags=-O2 -W -Wformat=2 -Wswitch -Wshadow -Wwrite-strings -Wuninitialized -Wall -pipe -mtune=native -march=native -fomit-frame-pointer -msse2 -msse -mmmx -pedantic -D_FORTIFY_SOURCE=2 -Wpointer-arith -Wstrict-prototypes -fstack-protector -Wstack-protector -Wextra -Wbad-function-cast -Wcast-align -Wcast-qual -Wdisabled-optimization -Wendif-labels -Wfloat-equal -Wformat-nonliteral -Winline -Wmissing-declarations -Wmissing-prototypes -Wnested-externs -Wpointer-arith -Wundef -Wformat-security -fassociative-math -Acc=cc -Aeval:scriptdir=/Users/hornenj/perl5/perlbrew/perls/perl-5.8.9/bin'
    hint=recommended, useposix=true, d_sigaction=define
    usethreads=define use5005threads=undef useithreads=define usemultiplicity=define
    useperlio=define d_sfio=undef uselargefiles=define usesocks=undef
    use64bitint=define use64bitall=define uselongdouble=undef
    usemymalloc=n, bincompat5005=undef
  Compiler:
    cc=' cc', ccflags ='-fno-common -DPERL_DARWIN -O2 -W -Wformat=2 -Wswitch -Wshadow -Wwrite-strings -Wuninitialized -Wall -pipe -mtune=native -march=native -fomit-frame-pointer -msse2 -msse -mmmx -pedantic -D_FORTIFY_SOURCE=2 -Wpointer-arith -Wstrict-prototypes -fstack-protector -Wstack-protector -Wextra -Wbad-function-cast -Wcast-align -Wcast-qual -Wdisabled-optimization -Wendif-labels -Wfloat-equal -Wformat-nonliteral -Winline -Wmissing-declarations -Wmissing-prototypes -Wnested-externs -Wpointer-arith -Wundef -Wformat-security -fassociative-math -fno-strict-aliasing -I/usr/local/include',
    optimize='-O3',
    cppflags='-fno-common -DPERL_DARWIN -O2 -W -Wformat=2 -Wswitch -Wshadow -Wwrite-strings -Wuninitialized -Wall -pipe -mtune=native -march=native -fomit-frame-pointer -msse2 -msse -mmmx -pedantic -D_FORTIFY_SOURCE=2 -Wpointer-arith -Wstrict-prototypes -fstack-protector -Wstack-protector -Wextra -Wbad-function-cast -Wcast-align -Wcast-qual -Wdisabled-optimization -Wendif-labels -Wfloat-equal -Wformat-nonliteral -Winline -Wmissing-declarations -Wmissing-prototypes -Wnested-externs -Wpointer-arith -Wundef -Wformat-security -fassociative-math -fno-strict-aliasing -I/usr/local/include'
    ccversion='', gccversion='4.2.1 Compatible Apple LLVM 4.2 (clang-425.0.24)', gccosandvers=''
    intsize=4, longsize=8, ptrsize=8, doublesize=8, byteorder=12345678
    d_longlong=define, longlongsize=8, d_longdbl=define, longdblsize=16
    ivtype='long', ivsize=8, nvtype='double', nvsize=8, Off_t='off_t', lseeksize=8
    alignbytes=8, prototype=define
  Linker and Libraries:
    ld='env MACOSX_DEPLOYMENT_TARGET=10.3 cc', ldflags =' -L/usr/local/lib'
    libpth=/usr/local/lib /usr/lib
    libs=-ldbm -ldl -lm -lutil -lc
    perllibs=-ldl -lm -lutil -lc
    libc=, so=dylib, useshrplib=false, libperl=libperl.a
    gnulibc_version=''
  Dynamic Linking:
    dlsrc=dl_dlopen.xs, dlext=bundle, d_dlsymun=undef, ccdlflags=' '
    cccdlflags=' ', lddlflags=' -bundle -undefined dynamic_lookup -L/usr/local/lib'


Characteristics of this binary (from libperl): 
  Compile-time options: MULTIPLICITY PERL_IMPLICIT_CONTEXT PERL_MALLOC_WRAP
                        USE_64_BIT_ALL USE_64_BIT_INT USE_FAST_STDIO
                        USE_ITHREADS USE_LARGE_FILES USE_PERLIO
                        USE_REENTRANT_API
  Built under darwin
  Compiled at Sep 17 2014 09:11:13
  %ENV:
    PERL5LIB="/Users/hornenj/.cpan/build/Parse-LocalDistribution-0.19-4/blib/arch:/Users/hornenj/.cpan/build/Parse-LocalDistribution-0.19-4/blib/lib:/Users/hornenj/.cpan/build/Parse-PMFile-0.41-19/blib/arch:/Users/hornenj/.cpan/build/Parse-PMFile-0.41-19/blib/lib:/Users/hornenj/.cpan/build/Config-Identity-0.0019-7/blib/arch:/Users/hornenj/.cpan/build/Config-Identity-0.0019-7/blib/lib:/Users/hornenj/.cpan/build/ExtUtils-MakeMaker-CPANfile-0.08-15/blib/arch:/Users/hornenj/.cpan/build/ExtUtils-MakeMaker-CPANfile-0.08-15/blib/lib:/Users/hornenj/.cpan/build/Test-NoTabs-2.00-2/blib/arch:/Users/hornenj/.cpan/build/Test-NoTabs-2.00-2/blib/lib"
    PERL5OPT=""
    PERL5_CPANPLUS_IS_RUNNING="99085"
    PERL5_CPAN_IS_RUNNING="99085"
    PERL5_MINISMOKEBOX="0.68"
    PERLBREW_BASHRC_VERSION="0.77"
    PERLBREW_HOME="/Users/hornenj/.perlbrew"
    PERLBREW_LIB=""
    PERLBREW_MANPATH="/Users/hornenj/perl5/perlbrew/perls/perl-5.8.9/man"
    PERLBREW_PATH="/Users/hornenj/perl5/perlbrew/bin:/Users/hornenj/perl5/perlbrew/perls/perl-5.8.9/bin"
    PERLBREW_PERL="perl-5.8.9"
    PERLBREW_ROOT="/Users/hornenj/perl5/perlbrew"
    PERLBREW_VERSION="0.77"
    PERL_EXTUTILS_AUTOINSTALL="--defaultdeps"
    PERL_LOCAL_LIB_ROOT=""
    PERL_MM_USE_DEFAULT="1"
  @INC:
    /Users/hornenj/.cpan/build/Parse-LocalDistribution-0.19-4/blib/arch
    /Users/hornenj/.cpan/build/Parse-LocalDistribution-0.19-4/blib/lib
    /Users/hornenj/.cpan/build/Parse-PMFile-0.41-19/blib/arch
    /Users/hornenj/.cpan/build/Parse-PMFile-0.41-19/blib/lib
    /Users/hornenj/.cpan/build/Config-Identity-0.0019-7/blib/arch
    /Users/hornenj/.cpan/build/Config-Identity-0.0019-7/blib/lib
    /Users/hornenj/.cpan/build/ExtUtils-MakeMaker-CPANfile-0.08-15/blib/arch
    /Users/hornenj/.cpan/build/ExtUtils-MakeMaker-CPANfile-0.08-15/blib/lib
    /Users/hornenj/.cpan/build/Test-NoTabs-2.00-2/blib/arch
    /Users/hornenj/.cpan/build/Test-NoTabs-2.00-2/blib/lib
    /Users/hornenj/perl5/perlbrew/perls/perl-5.8.9/lib/5.8.9/darwin-thread-multi-2level
    /Users/hornenj/perl5/perlbrew/perls/perl-5.8.9/lib/5.8.9
    /Users/hornenj/perl5/perlbrew/perls/perl-5.8.9/lib/site_perl/5.8.9/darwin-thread-multi-2level
    /Users/hornenj/perl5/perlbrew/perls/perl-5.8.9/lib/site_perl/5.8.9
    .