Test-Mock-Redis v0.22 Perl 5 v5.18.0 armv6l-linux-thread-multi

Status
Pass
From
Nigel Horne
Dist
Test-Mock-Redis v0.22
Platform
Perl 5 v5.18.0 armv6l-linux-thread-multi
Date
2019-06-27 09:41:16
ID
b5b23e70-98bf-11e9-8fa9-99a29f1e7dde
This distribution has been tested as part of the CPAN Testers
project, supporting the Perl programming language.  See
http://wiki.cpantesters.org/ for more information or email
questions to cpan-testers-discuss@perl.org


--
Dear Jeff Lavallee,

This is a computer-generated report for Test-Mock-Redis-0.22
on perl 5.18.0, created by CPAN-Reporter-1.2018.

Thank you for uploading your work to CPAN.  Congratulations!
All tests were successful.

Sections of this report:

    * Tester comments
    * Program output
    * Prerequisites
    * Environment and other context

------------------------------
TESTER COMMENTS
------------------------------

Additional comments from tester:

this report is from an automated smoke testing program
and was not reviewed by a human for accuracy

------------------------------
PROGRAM OUTPUT
------------------------------

Output from './Build test':

# Testing Test::Mock::Redis 0.22, Perl 5.018000, /mnt/nas/home/pi2/njh/perl5/perlbrew/perls/perl-5.18.0/bin/perl
t/00-load.t ......... ok
t/02-new.t .......... ok
t/05-server.t ....... ok
t/06-keys.t ......... ok
t/01-basic.t ........ ok
t/08-get-set.t ...... ok
t/09-list.t ......... ok
t/10-hash.t ......... ok
# TODO
t/12-sorted-sets.t .. ok
t/11-sets.t ......... ok
t/13-multi.t ........ ok
t/15-import.t ....... ok
t/14-pipeline.t ..... ok
t/50-lrem.t ......... ok
t/manifest.t ........ skipped: Author tests not required for installation
t/boilerplate.t ..... ok
t/pod.t ............. ok
t/07-expires.t ...... ok
All tests successful.

Test Summary Report
-------------------
t/14-pipeline.t   (Wstat: 0 Tests: 16 Failed: 0)
  TODO passed:   13-16
Files=18, Tests=1211, 11 wallclock secs ( 1.65 usr  0.31 sys + 17.47 cusr  2.04 csys = 21.47 CPU)
Result: PASS

------------------------------
PREREQUISITES
------------------------------

Prerequisite modules loaded:

requires:

    Module                     Need Have    
    -------------------------- ---- --------
    Class::Method::Modifiers   0    2.09    
    namespace::clean           0    0.24    
    Package::Stash             0.34 0.36    
    Scalar::Util               0    1.47    
    Try::Tiny                  0    0.16    

build_requires:

    Module                     Need Have    
    -------------------------- ---- --------
    Test::Deep                 0    1.127   
    Test::Deep::UnorderedPairs 0    0.006   
    Test::Fatal                0    0.014   
    Test::More                 0.88 1.302136

configure_requires:

    Module                     Need Have    
    -------------------------- ---- --------
    Module::Build              0.4  0.4224  


------------------------------
ENVIRONMENT AND OTHER CONTEXT
------------------------------

Environment variables:

    AUTOMATED_TESTING = 1
    HARNESS_OPTIONS = j4
    LANG = en_GB.UTF-8
    PATH = /home/njh/perl5/perlbrew/bin:/home/njh/perl5/perlbrew/perls/perl-5.18.0/bin:/home/njh/src/njh/smoker/bin:/usr/bin:/bin
    PERL5LIB = /var/tmp/build/Test-Deep-UnorderedPairs-0.006-6/blib/arch:/var/tmp/build/Test-Deep-UnorderedPairs-0.006-6/blib/lib
    PERL5OPT = 
    PERL5_CPANPLUS_IS_RUNNING = 21604
    PERL5_CPAN_IS_RUNNING = 21604
    PERL5_CPAN_IS_RUNNING_IN_RECURSION = 21586,21604
    PERLBREW_HOME = /home/njh/.perlbrew
    PERLBREW_MANPATH = /home/njh/perl5/perlbrew/perls/perl-5.18.0/man
    PERLBREW_PATH = /home/njh/perl5/perlbrew/bin:/home/njh/perl5/perlbrew/perls/perl-5.18.0/bin
    PERLBREW_PERL = perl-5.18.0
    PERLBREW_ROOT = /home/njh/perl5/perlbrew
    PERLBREW_SHELLRC_VERSION = 0.84
    PERLBREW_VERSION = 0.84
    SHELL = /bin/sh
    TEMP = /tmp/user/1000
    TMPDIR = /tmp/user/1000/testwrapper.21589

Perl special variables (and OS-specific diagnostics, for MSWin32):

    $^X = /mnt/nas/home/pi2/njh/perl5/perlbrew/perls/perl-5.18.0/bin/perl
    $UID/$EUID = 1000 / 1000
    $GID = 1000 4 20 24 25 27 29 30 44 46 60 100 101 108 995 997 998 999 1000
    $EGID = 1000 4 20 24 25 27 29 30 44 46 60 100 101 108 995 997 998 999 1000

Perl module toolchain versions installed:

    Module              Have    
    ------------------- --------
    CPAN                2.16    
    CPAN::Meta          2.150005
    Cwd                 3.47    
    ExtUtils::CBuilder  0.280216
    ExtUtils::Command   7.30    
    ExtUtils::Install   2.06    
    ExtUtils::MakeMaker 7.30    
    ExtUtils::Manifest  1.70    
    ExtUtils::ParseXS   3.18    
    File::Spec          3.47    
    JSON                2.97001 
    JSON::PP            2.27400 
    Module::Build       0.4224  
    Module::Signature   n/a     
    Parse::CPAN::Meta   1.4422  
    Test::Harness       3.35    
    Test::More          1.302136
    YAML                1.28    
    YAML::Syck          1.30    
    version             0.9902  


--

Summary of my perl5 (revision 5 version 18 subversion 0) configuration:
   
  Platform:
    osname=linux, osvers=3.6.11+, archname=armv6l-linux-thread-multi
    uname='linux pi 3.6.11+ #371 preempt thu feb 7 16:31:35 gmt 2013 armv6l gnulinux '
    config_args='-de -Dprefix=/home/njh/perl5/perlbrew/perls/perl-5.18.0 -Duseithreads -Dusemultiplicity -Accflags=-O2 -W -Wformat=2 -Wswitch -Wshadow -Wwrite-strings -Wuninitialized -Wall -pipe -fomit-frame-pointer -pedantic -D_FORTIFY_SOURCE=2 -Wpointer-arith -Wstrict-prototypes -fstack-protector -Wstack-protector -Wextra -Wbad-function-cast -Wcast-align -Wcast-qual -Wdisabled-optimization -Wendif-labels -Wfloat-equal -Wformat-nonliteral -Winline -Wmissing-declarations -Wmissing-prototypes -Wnested-externs -Wpointer-arith -Wundef -Wformat-security -march=armv6zk -mtune=arm1176jzf-s -mfpu=vfp -mfloat-abi=hard -Aeval:scriptdir=/home/njh/perl5/perlbrew/perls/perl-5.18.0/bin'
    hint=recommended, useposix=true, d_sigaction=define
    useithreads=define, usemultiplicity=define
    useperlio=define, d_sfio=undef, uselargefiles=define, usesocks=undef
    use64bitint=undef, use64bitall=undef, uselongdouble=undef
    usemymalloc=n, bincompat5005=undef
  Compiler:
    cc='cc', ccflags ='-D_REENTRANT -D_GNU_SOURCE -O2 -W -Wformat=2 -Wswitch -Wshadow -Wwrite-strings -Wuninitialized -Wall -pipe -fomit-frame-pointer -pedantic -D_FORTIFY_SOURCE=2 -Wpointer-arith -Wstrict-prototypes -fstack-protector -Wstack-protector -Wextra -Wbad-function-cast -Wcast-align -Wcast-qual -Wdisabled-optimization -Wendif-labels -Wfloat-equal -Wformat-nonliteral -Winline -Wmissing-declarations -Wmissing-prototypes -Wnested-externs -Wpointer-arith -Wundef -Wformat-security -march=armv6zk -mtune=arm1176jzf-s -mfpu=vfp -mfloat-abi=hard -fno-strict-aliasing -I/usr/local/include -D_LARGEFILE_SOURCE -D_FILE_OFFSET_BITS=64',
    optimize='-O2',
    cppflags='-D_REENTRANT -D_GNU_SOURCE -O2 -W -Wformat=2 -Wswitch -Wshadow -Wwrite-strings -Wuninitialized -Wall -pipe -fomit-frame-pointer -pedantic -D_FORTIFY_SOURCE=2 -Wpointer-arith -Wstrict-prototypes -fstack-protector -Wstack-protector -Wextra -Wbad-function-cast -Wcast-align -Wcast-qual -Wdisabled-optimization -Wendif-labels -Wfloat-equal -Wformat-nonliteral -Winline -Wmissing-declarations -Wmissing-prototypes -Wnested-externs -Wpointer-arith -Wundef -Wformat-security -march=armv6zk -mtune=arm1176jzf-s -mfpu=vfp -mfloat-abi=hard -fno-strict-aliasing -I/usr/local/include'
    ccversion='', gccversion='4.6.3', gccosandvers=''
    intsize=4, longsize=4, ptrsize=4, doublesize=8, byteorder=1234
    d_longlong=define, longlongsize=8, d_longdbl=define, longdblsize=8
    ivtype='long', ivsize=4, nvtype='double', nvsize=8, Off_t='off_t', lseeksize=8
    alignbytes=8, prototype=define
  Linker and Libraries:
    ld='cc', ldflags =' -fstack-protector -L/usr/local/lib'
    libpth=/usr/local/lib /lib/arm-linux-gnueabihf /lib /usr/lib/arm-linux-gnueabihf /usr/lib
    libs=-lnsl -lgdbm -ldb -ldl -lm -lcrypt -lutil -lpthread -lc -lgdbm_compat
    perllibs=-lnsl -ldl -lm -lcrypt -lutil -lpthread -lc
    libc=, so=so, useshrplib=false, libperl=libperl.a
    gnulibc_version='2.13'
  Dynamic Linking:
    dlsrc=dl_dlopen.xs, dlext=so, d_dlsymun=undef, ccdlflags='-Wl,-E'
    cccdlflags='-fPIC', lddlflags='-shared -O2 -L/usr/local/lib -fstack-protector'


Characteristics of this binary (from libperl): 
  Compile-time options: HAS_TIMES MULTIPLICITY PERLIO_LAYERS
                        PERL_DONT_CREATE_GVSV
                        PERL_HASH_FUNC_ONE_AT_A_TIME_HARD
                        PERL_IMPLICIT_CONTEXT PERL_MALLOC_WRAP
                        PERL_PRESERVE_IVUV PERL_SAWAMPERSAND USE_ITHREADS
                        USE_LARGE_FILES USE_LOCALE USE_LOCALE_COLLATE
                        USE_LOCALE_CTYPE USE_LOCALE_NUMERIC USE_PERLIO
                        USE_PERL_ATOF USE_REENTRANT_API
  Built under linux
  Compiled at May 19 2013 23:24:06
  %ENV:
    PERL5LIB="/var/tmp/build/Test-Deep-UnorderedPairs-0.006-6/blib/arch:/var/tmp/build/Test-Deep-UnorderedPairs-0.006-6/blib/lib"
    PERL5OPT=""
    PERL5_CPANPLUS_IS_RUNNING="21604"
    PERL5_CPAN_IS_RUNNING="21604"
    PERL5_CPAN_IS_RUNNING_IN_RECURSION="21586,21604"
    PERLBREW_HOME="/home/njh/.perlbrew"
    PERLBREW_MANPATH="/home/njh/perl5/perlbrew/perls/perl-5.18.0/man"
    PERLBREW_PATH="/home/njh/perl5/perlbrew/bin:/home/njh/perl5/perlbrew/perls/perl-5.18.0/bin"
    PERLBREW_PERL="perl-5.18.0"
    PERLBREW_ROOT="/home/njh/perl5/perlbrew"
    PERLBREW_SHELLRC_VERSION="0.84"
    PERLBREW_VERSION="0.84"
  @INC:
    /var/tmp/build/Test-Deep-UnorderedPairs-0.006-6/blib/arch
    /var/tmp/build/Test-Deep-UnorderedPairs-0.006-6/blib/lib
    /home/njh/perl5/perlbrew/perls/perl-5.18.0/lib/site_perl/5.18.0/armv6l-linux-thread-multi
    /home/njh/perl5/perlbrew/perls/perl-5.18.0/lib/site_perl/5.18.0
    /home/njh/perl5/perlbrew/perls/perl-5.18.0/lib/5.18.0/armv6l-linux-thread-multi
    /home/njh/perl5/perlbrew/perls/perl-5.18.0/lib/5.18.0
    .