HTML-TagCloud v0.38 Perl 5 v5.12.4 x86_64-linux-multi

Status
Pass
From
Nigel Horne
Dist
HTML-TagCloud v0.38
Platform
Perl 5 v5.12.4 x86_64-linux-multi
Date
2020-11-07 16:10:10
ID
b5bc5e2c-2113-11eb-b9db-b6c7a8faccfa
This distribution has been tested as part of the CPAN Testers
project, supporting the Perl programming language.  See
http://wiki.cpantesters.org/ for more information or email
questions to cpan-testers-discuss@perl.org


--
Dear Sarah Roberts,

This is a computer-generated report for HTML-TagCloud-0.38
on perl 5.12.4, created by CPAN-Reporter-1.2018.

Thank you for uploading your work to CPAN.  Congratulations!
All tests were successful.

Sections of this report:

    * Tester comments
    * Program output
    * Prerequisites
    * Environment and other context

------------------------------
TESTER COMMENTS
------------------------------

Additional comments from tester:

none provided

------------------------------
PROGRAM OUTPUT
------------------------------

Output from './Build test':

t/pod_coverage.t .. skipped: Test::Pod::Coverage 1.04 required for testing POD coverage
t/pod.t ........... ok
t/simple.t ........ ok
All tests successful.
Files=3, Tests=21,  0 wallclock secs ( 0.01 usr  0.01 sys +  0.15 cusr  0.03 csys =  0.20 CPU)
Result: PASS

------------------------------
PREREQUISITES
------------------------------

Prerequisite modules loaded:

requires:

    Module        Need Have    
    ------------- ---- --------
    Test::More    0    1.302170

configure_requires:

    Module        Need Have    
    ------------- ---- --------
    Module::Build 0.36 0.4229  


------------------------------
ENVIRONMENT AND OTHER CONTEXT
------------------------------

Environment variables:

    HARNESS_OPTIONS = j10:c
    LANG = en_GB.UTF-8
    LD_LIBRARY_PATH = /usr/local/lib::
    PATH = /home/njh/perl5/perlbrew/bin:/home/njh/perl5/perlbrew/perls/perl-5.12.4-multi/bin:/home/njh/perl5/perlbrew/bin:/usr/local/bin:/usr/bin:/bin:/usr/games:/home/njh/bin:/sbin:/home/njh/.cargo/bin
    PERL5LIB = 
    PERL5OPT = 
    PERL5_CPANPLUS_IS_RUNNING = 186967
    PERL5_CPAN_IS_RUNNING = 186967
    PERLBREW_HOME = /home/njh/.perlbrew
    PERLBREW_LIB = 
    PERLBREW_MANPATH = /home/njh/perl5/perlbrew/perls/perl-5.12.4-multi/man
    PERLBREW_PATH = /home/njh/perl5/perlbrew/bin:/home/njh/perl5/perlbrew/perls/perl-5.12.4-multi/bin
    PERLBREW_PERL = perl-5.12.4-multi
    PERLBREW_ROOT = /home/njh/perl5/perlbrew
    PERLBREW_SHELLRC_VERSION = 0.88
    PERLBREW_VERSION = 0.88
    PERL_LOCAL_LIB_ROOT = 
    SHELL = /bin/bash
    TEMP = /tmp/user/1000
    TMPDIR = /tmp/user/1000

Perl special variables (and OS-specific diagnostics, for MSWin32):

    $^X = /home/njh/perl5/perlbrew/perls/perl-5.12.4-multi/bin/perl5.12.4
    $UID/$EUID = 1000 / 1000
    $GID = 1000 4 24 25 29 30 44 46 107 996 1000
    $EGID = 1000 4 24 25 29 30 44 46 107 996 1000

Perl module toolchain versions installed:

    Module              Have    
    ------------------- --------
    CPAN                1.94_56 
    CPAN::Meta          2.143240
    Cwd                 3.31    
    ExtUtils::CBuilder  0.27    
    ExtUtils::Command   7.44    
    ExtUtils::Install   2.06    
    ExtUtils::MakeMaker 7.44    
    ExtUtils::Manifest  1.70    
    ExtUtils::ParseXS   2.21    
    File::Spec          3.31_01 
    JSON                4.02    
    JSON::PP            2.27203 
    Module::Build       0.4229  
    Module::Signature   n/a     
    Parse::CPAN::Meta   1.4414  
    Test::Harness       3.42    
    Test::More          1.302170
    YAML                1.30    
    YAML::Syck          1.32    
    version             0.9924  


--

Summary of my perl5 (revision 5 version 12 subversion 4) configuration:
   
  Platform:
    osname=linux, osvers=5.2.0-3-amd64, archname=x86_64-linux-multi
    uname='linux microcenter 5.2.0-3-amd64 #1 smp debian 5.2.17-1 (2019-09-26) x86_64 gnulinux '
    config_args='-de -Dprefix=/home/njh/perl5/perlbrew/perls/perl-5.12.4-multi -Dusedevel -Dusemultiplicity -Accflags= -Aeval:scriptdir=/home/njh/perl5/perlbrew/perls/perl-5.12.4-multi/bin'
    hint=recommended, useposix=true, d_sigaction=define
    useithreads=undef, usemultiplicity=define
    useperlio=define, d_sfio=undef, uselargefiles=define, usesocks=undef
    use64bitint=define, use64bitall=define, uselongdouble=undef
    usemymalloc=n, bincompat5005=undef
  Compiler:
    cc='cc', ccflags ='-fno-strict-aliasing -pipe -fstack-protector -I/usr/local/include -D_LARGEFILE_SOURCE -D_FILE_OFFSET_BITS=64',
    optimize='-O2',
    cppflags='-fno-strict-aliasing -pipe -fstack-protector -I/usr/local/include'
    ccversion='', gccversion='9.2.1 20191030', gccosandvers=''
    intsize=4, longsize=8, ptrsize=8, doublesize=8, byteorder=12345678
    d_longlong=define, longlongsize=8, d_longdbl=define, longdblsize=16
    ivtype='long', ivsize=8, nvtype='double', nvsize=8, Off_t='off_t', lseeksize=8
    alignbytes=8, prototype=define
  Linker and Libraries:
    ld='cc', ldflags =' -fstack-protector -L/usr/local/lib'
    libpth=/usr/local/lib /lib/x86_64-linux-gnu /lib/../lib /usr/lib/x86_64-linux-gnu /usr/lib/../lib /lib /usr/lib
    libs=-lnsl -lgdbm -ldb -ldl -lm -lcrypt -lutil -lc
    perllibs=-lnsl -ldl -lm -lcrypt -lutil -lc
    libc=libc-2.29.so, so=so, useshrplib=false, libperl=libperl.a
    gnulibc_version='2.29'
  Dynamic Linking:
    dlsrc=dl_dlopen.xs, dlext=so, d_dlsymun=undef, ccdlflags='-Wl,-E'
    cccdlflags='-fPIC', lddlflags='-shared -O2 -L/usr/local/lib -fstack-protector'


Characteristics of this binary (from libperl): 
  Compile-time options: MULTIPLICITY PERL_DONT_CREATE_GVSV
                        PERL_IMPLICIT_CONTEXT PERL_MALLOC_WRAP PERL_USE_DEVEL
                        USE_64_BIT_ALL USE_64_BIT_INT USE_LARGE_FILES
                        USE_PERLIO USE_PERL_ATOF
  Built under linux
  Compiled at Nov  7 2019 00:53:50
  %ENV:
    PERL5LIB=""
    PERL5OPT=""
    PERL5_CPANPLUS_IS_RUNNING="186967"
    PERL5_CPAN_IS_RUNNING="186967"
    PERLBREW_HOME="/home/njh/.perlbrew"
    PERLBREW_LIB=""
    PERLBREW_MANPATH="/home/njh/perl5/perlbrew/perls/perl-5.12.4-multi/man"
    PERLBREW_PATH="/home/njh/perl5/perlbrew/bin:/home/njh/perl5/perlbrew/perls/perl-5.12.4-multi/bin"
    PERLBREW_PERL="perl-5.12.4-multi"
    PERLBREW_ROOT="/home/njh/perl5/perlbrew"
    PERLBREW_SHELLRC_VERSION="0.88"
    PERLBREW_VERSION="0.88"
    PERL_LOCAL_LIB_ROOT=""
  @INC:
    /home/njh/perl5/perlbrew/perls/perl-5.12.4-multi/lib/site_perl/5.12.4/x86_64-linux-multi
    /home/njh/perl5/perlbrew/perls/perl-5.12.4-multi/lib/site_perl/5.12.4
    /home/njh/perl5/perlbrew/perls/perl-5.12.4-multi/lib/5.12.4/x86_64-linux-multi
    /home/njh/perl5/perlbrew/perls/perl-5.12.4-multi/lib/5.12.4
    .