MooseX-MethodAttributes v0.32 Perl 5 v5.37.3 x86_64-linux

Status
Pass
From
John SJ Anderson
Dist
MooseX-MethodAttributes v0.32
Platform
Perl 5 v5.37.3 x86_64-linux
Date
2022-08-21 00:10:48
ID
b5bd69a6-20e5-11ed-9b29-180c4113f10c
This distribution has been tested as part of the CPAN Testers
project, supporting the Perl programming language.  See
http://wiki.cpantesters.org/ for more information or email
questions to cpan-testers-discuss@perl.org


--
Dear ETHER,

This is a computer-generated report for MooseX-MethodAttributes-0.32
on perl 5.37.3, created by App::cpanminus::reporter 0.17 (1.7046).

Thank you for uploading your work to CPAN.  Congratulations!
All tests were successful.

Sections of this report:

    * Tester comments
    * Program output
    * Prerequisites
    * Environment and other context

------------------------------
TESTER COMMENTS
------------------------------

Additional comments from tester:

none provided

------------------------------
PROGRAM OUTPUT
------------------------------

Output from '':

Building and testing MooseX-MethodAttributes-0.32
cp lib/MooseX/MethodAttributes/Role.pm blib/lib/MooseX/MethodAttributes/Role.pm
cp lib/MooseX/MethodAttributes/Role/Meta/Map.pm blib/lib/MooseX/MethodAttributes/Role/Meta/Map.pm
cp lib/MooseX/MethodAttributes/Inheritable.pm blib/lib/MooseX/MethodAttributes/Inheritable.pm
cp lib/MooseX/MethodAttributes/Role/Meta/Role.pm blib/lib/MooseX/MethodAttributes/Role/Meta/Role.pm
cp lib/MooseX/MethodAttributes/Role/Meta/Class.pm blib/lib/MooseX/MethodAttributes/Role/Meta/Class.pm
cp lib/MooseX/MethodAttributes/Role/AttrContainer/Inheritable.pm blib/lib/MooseX/MethodAttributes/Role/AttrContainer/Inheritable.pm
cp lib/MooseX/MethodAttributes/Role/Meta/Method.pm blib/lib/MooseX/MethodAttributes/Role/Meta/Method.pm
cp lib/MooseX/MethodAttributes/Role/Meta/Role/Application/Summation.pm blib/lib/MooseX/MethodAttributes/Role/Meta/Role/Application/Summation.pm
cp lib/MooseX/MethodAttributes.pm blib/lib/MooseX/MethodAttributes.pm
cp lib/MooseX/MethodAttributes/Role/Meta/Role/Application.pm blib/lib/MooseX/MethodAttributes/Role/Meta/Role/Application.pm
cp lib/MooseX/MethodAttributes/Role/Meta/Method/Wrapped.pm blib/lib/MooseX/MethodAttributes/Role/Meta/Method/Wrapped.pm
cp lib/MooseX/MethodAttributes/Role/Meta/Method/MaybeWrapped.pm blib/lib/MooseX/MethodAttributes/Role/Meta/Method/MaybeWrapped.pm
cp lib/MooseX/MethodAttributes/Role/AttrContainer.pm blib/lib/MooseX/MethodAttributes/Role/AttrContainer.pm
Manifying 13 pod documents
PERL_DL_NONLAZY=1 "/opt/plenv/versions/5.37.3/bin/perl5.37.3" "-MExtUtils::Command::MM" "-MTest::Harness" "-e" "undef *Test::Harness::Switches; test_harness(0, 'blib/lib', 'blib/arch')" t/*.t
# 
# Versions for all modules listed in MYMETA.json (including optional ones):
# 
# === Configure Requires ===
# 
#     Module              Want Have
#     ------------------- ---- ----
#     ExtUtils::MakeMaker  any 7.64
# 
# === Build Requires ===
# 
#     Module              Want Have
#     ------------------- ---- ----
#     ExtUtils::MakeMaker  any 7.64
# 
# === Test Requires ===
# 
#     Module                      Want     Have
#     --------------------------- ---- --------
#     ExtUtils::MakeMaker          any     7.64
#     File::Spec                   any     3.86
#     Moose::Meta::Class           any   2.2201
#     MooseX::Role::Parameterized  any     1.11
#     Test::Fatal                  any    0.016
#     Test::More                  0.88 1.302191
#     Test::Needs                  any 0.002009
#     base                         any     2.27
#     lib                          any     0.65
#     strict                       any     1.12
#     warnings                     any     1.58
# 
# === Test Recommends ===
# 
#     Module         Want     Have
#     ---------- -------- --------
#     CPAN::Meta 2.120900 2.150010
# 
# === Runtime Requires ===
# 
#     Module                Want   Have
#     --------------------- ---- ------
#     Carp                   any   1.53
#     Moose                  any 2.2201
#     Moose::Exporter        any 2.2201
#     Moose::Role            any 2.2201
#     Moose::Util            any 2.2201
#     Moose::Util::MetaRole  any 2.2201
#     namespace::autoclean  0.08   0.29
# 
# === Other Modules ===
# 
#     Module               Have
#     ----------------- -------
#     Catalyst::Runtime missing
#     Encode               3.19
#     File::Temp         0.2311
#     JSON::PP             4.11
#     Module::Runtime     0.016
#     Pod::Coverage        0.23
#     Sub::Name            0.26
#     YAML                 1.30
#     autodie              2.34
# 
t/00-report-prereqs.t .................. ok
t/basic.t .............................. ok
t/calling.t ............................ ok
t/catalyst.t ........................... ok
t/catalyst_role.t ...................... ok
t/catalyst_role_method_exclusion.t ..... ok
t/catalyst_role_preexist_methods.t ..... ok
t/inherited.t .......................... ok
t/inherited_non_moose_multilevel.t ..... ok
t/late_reinitialize.t .................. ok
t/multiple_roles.t ..................... ok
t/multiple_roles_astrait.t ............. ok
t/override_method_with_no_attribute.t .. ok
t/param_role.t ......................... ok
t/role.t ............................... ok
t/role_applied.t ....................... ok
t/role_comp.t .......................... ok
t/role_in_role.t ....................... ok
t/role_in_role_more.t .................. ok
t/role_method_conflict_detection.t ..... ok
t/role_with_anon_class.t ............... ok
t/zzz-check-breaks.t ................... ok
All tests successful.

Test Summary Report
-------------------
t/late_reinitialize.t                (Wstat: 0 Tests: 10 Failed: 0)
  TODO passed:   1-10
Files=22, Tests=144,  8 wallclock secs ( 0.08 usr  0.03 sys +  7.10 cusr  0.57 csys =  7.78 CPU)
Result: PASS

------------------------------
PREREQUISITES
------------------------------

Prerequisite modules loaded:

    No requirements found

------------------------------
ENVIRONMENT AND OTHER CONTEXT
------------------------------

Environment variables:

    LANG = en_US.UTF-8
    LC_ALL = en_US.UTF-8
    LC_TERMINAL = iTerm2
    LC_TERMINAL_VERSION = 3.4.16
    PATH = /opt/plenv/versions/5.37.3/bin:/opt/plenv/libexec:/opt/plenv/plugins/perl-build/bin:/opt/plenv/shims:/opt/plenv/shims:/opt/plenv/bin:/home/genehack/bin:/opt/nvm/versions/node/v12.16.3/bin:/opt/go/bin:/opt/git/bin:/opt/emacs/bin:/opt/local/bin:/usr/local/bin:/usr/bin:/bin:/usr/games
    PERL_CPANM_OPT = --skip-installed --prompt
    SHELL = /bin/zsh
    TERM = screen-256color

Perl special variables (and OS-specific diagnostics, for MSWin32):

    EGID = 1001 1001
    EUID = 1001
    EXECUTABLE_NAME = /opt/plenv/versions/5.37.3/bin/perl5.37.3
    GID = 1001 1001
    UID = 1001

Perl module toolchain versions installed:

    Module              Have    
    ------------------- --------
    CPAN                2.34    
    CPAN::Meta          2.150010
    Cwd                 3.86    
    ExtUtils::CBuilder  0.280237
    ExtUtils::Command   7.64    
    ExtUtils::Install   2.20    
    ExtUtils::MakeMaker 7.64    
    ExtUtils::Manifest  1.73    
    ExtUtils::ParseXS   3.45    
    File::Spec          3.86    
    JSON                4.09    
    JSON::PP            4.11    
    Module::Build       0.4231  
    Module::Signature   n/a     
    Parse::CPAN::Meta   2.150010
    Test::Harness       3.44    
    Test::More          1.302191
    YAML                1.30    
    YAML::Syck          n/a     
    version             0.9929  


--

Summary of my perl5 (revision 5 version 37 subversion 3) configuration:
   
  Platform:
    osname=linux
    osvers=5.10.0-16-amd64
    archname=x86_64-linux
    uname='linux doof 5.10.0-16-amd64 #1 smp debian 5.10.127-1 (2022-06-30) x86_64 gnulinux '
    config_args='-Dprefix=/opt/plenv/versions/5.37.3 -de -Dversiononly -Dusedevel -A'eval:scriptdir=/opt/plenv/versions/5.37.3/bin''
    hint=recommended
    useposix=true
    d_sigaction=define
    useithreads=undef
    usemultiplicity=undef
    use64bitint=define
    use64bitall=define
    uselongdouble=undef
    usemymalloc=n
    default_inc_excludes_dot=define
  Compiler:
    cc='cc'
    ccflags ='-fwrapv -fno-strict-aliasing -pipe -fstack-protector-strong -I/usr/local/include -D_LARGEFILE_SOURCE -D_FILE_OFFSET_BITS=64 -D_FORTIFY_SOURCE=2'
    optimize='-O2'
    cppflags='-fwrapv -fno-strict-aliasing -pipe -fstack-protector-strong -I/usr/local/include'
    ccversion=''
    gccversion='10.2.1 20210110'
    gccosandvers=''
    intsize=4
    longsize=8
    ptrsize=8
    doublesize=8
    byteorder=12345678
    doublekind=3
    d_longlong=define
    longlongsize=8
    d_longdbl=define
    longdblsize=16
    longdblkind=3
    ivtype='long'
    ivsize=8
    nvtype='double'
    nvsize=8
    Off_t='off_t'
    lseeksize=8
    alignbytes=8
    prototype=define
  Linker and Libraries:
    ld='cc'
    ldflags =' -fstack-protector-strong -L/usr/local/lib'
    libpth=/usr/local/lib /usr/lib/x86_64-linux-gnu /usr/lib /usr/lib64
    libs=-lpthread -lnsl -ldl -lm -lcrypt -lutil -lc
    perllibs=-lpthread -lnsl -ldl -lm -lcrypt -lutil -lc
    libc=libc-2.31.so
    so=so
    useshrplib=false
    libperl=libperl.a
    gnulibc_version='2.31'
  Dynamic Linking:
    dlsrc=dl_dlopen.xs
    dlext=so
    d_dlsymun=undef
    ccdlflags='-Wl,-E'
    cccdlflags='-fPIC'
    lddlflags='-shared -O2 -L/usr/local/lib -fstack-protector-strong'


Characteristics of this binary (from libperl): 
  Compile-time options:
    HAS_TIMES
    PERLIO_LAYERS
    PERL_COPY_ON_WRITE
    PERL_DONT_CREATE_GVSV
    PERL_HASH_FUNC_SIPHASH13
    PERL_HASH_USE_SBOX32
    PERL_MALLOC_WRAP
    PERL_OP_PARENT
    PERL_PRESERVE_IVUV
    PERL_USE_DEVEL
    PERL_USE_SAFE_PUTENV
    USE_64_BIT_ALL
    USE_64_BIT_INT
    USE_LARGE_FILES
    USE_LOCALE
    USE_LOCALE_COLLATE
    USE_LOCALE_CTYPE
    USE_LOCALE_NUMERIC
    USE_LOCALE_TIME
    USE_PERLIO
    USE_PERL_ATOF
  Built under linux
  Compiled at Aug 20 2022 12:57:51
  %ENV:
    PERL_CPANM_OPT="--skip-installed --prompt"
  @INC:
    /opt/plenv/versions/5.37.3/lib/perl5/site_perl/5.37.3/x86_64-linux
    /opt/plenv/versions/5.37.3/lib/perl5/site_perl/5.37.3
    /opt/plenv/versions/5.37.3/lib/perl5/5.37.3/x86_64-linux
    /opt/plenv/versions/5.37.3/lib/perl5/5.37.3