Report for Web-Scraper-0.36

Back
From: metabase:user:322078bc-2aae-11df-837a-5e0a49663a4f
Subject: PASS Web-Scraper-0.36 v5.12.2 NetBSD
Date: 2012-01-28T05:05:34Z

This distribution has been tested as part of the CPAN Testers
project, supporting the Perl programming language.  See
http://wiki.cpantesters.org/ for more information or email
questions to cpan-testers-discuss@perl.org


--

Dear Tatsuhiko Miyagawa,

This is a computer-generated error report created automatically by
CPANPLUS, version 0.9112. Testers personal comments may appear
at the end of this report.

MAKE TEST passed: PERL_DL_NONLAZY=1 /opt/perl-5.12.2/bin/perl "-MExtUtils::Command::MM" "-e" "test_harness(0, 'inc', 'blib/lib', 'blib/arch')" t/*.t
t/00_compile.t ................. ok
t/01_process.t ................. ok
t/02_process_multi.t ........... ok
t/03_scraper_nest.t ............ ok
t/04_callback.t ................ ok
t/05_process_first.t ........... ok
t/06_define.t .................. ok
t/07-live.t .................... skipped: LIVE_TEST not enabled
t/08-leak.t .................... skipped: LEAK_TEST is not defined
t/09-process_hash.t ............ ok
t/11_absolute.t ................ ok
t/12_html.t .................... ok
t/13_textnode.t ................ ok
t/14_absolute_nested.t ......... ok
t/15_absolute_hash.t ........... ok
t/16_filter.t .................. ok
t/17_filter_loop.t ............. ok
t/18_http_response.t ........... skipped: LIVE_TEST not enabled
t/19_decode_content.t .......... skipped: LIVE_TEST not enabled
t/20_comment_nodes.t ........... ok
t/21_html5.t ................... ok
t/libxml-00_compile.t .......... ok
t/libxml-01_process.t .......... ok
t/libxml-02_process_multi.t .... ok
t/libxml-03_scraper_nest.t ..... ok
t/libxml-04_callback.t ......... ok
t/libxml-05_process_first.t .... ok
t/libxml-06_define.t ........... ok
t/libxml-07-live.t ............. skipped: LIVE_TEST not enabled
t/libxml-08-leak.t ............. skipped: LEAK_TEST is not defined
t/libxml-09-process_hash.t ..... ok
t/libxml-11_absolute.t ......... ok
t/libxml-13_textnode.t ......... ok
t/libxml-14_absolute_nested.t .. ok
t/libxml-15_absolute_hash.t .... ok
t/libxml-16_filter.t ........... ok
t/libxml-17_filter_loop.t ...... ok
t/libxml-18_http_response.t .... skipped: LIVE_TEST not enabled
t/libxml-19_decode_content.t ... skipped: LIVE_TEST not enabled
t/libxml-20_comment_nodes.t .... ok
t/libxml-21_html5.t ............ ok
t/redefine.t ................... ok
t/xml-simple.t ................. ok
All tests successful.
Files=43, Tests=77, 32 wallclock secs ( 0.48 usr  0.38 sys + 26.82 cusr  3.37 csys = 31.05 CPU)
Result: PASS

[MSG] [Sat Jan 28 05:05:34 2012] Sending test report for 'Web-Scraper-0.36'

PREREQUISITES:

Here is a list of prerequisites you specified and versions we
managed to load:

	  Module Name                        Have     Want
	  ExtUtils::MakeMaker                6.62     6.62
	  HTML::Entities                     3.69        0
	  HTML::Selector::XPath              0.14     0.03
	  HTML::Tagset                       3.20        0
	  HTML::TreeBuilder                   4.2     3.23
	  HTML::TreeBuilder::XPath           0.14     0.08
	  LWP                                6.03    5.827
	  Scalar::Util                       1.23        0
	  Test::Base                         0.60        0
	  Test::More                         0.98        0
	  Test::Requires                     0.06        0
	  UNIVERSAL::require                 0.13        0
	  URI                                1.59        0
	  XML::XPathEngine                   0.12     0.08
	  YAML                               0.78        0

Perl module toolchain versions installed:
	Module Name                        Have
	CPANPLUS                         0.9116
	CPANPLUS::Dist::Build              0.60
	Cwd                                3.33
	ExtUtils::CBuilder             0.280202
	ExtUtils::Command                  1.17
	ExtUtils::Install                  1.55
	ExtUtils::MakeMaker                6.62
	ExtUtils::Manifest                 1.60
	ExtUtils::ParseXS                  3.11
	File::Spec                         3.33
	Module::Build                    0.3800
	Test::Harness                      3.23
	Test::More                         0.98
	version                            0.94

******************************** NOTE ********************************
The comments above are created mechanically, possibly without manual
checking by the sender.  As there are many people performing automatic
tests on each upload to CPAN, it is likely that you will receive
identical messages about the same problem.

If you believe that the message is mistaken, please reply to the first
one with correction and/or additional informations, and do not take
it personally.  We appreciate your patience. :)
**********************************************************************

Additional comments:


This report was machine-generated by CPANPLUS::Dist::YACSmoke 0.66.

------------------------------
ENVIRONMENT AND OTHER CONTEXT
------------------------------

Environment variables:

    AUTOMATED_TESTING = 1
    PATH = /sbin:/usr/sbin:/bin:/usr/bin:/usr/pkg/sbin:/usr/pkg/bin:/usr/X11R6/bin:/usr/local/sbin:/usr/local/bin
    PERL5LIB = :/opt/perl-5.12.2/.cpanplus/5.12.2/build/Web-Scraper-0.36/blib/lib:/opt/perl-5.12.2/.cpanplus/5.12.2/build/Web-Scraper-0.36/blib/arch
    PERL5_CPANIDX_URL = http://cpan.mirror.local/cpanidx/
    PERL5_CPANPLUS_IS_RUNNING = 17368
    PERL5_CPANPLUS_IS_VERSION = 0.9112
    PERL_EXTUTILS_AUTOINSTALL = --defaultdeps
    PERL_MM_USE_DEFAULT = 1
    SHELL = /bin/ksh
    TERM = screen

Perl special variables (and OS-specific diagnostics, for MSWin32):

    Perl: $^X = /opt/perl-5.12.2/bin/perl
    UID:  $<  = 0
    EUID: $>  = 0
    GID:  $(  = 0 0 2 3 4 5 20 31
    EGID: $)  = 0 0 2 3 4 5 20 31


-------------------------------


--

Summary of my perl5 (revision 5 version 12 subversion 2) configuration:
   
  Platform:
    osname=netbsd, osvers=3.1, archname=i386-netbsd
    uname='netbsd canker.bingosnet.co.uk 3.1 netbsd 3.1 (generic_laptop) #0: tue oct 31 04:32:05 utc 2006 builds@b0.netbsd.org:homebuildsabnetbsd-3-1-releasei386200610302053z-objhomebuildsabnetbsd-3-1-releasesrcsysarchi386compilegeneric_laptop i386 '
    config_args='-des -Dprefix=/opt/perl-5.12.2 -Dusemallocwrap=y -Dusemymalloc=n'
    hint=recommended, useposix=true, d_sigaction=define
    useithreads=undef, usemultiplicity=undef
    useperlio=define, d_sfio=undef, uselargefiles=define, usesocks=undef
    use64bitint=undef, use64bitall=undef, uselongdouble=undef
    usemymalloc=n, bincompat5005=undef
  Compiler:
    cc='cc', ccflags ='-fno-strict-aliasing -pipe -I/usr/pkg/include -I/usr/local/include',
    optimize='-O',
    cppflags='-fno-strict-aliasing -pipe -I/usr/pkg/include -I/usr/local/include'
    ccversion='', gccversion='3.3.3 (NetBSD nb3 20040520)', gccosandvers=''
    intsize=4, longsize=4, ptrsize=4, doublesize=8, byteorder=1234
    d_longlong=define, longlongsize=8, d_longdbl=define, longdblsize=12
    ivtype='long', ivsize=4, nvtype='double', nvsize=8, Off_t='off_t', lseeksize=8
    alignbytes=4, prototype=define
  Linker and Libraries:
    ld='cc', ldflags =' -Wl,-rpath,/usr/pkg/lib -Wl,-rpath,/usr/local/lib -L/usr/pkg/lib -L/usr/local/lib'
    libpth=/usr/pkg/lib /usr/local/lib /lib /usr/lib
    libs=-lgdbm -lm -lcrypt -lutil -lc -lposix
    perllibs=-lm -lcrypt -lutil -lc -lposix
    libc=/lib/libc.so, so=so, useshrplib=false, libperl=libperl.a
    gnulibc_version=''
  Dynamic Linking:
    dlsrc=dl_dlopen.xs, dlext=so, d_dlsymun=undef, ccdlflags='-Wl,-E '
    cccdlflags='-DPIC -fPIC ', lddlflags='--whole-archive -shared  -L/usr/pkg/lib -L/usr/local/lib'


Characteristics of this binary (from libperl): 
  Compile-time options: PERL_DONT_CREATE_GVSV PERL_MALLOC_WRAP
                        USE_LARGE_FILES USE_PERLIO USE_PERL_ATOF
  Built under netbsd
  Compiled at Sep  7 2010 10:25:34
  %ENV:
    PERL5LIB=":/opt/perl-5.12.2/.cpanplus/5.12.2/build/Web-Scraper-0.36/blib/lib:/opt/perl-5.12.2/.cpanplus/5.12.2/build/Web-Scraper-0.36/blib/arch"
    PERL5_CPANIDX_URL="http://cpan.mirror.local/cpanidx/"
    PERL5_CPANPLUS_IS_RUNNING="17368"
    PERL5_CPANPLUS_IS_VERSION="0.9112"
    PERL_EXTUTILS_AUTOINSTALL="--defaultdeps"
    PERL_MM_USE_DEFAULT="1"
  @INC:
    /opt/perl-5.12.2/.cpanplus/5.12.2/build/Web-Scraper-0.36/blib/lib
    /opt/perl-5.12.2/.cpanplus/5.12.2/build/Web-Scraper-0.36/blib/arch
    /opt/perl-5.12.2/lib/site_perl/5.12.2/i386-netbsd
    /opt/perl-5.12.2/lib/site_perl/5.12.2
    /opt/perl-5.12.2/lib/5.12.2/i386-netbsd
    /opt/perl-5.12.2/lib/5.12.2
    .