XML-Parser v2.44 Perl 5 v5.30.0 x86_64-linux
- Status
- Pass
- From
- Reini Urban (RURBAN)
- Dist
-
XML-Parser v2.44
- Platform
- Perl 5 v5.30.0 x86_64-linux
- Date
- 2019-07-01 12:21:10
- ID
- b5de7efc-9bfa-11e9-b51d-b241850d707a
This distribution has been tested as part of the CPAN Testers
project, supporting the Perl programming language. See
http://wiki.cpantesters.org/ for more information or email
questions to cpan-testers-discuss@perl.org
--
Dear Todd Rinaldo,
This is a computer-generated report for XML-Parser-2.44
on perl 5.30.0, created by CPAN-Reporter-1.2018.
Thank you for uploading your work to CPAN. Congratulations!
All tests were successful.
Sections of this report:
* Tester comments
* Program output
* Prerequisites
* Environment and other context
------------------------------
TESTER COMMENTS
------------------------------
Additional comments from tester:
this report is from an automated smoke testing program
and was not reviewed by a human for accuracy
------------------------------
PROGRAM OUTPUT
------------------------------
Output from '/usr/bin/make test':
make[1]: Entering directory '/home/rurban/Perl/.cpan-build/XML-Parser-2.44-1/Expat'
"/usr/local/bin/cperl5.30.0-nt" -MExtUtils::Command::MM -e 'cp_nonempty' -- Expat.bs ../blib/arch/auto/XML/Parser/Expat/Expat.bs 644
make[1]: Leaving directory '/home/rurban/Perl/.cpan-build/XML-Parser-2.44-1/Expat'
PERL_DL_NONLAZY=1 "/usr/local/bin/cperl5.30.0-nt" "-MExtUtils::Command::MM" "-MTest::Harness" "-e" "undef *Test::Harness::Switches; test_harness(0, 'blib/lib', 'blib/arch')" t/*.t
t/astress.t ........... ok
t/cdata.t ............. ok
t/decl.t .............. ok
t/defaulted.t ......... ok
t/encoding.t .......... ok
t/external_ent.t ...... ok
t/file.t .............. ok
t/file_open_scalar.t .. ok
t/finish.t ............ ok
t/namespaces.t ........ ok
t/parament.t .......... ok
t/partial.t ........... ok
t/skip.t .............. ok
t/stream.t ............ ok
t/styles.t ............ ok
All tests successful.
Files=15, Tests=141, 0 wallclock secs ( 0.04 usr 0.01 sys + 0.55 cusr 0.05 csys = 0.65 CPU)
Result: PASS
------------------------------
PREREQUISITES
------------------------------
Prerequisite modules loaded:
requires:
Module Need Have
------------------- ------- ---------
LWP::UserAgent 0 6.39
perl 5.00405 5.030000
build_requires:
Module Need Have
------------------- ------- ---------
Test::More 0 1.401015c
configure_requires:
Module Need Have
------------------- ------- ---------
ExtUtils::MakeMaker 0 8.35_08
------------------------------
ENVIRONMENT AND OTHER CONTEXT
------------------------------
Environment variables:
AUTOMATED_TESTING = 1
LANG = en_US.UTF-8
NONINTERACTIVE_TESTING = 1
PATH = /home/rurban/bin:/usr/local/bin:/usr/bin:/bin:/usr/local/games:/usr/games:/home/rurban/go/bin:/home/rurban/.cargo/bin
PERL5LIB =
PERL5OPT =
PERL5_CPANPLUS_IS_RUNNING = 18398
PERL5_CPAN_IS_RUNNING = 18398
PERL_MM_USE_DEFAULT = 1
PERL_USE_UNSAFE_INC = 1
SHELL = /bin/bash
TERM = xterm-256color
Perl special variables (and OS-specific diagnostics, for MSWin32):
$^X = /usr/local/bin/cperl5.30.0-nt
$UID/$EUID = 1000 / 1000
$GID = 1000 27 124 157 1000
$EGID = 1000 27 124 157 1000
Perl module toolchain versions installed:
Module Have
------------------- ---------
CPAN 2.27_02
CPAN::Meta 2.150010
Cwd 4.78c
ExtUtils::CBuilder 0.280231
ExtUtils::Command 7.35_06
ExtUtils::Install 2.14
ExtUtils::MakeMaker 8.35_08
ExtUtils::Manifest 1.72
ExtUtils::ParseXS 3.40_03
File::Spec 4.78c
JSON 4.02
JSON::PP 4.03_01
Module::Build 0.4229
Module::Signature 0.83
Parse::CPAN::Meta 2.150010
Test::Harness 3.42_01
Test::More 1.401015c
YAML 1.29
YAML::Syck n/a
version 0.9924_02
--
Summary of my cperl (revision 5 version 30 subversion 0) configuration:
Commit id: f8515f9a50d68f62b4b28835ec0e12c9483b594f cperl-5.29.2-521-gf8515f9a50
git_branch=master
Platform:
osname=linux, osvers=4.19.0-5-amd64, archname=x86_64-linux
uname='linux reini 4.19.0-5-amd64 #1 smp debian 4.19.37-3 (2019-05-15) x86_64 gnulinux '
config_args='-sder -Dcc=ccache gcc-8 -Uuseshrplib -Accflags=-msse4.2 -march=native -DNO_MATHOMS -Dinstallman1dir=none -Dinstallman3dir=none -Dinstallsiteman1dir=none -Dinstallsiteman3dir=none -Darchname=x86_64-linux -Darchlib=/usr/local/lib/cperl/5.30.0/x86_64-linux -Dsitearch=/usr/local/lib/cperl/site_cperl/5.30.0/x86_64-linux -Dperlpath=/usr/local/bin/cperl5.30.0-nt -Dstartperl=#!/usr/local/bin/cperl5.30.0-nt -Dcf_email=rurban@cpan.org -Doptimize=-O3 -g'
hint=recommended, useposix=true, d_sigaction=define
useithreads=undef, usemultiplicity=undef
use64bitint=define, use64bitall=define, uselongdouble=undef
usemymalloc=n, bincompat5005=undef default_inc_excludes_dot=define
Compiler:
cc='ccache gcc-8', ccflags ='-msse4.2 -march=native -DNO_MATHOMS -fwrapv -fno-strict-aliasing -pipe -fstack-protector -flto=4 -DLTO -D_LARGEFILE_SOURCE -D_FILE_OFFSET_BITS=64 -D_FORTIFY_SOURCE=2',
optimize='-O3 -g',
cppflags='-msse4.2 -march=native -DNO_MATHOMS -fwrapv -fno-strict-aliasing -pipe -fstack-protector -flto=4 -DLTO'
ccversion='', gccversion='8.3.0', gccosandvers=''
intsize=4, longsize=8, ptrsize=8, doublesize=8, byteorder=12345678, doublekind=3
d_longlong=define, longlongsize=8, d_longdbl=define, longdblsize=16, longdblkind=3
ivtype='long', ivsize=8, nvtype='double', nvsize=8, Off_t='off_t', lseeksize=8
alignbytes=8
Linker and Libraries:
ld='ccache gcc-8', ldflags =' -fstack-protector -L/usr/local/lib -L/opt/local/lib -flto=4'
libpth=/usr/lib/gcc/x86_64-linux-gnu/8 /usr/lib/x86_64-linux-gnu /usr/lib /lib/x86_64-linux-gnu /lib /usr/local/lib /opt/local/lib /lib64 /usr/lib64 /usr/local/lib64
libs=-lpthread -lnsl -ldl -lffi -lm -lcrypt -lutil -lc
perllibs=-lpthread -lnsl -ldl -lffi -lm -lcrypt -lutil -lc
libc=libc-2.28.so, so=so, useshrplib=false, libperl=libperl.a
gnulibc_version='2.28'
Dynamic Linking:
dlsrc=dl_dlopen.xs, dlext=so, d_dlsymun=undef, ccdlflags='-Wl,-E'
cccdlflags='-fPIC', lddlflags='-shared -O3 -g -L/usr/local/lib -L/opt/local/lib -fstack-protector -flto=4'
Characteristics of this binary (from libperl):
Compile-time options: HAS_TIMES NO_MATHOMS PERLIO_LAYERS PERL_COPY_ON_WRITE
PERL_DONT_CREATE_GVSV PERL_HASH_FUNC_FNV1A
PERL_MALLOC_WRAP PERL_OP_PARENT PERL_PERTURB_KEYS_TOP
PERL_PRESERVE_IVUV USE_64_BIT_ALL USE_64_BIT_INT
USE_CPERL USE_LARGE_FILES USE_LOCALE
USE_LOCALE_COLLATE USE_LOCALE_CTYPE
USE_LOCALE_NUMERIC USE_LOCALE_TIME USE_PERLIO
USE_PERL_ATOF USE_SAFE_HASHITER
Built under linux
Compiled at Mon Jul 1 11:25:51 UTC 2019
%ENV:
PERL5LIB=""
PERL5OPT=""
PERL5_CPANPLUS_IS_RUNNING="18398"
PERL5_CPAN_IS_RUNNING="18398"
PERL_MM_USE_DEFAULT="1"
PERL_USE_UNSAFE_INC="1"
@INC:
/usr/local/lib/cperl/site_cperl/5.30.0/x86_64-linux
/usr/local/lib/cperl/site_cperl/5.30.0
/usr/local/lib/cperl/5.30.0/x86_64-linux
/usr/local/lib/cperl/5.30.0
/usr/local/lib/cperl/site_cperl/5.28.2
/usr/local/lib/cperl/site_cperl/5.28.1
/usr/local/lib/cperl/site_cperl/5.28.0
/usr/local/lib/cperl/site_cperl/5.26.5
/usr/local/lib/cperl/site_cperl/5.26.4
/usr/local/lib/cperl/site_cperl/5.26.3
/usr/local/lib/cperl/site_cperl/5.26.2
/usr/local/lib/cperl/site_cperl/5.26.1
/usr/local/lib/cperl/site_cperl/5.24.4
/usr/local/lib/cperl/site_cperl/5.24.3
/usr/local/lib/cperl/site_cperl/5.22.5
/usr/local/lib/cperl/site_cperl
.