Dist-Zilla-Plugin-ReadmeFromPod v0.36 Perl 5 v5.26.2 darwin-thread-multi-2level

Status
Pass
From
aero
Dist
Dist-Zilla-Plugin-ReadmeFromPod v0.36
Platform
Perl 5 v5.26.2 darwin-thread-multi-2level
Date
2018-10-30 00:14:04
ID
b5e96ed0-dbd8-11e8-960f-63563ef356cb
This distribution has been tested as part of the CPAN Testers
project, supporting the Perl programming language.  See
http://wiki.cpantesters.org/ for more information or email
questions to cpan-testers-discuss@perl.org


--
Dear Robert Rothenberg,

This is a computer-generated report for Dist-Zilla-Plugin-ReadmeFromPod-0.36
on perl 5.26.2, created by CPAN-Reporter-1.2018.

Thank you for uploading your work to CPAN.  Congratulations!
All tests were successful.

Sections of this report:

    * Tester comments
    * Program output
    * Prerequisites
    * Environment and other context

------------------------------
TESTER COMMENTS
------------------------------

Additional comments from tester:

none provided

------------------------------
PROGRAM OUTPUT
------------------------------

Output from '/usr/bin/make test':

PERL_DL_NONLAZY=1 "/Users/chadwick/CASE_SENSITIVE_FS/perl5/perlbrew/perls/perl-5.26/bin/perl" "-MExtUtils::Command::MM" "-MTest::Harness" "-e" "undef *Test::Harness::Switches; test_harness(0, 'blib/lib', 'blib/arch')" t/*.t
t/00-compile.t ......... ok
# Testing Dist::Zilla::Plugin::ReadmeFromPod 0.36, Perl 5.026002, /Users/chadwick/CASE_SENSITIVE_FS/perl5/perlbrew/perls/perl-5.26/bin/perl
t/00-load.t ............ ok
t/author-pod-syntax.t .. skipped: these tests are for testing by the author
t/release-kwalitee.t ... skipped: these tests are for release candidate testing
All tests successful.
Files=4, Tests=2,  1 wallclock secs ( 0.02 usr  0.01 sys +  0.62 cusr  0.09 csys =  0.74 CPU)
Result: PASS

------------------------------
PREREQUISITES
------------------------------

Prerequisite modules loaded:

requires:

    Module                         Need   Have    
    ------------------------------ ------ --------
    Dist::Zilla::File::InMemory    0      6.012   
    Dist::Zilla::Role::FilePruner  0      6.012   
    Dist::Zilla::Role::InstallTool 5      6.012   
    IO::String                     0      1.08    
    List::Util                     1.33   1.50    
    Moose                          0      2.2011  
    perl                           5.006  5.026002
  ! Pod::Readme                    v1.2.0 v1.1.2  

build_requires:

    Module                         Need   Have    
    ------------------------------ ------ --------
    ExtUtils::MakeMaker            0      7.34    
    File::Spec                     0      3.75    
    IO::Handle                     0      1.39    
    IPC::Open3                     0      1.20    
    strict                         0      1.11    
    Test::More                     0      1.302140
    warnings                       0      1.37    

configure_requires:

    Module                         Need   Have    
    ------------------------------ ------ --------
    ExtUtils::MakeMaker            0      7.34    


------------------------------
ENVIRONMENT AND OTHER CONTEXT
------------------------------

Environment variables:

    LANG = ko_KR.UTF-8
    NONINTERACTIVE_TESTING = 1
    PATH = /Users/chadwick/perl5/perlbrew/bin:/Users/chadwick/perl5/perlbrew/perls/perl-5.26/bin:/Users/chadwick/.anyenv/envs/pyenv/shims:/Users/chadwick/.anyenv/envs/pyenv/bin:/Users/chadwick/.anyenv/envs/ndenv/shims:/Users/chadwick/.anyenv/envs/ndenv/bin:/Users/chadwick/.anyenv/envs/jenv/shims:/Users/chadwick/.anyenv/envs/jenv/bin:/Users/chadwick/.anyenv/envs/goenv/shims:/Users/chadwick/.anyenv/envs/goenv/bin:/Users/chadwick/.anyenv/bin:/Users/chadwick/.rakudobrew/bin:/Users/chadwick/bin:/usr/local/opt/openssl/bin:/usr/local/sbin:/usr/local/bin:/usr/bin:/bin:/usr/sbin:/sbin:/opt/X11/bin:/Applications/Wireshark.app/Contents/MacOS
    PERL5LIB = 
    PERL5OPT = 
    PERL5_CPANPLUS_IS_RUNNING = 11958
    PERL5_CPAN_IS_RUNNING = 11958
    PERLBREW_HOME = /Users/chadwick/.perlbrew
    PERLBREW_MANPATH = /Users/chadwick/perl5/perlbrew/perls/perl-5.26/man
    PERLBREW_PATH = /Users/chadwick/perl5/perlbrew/bin:/Users/chadwick/perl5/perlbrew/perls/perl-5.26/bin
    PERLBREW_PERL = perl-5.26
    PERLBREW_ROOT = /Users/chadwick/perl5/perlbrew
    PERLBREW_SHELLRC_VERSION = 0.84
    PERLBREW_VERSION = 0.84
    PERL_MM_USE_DEFAULT = 1
    SHELL = /usr/local/bin/bash
    TERM = xterm-256color
    TMPDIR = /var/folders/5v/bskbxfxj1dd1rvy3btm829v00000gn/T/

Perl special variables (and OS-specific diagnostics, for MSWin32):

    $^X = /Users/chadwick/CASE_SENSITIVE_FS/perl5/perlbrew/perls/perl-5.26/bin/perl
    $UID/$EUID = 501 / 501
    $GID = 20 20 501 12 61 79 80 81 98 701 33 100 204 250 395 398 399
    $EGID = 20 20 501 12 61 79 80 81 98 701 33 100 204 250 395 398 399

Perl module toolchain versions installed:

    Module              Have    
    ------------------- --------
    CPAN                2.16    
    CPAN::Meta          2.150010
    Cwd                 3.75    
    ExtUtils::CBuilder  0.280230
    ExtUtils::Command   7.34    
    ExtUtils::Install   2.14    
    ExtUtils::MakeMaker 7.34    
    ExtUtils::Manifest  1.71    
    ExtUtils::ParseXS   3.35    
    File::Spec          3.75    
    JSON                2.97001 
    JSON::PP            2.97001 
    Module::Build       0.4224  
    Module::Signature   n/a     
    Parse::CPAN::Meta   2.150010
    Test::Harness       3.42    
    Test::More          1.302140
    YAML                1.26    
    YAML::Syck          1.31    
    version             0.9924  


--

Summary of my perl5 (revision 5 version 26 subversion 2) configuration:
   
  Platform:
    osname=darwin
    osvers=17.5.0
    archname=darwin-thread-multi-2level
    uname='darwin chadwick-mac 17.5.0 darwin kernel version 17.5.0: mon mar 5 22:24:32 pst 2018; root:xnu-4570.51.1~1release_x86_64 x86_64 '
    config_args='-de -Dprefix=/Users/chadwick/perl5/perlbrew/perls/perl-5.26 -Dman1dir=none -Dman3dir=none -Dusethreads -Aeval:scriptdir=/Users/chadwick/perl5/perlbrew/perls/perl-5.26/bin'
    hint=recommended
    useposix=true
    d_sigaction=define
    useithreads=define
    usemultiplicity=define
    use64bitint=define
    use64bitall=define
    uselongdouble=undef
    usemymalloc=n
    default_inc_excludes_dot=define
    bincompat5005=undef
  Compiler:
    cc='cc'
    ccflags ='-fno-common -DPERL_DARWIN -fno-strict-aliasing -pipe -fstack-protector-strong -I/usr/local/include'
    optimize='-O3'
    cppflags='-fno-common -DPERL_DARWIN -fno-strict-aliasing -pipe -fstack-protector-strong -I/usr/local/include'
    ccversion=''
    gccversion='4.2.1 Compatible Apple LLVM 9.1.0 (clang-902.0.39.1)'
    gccosandvers=''
    intsize=4
    longsize=8
    ptrsize=8
    doublesize=8
    byteorder=12345678
    doublekind=3
    d_longlong=define
    longlongsize=8
    d_longdbl=define
    longdblsize=16
    longdblkind=3
    ivtype='long'
    ivsize=8
    nvtype='double'
    nvsize=8
    Off_t='off_t'
    lseeksize=8
    alignbytes=8
    prototype=define
  Linker and Libraries:
    ld='env MACOSX_DEPLOYMENT_TARGET=10.3 cc'
    ldflags =' -fstack-protector-strong -L/usr/local/lib'
    libpth=/usr/local/lib /Applications/Xcode.app/Contents/Developer/Toolchains/XcodeDefault.xctoolchain/usr/lib/clang/9.1.0/lib /Applications/Xcode.app/Contents/Developer/Toolchains/XcodeDefault.xctoolchain/usr/lib /usr/lib
    libs=-lpthread -lgdbm -ldbm -ldb -ldl -lm -lutil -lc
    perllibs=-lpthread -ldl -lm -lutil -lc
    libc=
    so=dylib
    useshrplib=false
    libperl=libperl.a
    gnulibc_version=''
  Dynamic Linking:
    dlsrc=dl_dlopen.xs
    dlext=bundle
    d_dlsymun=undef
    ccdlflags=' '
    cccdlflags=' '
    lddlflags=' -bundle -undefined dynamic_lookup -L/usr/local/lib -fstack-protector-strong'


Characteristics of this binary (from libperl): 
  Compile-time options:
    HAS_TIMES
    MULTIPLICITY
    PERLIO_LAYERS
    PERL_COPY_ON_WRITE
    PERL_DONT_CREATE_GVSV
    PERL_IMPLICIT_CONTEXT
    PERL_MALLOC_WRAP
    PERL_OP_PARENT
    PERL_PRESERVE_IVUV
    USE_64_BIT_ALL
    USE_64_BIT_INT
    USE_ITHREADS
    USE_LARGE_FILES
    USE_LOCALE
    USE_LOCALE_COLLATE
    USE_LOCALE_CTYPE
    USE_LOCALE_NUMERIC
    USE_LOCALE_TIME
    USE_PERLIO
    USE_PERL_ATOF
    USE_REENTRANT_API
  Locally applied patches:
    Devel::PatchPerl 1.34
  Built under darwin
  Compiled at Apr 14 2018 23:40:30
  %ENV:
    PERL5LIB=""
    PERL5OPT=""
    PERL5_CPANPLUS_IS_RUNNING="11958"
    PERL5_CPAN_IS_RUNNING="11958"
    PERLBREW_HOME="/Users/chadwick/.perlbrew"
    PERLBREW_MANPATH="/Users/chadwick/perl5/perlbrew/perls/perl-5.26/man"
    PERLBREW_PATH="/Users/chadwick/perl5/perlbrew/bin:/Users/chadwick/perl5/perlbrew/perls/perl-5.26/bin"
    PERLBREW_PERL="perl-5.26"
    PERLBREW_ROOT="/Users/chadwick/perl5/perlbrew"
    PERLBREW_SHELLRC_VERSION="0.84"
    PERLBREW_VERSION="0.84"
    PERL_MM_USE_DEFAULT="1"
  @INC:
    /Users/chadwick/perl5/perlbrew/perls/perl-5.26/lib/site_perl/5.26.2/darwin-thread-multi-2level
    /Users/chadwick/perl5/perlbrew/perls/perl-5.26/lib/site_perl/5.26.2
    /Users/chadwick/perl5/perlbrew/perls/perl-5.26/lib/5.26.2/darwin-thread-multi-2level
    /Users/chadwick/perl5/perlbrew/perls/perl-5.26/lib/5.26.2
    /Users/chadwick/perl5/perlbrew/perls/perl-5.26/lib/site_perl/5.26.1/darwin-thread-multi-2level
    /Users/chadwick/perl5/perlbrew/perls/perl-5.26/lib/site_perl/5.26.1
    /Users/chadwick/perl5/perlbrew/perls/perl-5.26/lib/site_perl/5.26.0/darwin-thread-multi-2level
    /Users/chadwick/perl5/perlbrew/perls/perl-5.26/lib/site_perl/5.26.0
    /Users/chadwick/perl5/perlbrew/perls/perl-5.26/lib/site_perl