Report for POE-Loop-Glib-0.038

Back
From: metabase:user:314402c4-2aae-11df-837a-5e0a49663a4f
Subject: PASS POE-Loop-Glib-0.038 v5.22.2 GNU/Linux
Date: 2017-02-07T06:50:28Z

This distribution has been tested as part of the CPAN Testers
project, supporting the Perl programming language.  See
http://wiki.cpantesters.org/ for more information or email
questions to cpan-testers-discuss@perl.org


--
Dear Apocalypse,

This is a computer-generated report for POE-Loop-Glib-0.038
on perl 5.22.2, created by CPAN-Reporter-1.2018.

Thank you for uploading your work to CPAN.  Congratulations!
All tests were successful.

Sections of this report:

    * Tester comments
    * Program output
    * Prerequisites
    * Environment and other context

------------------------------
TESTER COMMENTS
------------------------------

Additional comments from tester:

none provided

------------------------------
PROGRAM OUTPUT
------------------------------

Output from './Build test':

t/1_load.t ............................. ok
t/apocalypse.t ......................... skipped: Test::Apocalypse required for validating the distribution
# Testing POE 1.367, POE::Test::Loops 1.360, Using Loop(POE::Loop::Glib), Perl 5.022002, /bbbike/perl-5.22.2t/bin/perl on linux
t/glib/00_info.t ....................... ok
t/glib/all_errors.t .................... skipped: most of these should move into other test files
GLib-CRITICAL **: Source ID 4 was not found when attempting to remove it at /tmpfs/.cpan-build-cpansand/2017020706/POE-Loop-Glib-0.038-IGNFJ_/blib/lib/POE/Loop/Glib.pm line 53.
GLib-CRITICAL **: Source ID 10 was not found when attempting to remove it at /tmpfs/.cpan-build-cpansand/2017020706/POE-Loop-Glib-0.038-IGNFJ_/blib/lib/POE/Loop/Glib.pm line 53.
t/glib/comp_tcp.t ...................... ok
# You might see a 'disconnect' error during this test.
# It may be ignored.
GLib-CRITICAL **: Source ID 4 was not found when attempting to remove it at /tmpfs/.cpan-build-cpansand/2017020706/POE-Loop-Glib-0.038-IGNFJ_/blib/lib/POE/Loop/Glib.pm line 53.
GLib-CRITICAL **: Source ID 26 was not found when attempting to remove it at /tmpfs/.cpan-build-cpansand/2017020706/POE-Loop-Glib-0.038-IGNFJ_/blib/lib/POE/Loop/Glib.pm line 53.
GLib-CRITICAL **: Source ID 87 was not found when attempting to remove it at /tmpfs/.cpan-build-cpansand/2017020706/POE-Loop-Glib-0.038-IGNFJ_/blib/lib/POE/Loop/Glib.pm line 53.
GLib-CRITICAL **: Source ID 94 was not found when attempting to remove it at /tmpfs/.cpan-build-cpansand/2017020706/POE-Loop-Glib-0.038-IGNFJ_/blib/lib/POE/Loop/Glib.pm line 53.
GLib-CRITICAL **: Source ID 96 was not found when attempting to remove it at /tmpfs/.cpan-build-cpansand/2017020706/POE-Loop-Glib-0.038-IGNFJ_/blib/lib/POE/Loop/Glib.pm line 53.
GLib-CRITICAL **: Source ID 99 was not found when attempting to remove it at /tmpfs/.cpan-build-cpansand/2017020706/POE-Loop-Glib-0.038-IGNFJ_/blib/lib/POE/Loop/Glib.pm line 53.
GLib-CRITICAL **: Source ID 110 was not found when attempting to remove it at /tmpfs/.cpan-build-cpansand/2017020706/POE-Loop-Glib-0.038-IGNFJ_/blib/lib/POE/Loop/Glib.pm line 53.
GLib-CRITICAL **: Source ID 115 was not found when attempting to remove it at /tmpfs/.cpan-build-cpansand/2017020706/POE-Loop-Glib-0.038-IGNFJ_/blib/lib/POE/Loop/Glib.pm line 53.
GLib-CRITICAL **: Source ID 119 was not found when attempting to remove it at /tmpfs/.cpan-build-cpansand/2017020706/POE-Loop-Glib-0.038-IGNFJ_/blib/lib/POE/Loop/Glib.pm line 53.
GLib-CRITICAL **: Source ID 127 was not found when attempting to remove it at /tmpfs/.cpan-build-cpansand/2017020706/POE-Loop-Glib-0.038-IGNFJ_/blib/lib/POE/Loop/Glib.pm line 53.
GLib-CRITICAL **: Source ID 129 was not found when attempting to remove it at /tmpfs/.cpan-build-cpansand/2017020706/POE-Loop-Glib-0.038-IGNFJ_/blib/lib/POE/Loop/Glib.pm line 53.
GLib-CRITICAL **: Source ID 131 was not found when attempting to remove it at /tmpfs/.cpan-build-cpansand/2017020706/POE-Loop-Glib-0.038-IGNFJ_/blib/lib/POE/Loop/Glib.pm line 53.
GLib-CRITICAL **: Source ID 135 was not found when attempting to remove it at /tmpfs/.cpan-build-cpansand/2017020706/POE-Loop-Glib-0.038-IGNFJ_/blib/lib/POE/Loop/Glib.pm line 53.
GLib-CRITICAL **: Source ID 136 was not found when attempting to remove it at /tmpfs/.cpan-build-cpansand/2017020706/POE-Loop-Glib-0.038-IGNFJ_/blib/lib/POE/Loop/Glib.pm line 53.
GLib-CRITICAL **: Source ID 140 was not found when attempting to remove it at /tmpfs/.cpan-build-cpansand/2017020706/POE-Loop-Glib-0.038-IGNFJ_/blib/lib/POE/Loop/Glib.pm line 53.
GLib-CRITICAL **: Source ID 142 was not found when attempting to remove it at /tmpfs/.cpan-build-cpansand/2017020706/POE-Loop-Glib-0.038-IGNFJ_/blib/lib/POE/Loop/Glib.pm line 53.
GLib-CRITICAL **: Source ID 143 was not found when attempting to remove it at /tmpfs/.cpan-build-cpansand/2017020706/POE-Loop-Glib-0.038-IGNFJ_/blib/lib/POE/Loop/Glib.pm line 53.
GLib-CRITICAL **: Source ID 147 was not found when attempting to remove it at /tmpfs/.cpan-build-cpansand/2017020706/POE-Loop-Glib-0.038-IGNFJ_/blib/lib/POE/Loop/Glib.pm line 53.
GLib-CRITICAL **: Source ID 149 was not found when attempting to remove it at /tmpfs/.cpan-build-cpansand/2017020706/POE-Loop-Glib-0.038-IGNFJ_/blib/lib/POE/Loop/Glib.pm line 53.
GLib-CRITICAL **: Source ID 150 was not found when attempting to remove it at /tmpfs/.cpan-build-cpansand/2017020706/POE-Loop-Glib-0.038-IGNFJ_/blib/lib/POE/Loop/Glib.pm line 53.
GLib-CRITICAL **: Source ID 154 was not found when attempting to remove it at /tmpfs/.cpan-build-cpansand/2017020706/POE-Loop-Glib-0.038-IGNFJ_/blib/lib/POE/Loop/Glib.pm line 53.
GLib-CRITICAL **: Source ID 156 was not found when attempting to remove it at /tmpfs/.cpan-build-cpansand/2017020706/POE-Loop-Glib-0.038-IGNFJ_/blib/lib/POE/Loop/Glib.pm line 53.
GLib-CRITICAL **: Source ID 157 was not found when attempting to remove it at /tmpfs/.cpan-build-cpansand/2017020706/POE-Loop-Glib-0.038-IGNFJ_/blib/lib/POE/Loop/Glib.pm line 53.
GLib-CRITICAL **: Source ID 161 was not found when attempting to remove it at /tmpfs/.cpan-build-cpansand/2017020706/POE-Loop-Glib-0.038-IGNFJ_/blib/lib/POE/Loop/Glib.pm line 53.
GLib-CRITICAL **: Source ID 163 was not found when attempting to remove it at /tmpfs/.cpan-build-cpansand/2017020706/POE-Loop-Glib-0.038-IGNFJ_/blib/lib/POE/Loop/Glib.pm line 53.
GLib-CRITICAL **: Source ID 164 was not found when attempting to remove it at /tmpfs/.cpan-build-cpansand/2017020706/POE-Loop-Glib-0.038-IGNFJ_/blib/lib/POE/Loop/Glib.pm line 53.
GLib-CRITICAL **: Source ID 168 was not found when attempting to remove it at /tmpfs/.cpan-build-cpansand/2017020706/POE-Loop-Glib-0.038-IGNFJ_/blib/lib/POE/Loop/Glib.pm line 53.
GLib-CRITICAL **: Source ID 171 was not found when attempting to remove it at /tmpfs/.cpan-build-cpansand/2017020706/POE-Loop-Glib-0.038-IGNFJ_/blib/lib/POE/Loop/Glib.pm line 53.
t/glib/comp_tcp_concurrent.t ........... ok
t/glib/connect_errors.t ................ ok
t/glib/k_alarms.t ...................... ok
t/glib/k_aliases.t ..................... ok
t/glib/k_detach.t ...................... ok
t/glib/k_run_returns.t ................. ok
GLib-CRITICAL **: Source ID 6 was not found when attempting to remove it at /tmpfs/.cpan-build-cpansand/2017020706/POE-Loop-Glib-0.038-IGNFJ_/blib/lib/POE/Loop/Glib.pm line 53.
GLib-CRITICAL **: Source ID 33 was not found when attempting to remove it at /tmpfs/.cpan-build-cpansand/2017020706/POE-Loop-Glib-0.038-IGNFJ_/blib/lib/POE/Loop/Glib.pm line 53.
GLib-CRITICAL **: Source ID 49 was not found when attempting to remove it at /tmpfs/.cpan-build-cpansand/2017020706/POE-Loop-Glib-0.038-IGNFJ_/blib/lib/POE/Loop/Glib.pm line 53.
GLib-CRITICAL **: Source ID 65 was not found when attempting to remove it at /tmpfs/.cpan-build-cpansand/2017020706/POE-Loop-Glib-0.038-IGNFJ_/blib/lib/POE/Loop/Glib.pm line 53.
GLib-CRITICAL **: Source ID 81 was not found when attempting to remove it at /tmpfs/.cpan-build-cpansand/2017020706/POE-Loop-Glib-0.038-IGNFJ_/blib/lib/POE/Loop/Glib.pm line 53.
t/glib/k_selects.t ..................... ok
t/glib/k_sig_child.t ................... ok
t/glib/k_signals.t ..................... ok
GLib-CRITICAL **: Source ID 3 was not found when attempting to remove it at /tmpfs/.cpan-build-cpansand/2017020706/POE-Loop-Glib-0.038-IGNFJ_/blib/lib/POE/Loop/Glib.pm line 53.
GLib-CRITICAL **: Source ID 14 was not found when attempting to remove it at /tmpfs/.cpan-build-cpansand/2017020706/POE-Loop-Glib-0.038-IGNFJ_/blib/lib/POE/Loop/Glib.pm line 53.
GLib-CRITICAL **: Source ID 25 was not found when attempting to remove it at /tmpfs/.cpan-build-cpansand/2017020706/POE-Loop-Glib-0.038-IGNFJ_/blib/lib/POE/Loop/Glib.pm line 53.
GLib-CRITICAL **: Source ID 36 was not found when attempting to remove it at /tmpfs/.cpan-build-cpansand/2017020706/POE-Loop-Glib-0.038-IGNFJ_/blib/lib/POE/Loop/Glib.pm line 53.
GLib-CRITICAL **: Source ID 47 was not found when attempting to remove it at /tmpfs/.cpan-build-cpansand/2017020706/POE-Loop-Glib-0.038-IGNFJ_/blib/lib/POE/Loop/Glib.pm line 53.
GLib-CRITICAL **: Source ID 58 was not found when attempting to remove it at /tmpfs/.cpan-build-cpansand/2017020706/POE-Loop-Glib-0.038-IGNFJ_/blib/lib/POE/Loop/Glib.pm line 53.
GLib-CRITICAL **: Source ID 69 was not found when attempting to remove it at /tmpfs/.cpan-build-cpansand/2017020706/POE-Loop-Glib-0.038-IGNFJ_/blib/lib/POE/Loop/Glib.pm line 53.
GLib-CRITICAL **: Source ID 80 was not found when attempting to remove it at /tmpfs/.cpan-build-cpansand/2017020706/POE-Loop-Glib-0.038-IGNFJ_/blib/lib/POE/Loop/Glib.pm line 53.
t/glib/k_signals_rerun.t ............... ok
t/glib/sbk_signal_init.t ............... ok
t/glib/ses_nfa.t ....................... ok
# This test generates some STDERR during trace testing.
=== 11856 === 23 -> _start (from /home/cpansand/.cpan/build/2017020706/POE-1.367-W06wZV/blib/lib/POE/Kernel.pm at 1497)
=== 11856 === 23 -> woot (from /home/cpansand/.cpan/build/2017020706/POE-Test-Loops-1.360-IXA9Xo/blib/lib/POE/Test/Loops/ses_session.pm at 691)
=== 11856 === 23 -> narf (from /home/cpansand/.cpan/build/2017020706/POE-Test-Loops-1.360-IXA9Xo/blib/lib/POE/Test/Loops/ses_session.pm at 692)
=== 11856 === 23 -> _stop (from /home/cpansand/.cpan/build/2017020706/POE-1.367-W06wZV/blib/lib/POE/Resource/Sessions.pm at 571)
t/glib/ses_session.t ................... ok
t/glib/wheel_accept.t .................. ok
t/glib/wheel_curses.t .................. skipped: Curses not available
t/glib/wheel_readline.t ................ ok
GLib-CRITICAL **: Source ID 17 was not found when attempting to remove it at /tmpfs/.cpan-build-cpansand/2017020706/POE-Loop-Glib-0.038-IGNFJ_/blib/lib/POE/Loop/Glib.pm line 53.
t/glib/wheel_readwrite.t ............... ok
t/glib/wheel_run.t ..................... ok
t/glib/wheel_run_size.t ................ skipped: This test requires Term::Size
t/glib/wheel_sf_ipv6.t ................. skipped: Socket::GetAddrInfo is needed for IPv6 tests
GLib-CRITICAL **: Source ID 4 was not found when attempting to remove it at /tmpfs/.cpan-build-cpansand/2017020706/POE-Loop-Glib-0.038-IGNFJ_/blib/lib/POE/Loop/Glib.pm line 53.
t/glib/wheel_sf_tcp.t .................. ok
t/glib/wheel_sf_udp.t .................. ok
GLib-CRITICAL **: Source ID 4 was not found when attempting to remove it at /tmpfs/.cpan-build-cpansand/2017020706/POE-Loop-Glib-0.038-IGNFJ_/blib/lib/POE/Loop/Glib.pm line 53.
t/glib/wheel_sf_unix.t ................. ok
t/glib/wheel_tail.t .................... ok
t/glib/z_kogman_sig_order.t ............ ok
t/glib/z_leolo_wheel_run.t ............. ok
# Using '/bin/true' as our thing to run under system()
t/glib/z_merijn_sigchld_system.t ....... ok
GLib-CRITICAL **: Source ID 6 was not found when attempting to remove it at /tmpfs/.cpan-build-cpansand/2017020706/POE-Loop-Glib-0.038-IGNFJ_/blib/lib/POE/Loop/Glib.pm line 53.
GLib-CRITICAL **: Source ID 17 was not found when attempting to remove it at /tmpfs/.cpan-build-cpansand/2017020706/POE-Loop-Glib-0.038-IGNFJ_/blib/lib/POE/Loop/Glib.pm line 53.
t/glib/z_rt39872_sigchld.t ............. ok
# Parent 12064 waiting 3sec for slow systems to settle.
# sending sigusr1
# sent sigusr1
12065: GLib-CRITICAL **: Source ID 5 was not found when attempting to remove it at /tmpfs/.cpan-build-cpansand/2017020706/POE-Loop-Glib-0.038-IGNFJ_/blib/lib/POE/Loop/Glib.pm line 53.
12064: GLib-CRITICAL **: Source ID 8 was not found when attempting to remove it at /tmpfs/.cpan-build-cpansand/2017020706/POE-Loop-Glib-0.038-IGNFJ_/blib/lib/POE/Loop/Glib.pm line 53.
12066: GLib-CRITICAL **: Source ID 5 was not found when attempting to remove it at /tmpfs/.cpan-build-cpansand/2017020706/POE-Loop-Glib-0.038-IGNFJ_/blib/lib/POE/Loop/Glib.pm line 53.
12064: GLib-CRITICAL **: Source ID 13 was not found when attempting to remove it at /tmpfs/.cpan-build-cpansand/2017020706/POE-Loop-Glib-0.038-IGNFJ_/blib/lib/POE/Loop/Glib.pm line 53.
t/glib/z_rt39872_sigchld_stop.t ........ ok
GLib-CRITICAL **: Source ID 14 was not found when attempting to remove it at /tmpfs/.cpan-build-cpansand/2017020706/POE-Loop-Glib-0.038-IGNFJ_/blib/lib/POE/Loop/Glib.pm line 53.
GLib-CRITICAL **: Source ID 34 was not found when attempting to remove it at /tmpfs/.cpan-build-cpansand/2017020706/POE-Loop-Glib-0.038-IGNFJ_/blib/lib/POE/Loop/Glib.pm line 53.
t/glib/z_rt53302_fh_watchers.t ......... ok
t/glib/z_rt54319_bazerka_followtail.t .. ok
t/glib/z_steinert_signal_integrity.t ... ok
All tests successful.
Files=37, Tests=487, 28 wallclock secs ( 0.11 usr  0.20 sys +  2.53 cusr  0.76 csys =  3.60 CPU)
Result: PASS

------------------------------
PREREQUISITES
------------------------------

Prerequisite modules loaded:

requires:

    Module           Need  Have    
    ---------------- ----- --------
    Glib             1.222 1.324   
    perl             5.006 5.022002
    POE              1.288 1.367   

configure_requires:

    Module           Need  Have    
    ---------------- ----- --------
    Module::Build    0.36  0.4218  
    POE::Test::Loops 1.034 1.360   


------------------------------
ENVIRONMENT AND OTHER CONTEXT
------------------------------

Environment variables:

    LANG = C
    PATH = /usr/local/bin:/usr/bin:/bin:/usr/local/sbin:/usr/sbin:/sbin:/home/cpansand/bin/linux-gnu:/home/cpansand/bin/sh:/home/cpansand/bin:/usr/games:/home/cpansand/devel:/home/eserte/src/srezic-misc/scripts
    PERL5LIB = /home/cpansand/.cpan/build/2017020706/POE-1.367-W06wZV/blib/arch:/home/cpansand/.cpan/build/2017020706/POE-1.367-W06wZV/blib/lib:/home/cpansand/.cpan/build/2017020706/IO-Pipely-0.005-q0YmBI/blib/arch:/home/cpansand/.cpan/build/2017020706/IO-Pipely-0.005-q0YmBI/blib/lib:/home/cpansand/.cpan/build/2017020706/Glib-1.324-IL576g/blib/arch:/home/cpansand/.cpan/build/2017020706/Glib-1.324-IL576g/blib/lib:/home/cpansand/.cpan/build/2017020706/POE-Test-Loops-1.360-IXA9Xo/blib/arch:/home/cpansand/.cpan/build/2017020706/POE-Test-Loops-1.360-IXA9Xo/blib/lib
    PERL5OPT = 
    PERL5_CPANPLUS_IS_RUNNING = 9122
    PERL5_CPAN_IS_RUNNING = 9122
    PERL5_CPAN_IS_RUNNING_IN_RECURSION = 30454,9122
    PERLDOC = -MPod::Perldoc::ToTextOverstrike
    PERL_BATCH = yes
    PERL_CANARY_STABILITY_NOPROMPT = 1
    PERL_CPAN_REPORTER_CONFIG = /run/user/1023/cpansmoker/2017020706/cpanreporter_000_config.ini
    PERL_EXTUTILS_AUTOINSTALL = --defaultdeps
    PERL_USE_UNSAFE_INC = 1
    SHELL = /bin/zsh
    TERM = screen
    TMPDIR = /run/user/1023/cpansmoker/2017020706

Perl special variables (and OS-specific diagnostics, for MSWin32):

    $^X = /bbbike/perl-5.22.2t/bin/perl
    $UID/$EUID = 1023 / 1023
    $GID = 1023 1023
    $EGID = 1023 1023

Perl module toolchain versions installed:

    Module              Have    
    ------------------- --------
    CPAN                2.11    
    CPAN::Meta          2.150001
    Cwd                 3.56_01 
    ExtUtils::CBuilder  0.280221
    ExtUtils::Command   1.20    
    ExtUtils::Install   2.04    
    ExtUtils::MakeMaker 7.04_01 
    ExtUtils::Manifest  1.70    
    ExtUtils::ParseXS   3.28    
    File::Spec          3.56_01 
    JSON                2.90    
    JSON::PP            2.27300 
    Module::Build       0.4218  
    Module::Signature   n/a     
    Parse::CPAN::Meta   1.4422  
    Test::Harness       3.35    
    Test::More          1.001014
    YAML                1.15    
    YAML::Syck          1.29    
    version             0.9909  


--

Summary of my perl5 (revision 5 version 22 subversion 2) configuration:
   
  Platform:
    osname=linux, osvers=3.16.0-4-amd64, archname=x86_64-linux-thread-multi
    uname='linux eserte 3.16.0-4-amd64 #1 smp debian 3.16.7-ckt25-2 (2016-04-08) x86_64 gnulinux '
    config_args='-ds -e -Dprefix=/opt/perl-5.22.2t -Dusethreads -Dcf_email=srezic@cpan.org'
    hint=recommended, useposix=true, d_sigaction=define
    useithreads=define, usemultiplicity=define
    use64bitint=define, use64bitall=define, uselongdouble=undef
    usemymalloc=n, bincompat5005=undef
  Compiler:
    cc='cc', ccflags ='-D_REENTRANT -D_GNU_SOURCE -fwrapv -fno-strict-aliasing -pipe -fstack-protector-strong -I/usr/local/include -D_LARGEFILE_SOURCE -D_FILE_OFFSET_BITS=64 -D_FORTIFY_SOURCE=2',
    optimize='-O2',
    cppflags='-D_REENTRANT -D_GNU_SOURCE -fwrapv -fno-strict-aliasing -pipe -fstack-protector-strong -I/usr/local/include'
    ccversion='', gccversion='4.9.2', gccosandvers=''
    intsize=4, longsize=8, ptrsize=8, doublesize=8, byteorder=12345678, doublekind=3
    d_longlong=define, longlongsize=8, d_longdbl=define, longdblsize=16, longdblkind=3
    ivtype='long', ivsize=8, nvtype='double', nvsize=8, Off_t='off_t', lseeksize=8
    alignbytes=8, prototype=define
  Linker and Libraries:
    ld='cc', ldflags =' -fstack-protector-strong -L/usr/local/lib'
    libpth=/usr/local/lib /usr/lib/gcc/x86_64-linux-gnu/4.9/include-fixed /usr/include/x86_64-linux-gnu /usr/lib /lib/x86_64-linux-gnu /lib/../lib /usr/lib/x86_64-linux-gnu /usr/lib/../lib /lib
    libs=-lpthread -lnsl -lgdbm -ldb -ldl -lm -lcrypt -lutil -lc -lgdbm_compat
    perllibs=-lpthread -lnsl -ldl -lm -lcrypt -lutil -lc
    libc=libc-2.19.so, so=so, useshrplib=false, libperl=libperl.a
    gnulibc_version='2.19'
  Dynamic Linking:
    dlsrc=dl_dlopen.xs, dlext=so, d_dlsymun=undef, ccdlflags='-Wl,-E'
    cccdlflags='-fPIC', lddlflags='-shared -O2 -L/usr/local/lib -fstack-protector-strong'


Characteristics of this binary (from libperl): 
  Compile-time options: HAS_TIMES MULTIPLICITY PERLIO_LAYERS
                        PERL_DONT_CREATE_GVSV
                        PERL_HASH_FUNC_ONE_AT_A_TIME_HARD
                        PERL_IMPLICIT_CONTEXT PERL_MALLOC_WRAP
                        PERL_NEW_COPY_ON_WRITE PERL_PRESERVE_IVUV
                        USE_64_BIT_ALL USE_64_BIT_INT USE_ITHREADS
                        USE_LARGE_FILES USE_LOCALE USE_LOCALE_COLLATE
                        USE_LOCALE_CTYPE USE_LOCALE_NUMERIC USE_LOCALE_TIME
                        USE_PERLIO USE_PERL_ATOF USE_REENTRANT_API
  Built under linux
  Compiled at May  7 2016 14:08:21
  %ENV:
    PERL5LIB="/home/cpansand/.cpan/build/2017020706/POE-1.367-W06wZV/blib/arch:/home/cpansand/.cpan/build/2017020706/POE-1.367-W06wZV/blib/lib:/home/cpansand/.cpan/build/2017020706/IO-Pipely-0.005-q0YmBI/blib/arch:/home/cpansand/.cpan/build/2017020706/IO-Pipely-0.005-q0YmBI/blib/lib:/home/cpansand/.cpan/build/2017020706/Glib-1.324-IL576g/blib/arch:/home/cpansand/.cpan/build/2017020706/Glib-1.324-IL576g/blib/lib:/home/cpansand/.cpan/build/2017020706/POE-Test-Loops-1.360-IXA9Xo/blib/arch:/home/cpansand/.cpan/build/2017020706/POE-Test-Loops-1.360-IXA9Xo/blib/lib"
    PERL5OPT=""
    PERL5_CPANPLUS_IS_RUNNING="9122"
    PERL5_CPAN_IS_RUNNING="9122"
    PERL5_CPAN_IS_RUNNING_IN_RECURSION="30454,9122"
    PERLDOC="-MPod::Perldoc::ToTextOverstrike"
    PERL_BATCH="yes"
    PERL_CANARY_STABILITY_NOPROMPT="1"
    PERL_CPAN_REPORTER_CONFIG="/run/user/1023/cpansmoker/2017020706/cpanreporter_000_config.ini"
    PERL_EXTUTILS_AUTOINSTALL="--defaultdeps"
    PERL_USE_UNSAFE_INC="1"
  @INC:
    /home/cpansand/.cpan/build/2017020706/POE-1.367-W06wZV/blib/arch
    /home/cpansand/.cpan/build/2017020706/POE-1.367-W06wZV/blib/lib
    /home/cpansand/.cpan/build/2017020706/IO-Pipely-0.005-q0YmBI/blib/arch
    /home/cpansand/.cpan/build/2017020706/IO-Pipely-0.005-q0YmBI/blib/lib
    /home/cpansand/.cpan/build/2017020706/Glib-1.324-IL576g/blib/arch
    /home/cpansand/.cpan/build/2017020706/Glib-1.324-IL576g/blib/lib
    /home/cpansand/.cpan/build/2017020706/POE-Test-Loops-1.360-IXA9Xo/blib/arch
    /home/cpansand/.cpan/build/2017020706/POE-Test-Loops-1.360-IXA9Xo/blib/lib
    /opt/perl-5.22.2t/lib/site_perl/5.22.2/x86_64-linux-thread-multi
    /opt/perl-5.22.2t/lib/site_perl/5.22.2
    /opt/perl-5.22.2t/lib/5.22.2/x86_64-linux-thread-multi
    /opt/perl-5.22.2t/lib/5.22.2
    .