Geo-TCX v1.06-TRIAL Perl 5 v5.34.1 x86_64-linux

Status
Pass
From
Slaven Rezić
Dist
Geo-TCX v1.06-TRIAL
Platform
Perl 5 v5.34.1 x86_64-linux
Date
2022-12-13 05:40:54
ID
b5f0326a-7aa8-11ed-b646-1f1a6e8775ea
This distribution has been tested as part of the CPAN Testers
project, supporting the Perl programming language.  See
http://wiki.cpantesters.org/ for more information or email
questions to cpan-testers-discuss@perl.org


--
Dear Patrick Joly,

This is a computer-generated report for Geo-TCX-1.06-TRIAL
on perl 5.34.1, created by CPAN-Reporter-1.2018.

Thank you for uploading your work to CPAN.  Congratulations!
All tests were successful.

Sections of this report:

    * Tester comments
    * Program output
    * Prerequisites
    * Environment and other context

------------------------------
TESTER COMMENTS
------------------------------

Additional comments from tester:

none provided

------------------------------
PROGRAM OUTPUT
------------------------------

Output from './Build test':

# 
# Versions for all modules listed in MYMETA.json (including optional ones):
# 
# === Configure Requires ===
# 
#     Module              Want   Have
#     ------------------- ---- ------
#     ExtUtils::MakeMaker  any   7.64
#     Module::Build       0.28 0.4231
# 
# === Build Requires ===
# 
#     Module        Want   Have
#     ------------- ---- ------
#     Module::Build 0.28 0.4231
# 
# === Test Requires ===
# 
#     Module              Want     Have
#     ------------------- ---- --------
#     ExtUtils::MakeMaker  any     7.64
#     File::Spec           any     3.80
#     Test::More           any 1.302191
# 
# === Test Recommends ===
# 
#     Module         Want     Have
#     ---------- -------- --------
#     CPAN::Meta 2.120900 2.150010
# 
# === Runtime Requires ===
# 
#     Module                    Want     Have
#     ------------------------- ---- --------
#     DateTime                  1.44     1.59
#     DateTime::Format::ISO8601  any     0.16
#     Geo::Gpx                  1.08     1.09
#     IPC::System::Simple       1.30     1.30
#     Test::More                 any 1.302191
# 
t/00-report-prereqs.t .. ok
# Testing Geo::TCX 1.06
t/00_load.t ............ ok
t/01_main.t ............ ok
t/02_lap.t ............. ok
t/02_track.t ........... ok
t/02_trackpoint.t ...... ok
t/03_courses.t ......... ok
t/fit.t ................ skipped: fit2tcx.pl from Geo::FIT is not available on your path
t/set.t ................ ok
All tests successful.
Files=9, Tests=235,  4 wallclock secs ( 0.05 usr  0.02 sys +  4.09 cusr  0.28 csys =  4.44 CPU)
Result: PASS

------------------------------
PREREQUISITES
------------------------------

Prerequisite modules loaded:

requires:

    Module                    Need  Have    
    ------------------------- ----- --------
    DateTime                  1.44  1.59    
    DateTime::Format::ISO8601 0     0.16    
    Geo::Gpx                  1.08  1.09    
    IPC::System::Simple       1.30  1.30    
    perl                      5.008 5.034001
    Test::More                0     1.302191

build_requires:

    Module                    Need  Have    
    ------------------------- ----- --------
    ExtUtils::MakeMaker       0     7.64    
    File::Spec                0     3.80    
    Module::Build             0.28  0.4231  
    Test::More                0     1.302191

configure_requires:

    Module                    Need  Have    
    ------------------------- ----- --------
    ExtUtils::MakeMaker       0     7.64    
    Module::Build             0.28  0.4231  


------------------------------
ENVIRONMENT AND OTHER CONTEXT
------------------------------

Environment variables:

    LANG = en_US.UTF-8
    PATH = /usr/local/bin:/usr/bin:/bin:/usr/local/sbin:/usr/sbin:/sbin:/home/cpansand/bin/linux-gnu:/home/cpansand/bin/sh:/home/cpansand/bin:/usr/games:/home/cpansand/devel:/home/eserte/src/srezic-misc/scripts
    PERL5LIB = /home/cpansand/.cpan/build/2022121305/Geo-Gpx-1.09-2/blib/arch:/home/cpansand/.cpan/build/2022121305/Geo-Gpx-1.09-2/blib/lib
    PERL5OPT = 
    PERL5_CPANPLUS_IS_RUNNING = 640217
    PERL5_CPAN_IS_RUNNING = 640217
    PERL5_CPAN_IS_RUNNING_IN_RECURSION = 639676,640217
    PERLDOC = -MPod::Perldoc::ToTextOverstrike
    PERL_BATCH = yes
    PERL_CANARY_STABILITY_NOPROMPT = 1
    PERL_CPAN_REPORTER_CONFIG = /var/tmp/cpansmoker-1023/2022121305/cpanreporter_000_config.ini
    PERL_EXTUTILS_AUTOINSTALL = --defaultdeps
    PERL_USE_UNSAFE_INC = 1
    SHELL = /usr/bin/zsh
    TERM = screen
    TMPDIR = /var/tmp/cpansmoker-1023/2022121305

Perl special variables (and OS-specific diagnostics, for MSWin32):

    $^X = /opt/perl-5.34.1/bin/perl
    $UID/$EUID = 1023 / 1023
    $GID = 1023 1023
    $EGID = 1023 1023

Perl module toolchain versions installed:

    Module              Have    
    ------------------- --------
    CPAN                2.28    
    CPAN::Meta          2.150010
    Cwd                 3.80    
    ExtUtils::CBuilder  0.280236
    ExtUtils::Command   7.64    
    ExtUtils::Install   2.20    
    ExtUtils::MakeMaker 7.64    
    ExtUtils::Manifest  1.73    
    ExtUtils::ParseXS   3.43    
    File::Spec          3.80    
    JSON                4.10    
    JSON::PP            4.12    
    Module::Build       0.4231  
    Module::Signature   n/a     
    Parse::CPAN::Meta   2.150010
    Test::Harness       3.43    
    Test::More          1.302191
    YAML                1.30    
    YAML::Syck          1.34    
    version             0.9928  


--

Summary of my perl5 (revision 5 version 34 subversion 1) configuration:
   
  Platform:
    osname=linux
    osvers=6.0.5-200.fc36.x86_64
    archname=x86_64-linux
    uname='linux cloud4.bbbike.org 6.0.5-200.fc36.x86_64 #1 smp preempt_dynamic wed oct 26 15:55:21 utc 2022 x86_64 x86_64 x86_64 gnulinux '
    config_args='-ds -e -Dprefix=/opt/perl-5.34.1 -Dcf_email=srezic@cpan.org'
    hint=recommended
    useposix=true
    d_sigaction=define
    useithreads=undef
    usemultiplicity=undef
    use64bitint=define
    use64bitall=define
    uselongdouble=undef
    usemymalloc=n
    default_inc_excludes_dot=define
  Compiler:
    cc='cc'
    ccflags ='-fwrapv -fno-strict-aliasing -pipe -fstack-protector-strong -I/usr/local/include -D_LARGEFILE_SOURCE -D_FILE_OFFSET_BITS=64 -D_FORTIFY_SOURCE=2'
    optimize='-O2'
    cppflags='-fwrapv -fno-strict-aliasing -pipe -fstack-protector-strong -I/usr/local/include'
    ccversion=''
    gccversion='12.2.1 20220819 (Red Hat 12.2.1-2)'
    gccosandvers=''
    intsize=4
    longsize=8
    ptrsize=8
    doublesize=8
    byteorder=12345678
    doublekind=3
    d_longlong=define
    longlongsize=8
    d_longdbl=define
    longdblsize=16
    longdblkind=3
    ivtype='long'
    ivsize=8
    nvtype='double'
    nvsize=8
    Off_t='off_t'
    lseeksize=8
    alignbytes=8
    prototype=define
  Linker and Libraries:
    ld='cc'
    ldflags =' -fstack-protector-strong -L/usr/local/lib'
    libpth=/usr/local/lib /usr/lib /usr/lib64 /usr/local/lib64
    libs=-lpthread -ldb -ldl -lm -lcrypt -lutil -lc
    perllibs=-lpthread -ldl -lm -lcrypt -lutil -lc
    libc=/lib/../lib64/libc.so.6
    so=so
    useshrplib=false
    libperl=libperl.a
    gnulibc_version='2.35'
  Dynamic Linking:
    dlsrc=dl_dlopen.xs
    dlext=so
    d_dlsymun=undef
    ccdlflags='-Wl,-E'
    cccdlflags='-fPIC'
    lddlflags='-shared -O2 -L/usr/local/lib -fstack-protector-strong'


Characteristics of this binary (from libperl): 
  Compile-time options:
    HAS_TIMES
    PERLIO_LAYERS
    PERL_COPY_ON_WRITE
    PERL_DONT_CREATE_GVSV
    PERL_MALLOC_WRAP
    PERL_OP_PARENT
    PERL_PRESERVE_IVUV
    USE_64_BIT_ALL
    USE_64_BIT_INT
    USE_LARGE_FILES
    USE_LOCALE
    USE_LOCALE_COLLATE
    USE_LOCALE_CTYPE
    USE_LOCALE_NUMERIC
    USE_LOCALE_TIME
    USE_PERLIO
    USE_PERL_ATOF
  Built under linux
  Compiled at Nov  6 2022 19:39:26
  %ENV:
    PERL5LIB="/home/cpansand/.cpan/build/2022121305/Geo-Gpx-1.09-2/blib/arch:/home/cpansand/.cpan/build/2022121305/Geo-Gpx-1.09-2/blib/lib"
    PERL5OPT=""
    PERL5_CPANPLUS_IS_RUNNING="640217"
    PERL5_CPAN_IS_RUNNING="640217"
    PERL5_CPAN_IS_RUNNING_IN_RECURSION="639676,640217"
    PERLDOC="-MPod::Perldoc::ToTextOverstrike"
    PERL_BATCH="yes"
    PERL_CANARY_STABILITY_NOPROMPT="1"
    PERL_CPAN_REPORTER_CONFIG="/var/tmp/cpansmoker-1023/2022121305/cpanreporter_000_config.ini"
    PERL_EXTUTILS_AUTOINSTALL="--defaultdeps"
    PERL_USE_UNSAFE_INC="1"
  @INC:
    /home/cpansand/.cpan/build/2022121305/Geo-Gpx-1.09-2/blib/arch
    /home/cpansand/.cpan/build/2022121305/Geo-Gpx-1.09-2/blib/lib
    /opt/perl-5.34.1/lib/site_perl/5.34.1/x86_64-linux
    /opt/perl-5.34.1/lib/site_perl/5.34.1
    /opt/perl-5.34.1/lib/5.34.1/x86_64-linux
    /opt/perl-5.34.1/lib/5.34.1
    .