DateTime-Format-Strptime v1.79 Perl 5 v5.41.12 x86_64-linux
- Status
- Pass
- From
- John SJ Anderson
- Dist
-
DateTime-Format-Strptime v1.79
- Platform
- Perl 5 v5.41.12 x86_64-linux
- Date
- 2025-04-22 03:48:54
- ID
- b5ffcdd0-1f2c-11f0-a7af-e9a5171d624b
This distribution has been tested as part of the CPAN Testers
project, supporting the Perl programming language. See
http://wiki.cpantesters.org/ for more information or email
questions to cpan-testers-discuss@perl.org
--
Dear DROLSKY,
This is a computer-generated report for DateTime-Format-Strptime-1.79
on perl 5.41.12, created by App::cpanminus::reporter 0.22 (1.7048).
Thank you for uploading your work to CPAN. Congratulations!
All tests were successful.
Sections of this report:
* Tester comments
* Program output
* Prerequisites
* Environment and other context
------------------------------
TESTER COMMENTS
------------------------------
Additional comments from tester:
none provided
------------------------------
PROGRAM OUTPUT
------------------------------
Output from '':
Building and testing DateTime-Format-Strptime-1.79
cp lib/DateTime/Format/Strptime.pm blib/lib/DateTime/Format/Strptime.pm
cp lib/DateTime/Format/Strptime/Types.pm blib/lib/DateTime/Format/Strptime/Types.pm
Manifying 2 pod documents
PERL_DL_NONLAZY=1 "/opt/plenv/versions/5.41.12/bin/perl5.41.12" "-MExtUtils::Command::MM" "-MTest::Harness" "-e" "undef *Test::Harness::Switches; test_harness(0, 'blib/lib', 'blib/arch')" t/*.t
#
# Versions for all modules listed in MYMETA.json (including optional ones):
#
# === Configure Requires ===
#
# Module Want Have
# ------------------- ---- ----
# ExtUtils::MakeMaker any 7.74
#
# === Configure Suggests ===
#
# Module Want Have
# -------- ------- ----
# JSON::PP 2.27300 4.16
#
# === Build Requires ===
#
# Module Want Have
# ------------------- ---- ----
# ExtUtils::MakeMaker any 7.74
#
# === Test Requires ===
#
# Module Want Have
# ------------------- ---- --------
# ExtUtils::MakeMaker any 7.74
# File::Spec any 3.94
# FindBin any 1.54
# Test::Builder any 1.302210
# Test::Fatal any 0.017
# Test::More 0.96 1.302210
# Test::Warnings any 0.038
# lib any 0.65
# utf8 any 1.27
#
# === Test Recommends ===
#
# Module Want Have
# ---------- -------- --------
# CPAN::Meta 2.120900 2.150010
#
# === Runtime Requires ===
#
# Module Want Have
# -------------------------- ---- -----
# Carp any 1.54
# DateTime 1.00 1.66
# DateTime::Locale 1.30 1.45
# DateTime::Locale::Base any 1.45
# DateTime::Locale::FromData any 1.45
# DateTime::TimeZone 2.09 2.65
# Exporter any 5.79
# Params::ValidationCompiler any 0.31
# Specio 0.33 0.50
# Specio::Declare any 0.50
# Specio::Exporter any 0.50
# Specio::Library::Builtins any 0.50
# Specio::Library::String any 0.50
# Try::Tiny any 0.32
# constant any 1.33
# parent any 0.244
# strict any 1.13
# warnings any 1.74
#
t/00-report-prereqs.t .... ok
t/basic.t ................ ok
t/edge.t ................. ok
t/errors.t ............... ok
t/format-datetime.t ...... ok
t/format-with-locale.t ... ok
t/generated-locale-de.t .. ok
t/generated-locale-en.t .. ok
t/generated-locale-ga.t .. ok
t/generated-locale-pt.t .. ok
t/generated-locale-zh.t .. ok
t/import.t ............... ok
t/zones.t ................ ok
All tests successful.
Files=13, Tests=143, 2 wallclock secs ( 0.06 usr 0.01 sys + 2.31 cusr 0.20 csys = 2.58 CPU)
Result: PASS
------------------------------
PREREQUISITES
------------------------------
Prerequisite modules loaded:
runtime:
Module Need Have
-------------------------- ---- -----
Carp 0 1.54
constant 0 1.33
DateTime 1.00 1.66
DateTime::Locale 1.30 1.45
DateTime::Locale::Base 0 1.45
DateTime::Locale::FromData 0 1.45
DateTime::TimeZone 2.09 2.65
Exporter 0 5.79
Params::ValidationCompiler 0 0.31
parent 0 0.244
Specio 0.33 0.50
Specio::Declare 0 0.50
Specio::Exporter 0 0.50
Specio::Library::Builtins 0 0.50
Specio::Library::String 0 0.50
strict 0 1.13
Try::Tiny 0 0.32
warnings 0 1.74
build:
Module Need Have
-------------------------- ---- -----
ExtUtils::MakeMaker 0 7.74
configure:
Module Need Have
-------------------------- ---- -----
ExtUtils::MakeMaker 0 7.74
------------------------------
ENVIRONMENT AND OTHER CONTEXT
------------------------------
Environment variables:
LANG = en_US.UTF-8
LC_ALL = en_US.UTF-8
PATH = /opt/plenv/versions/5.41.12/bin:/opt/plenv/libexec:/opt/plenv/plugins/Perl-Build/bin:/opt/rbenv/shims:/home/genehack/src/git-subrepo/lib:/opt/local/bin:/opt/rbenv/shims:/home/genehack/src/git-subrepo/lib:/opt/nextstrain:/home/genehack/bin:/opt/miniconda3/bin:/opt/miniconda3/condabin:/opt/plenv/shims:/opt/plenv/bin:/opt/git/bin:/opt/emacs/bin:/opt/local/bin:/usr/local/bin:/usr/bin:/bin:/usr/local/games:/usr/games:/opt/rust/cargo/bin:/opt/rbenv/bin
PERL_CPANM_OPT = --skip-installed --prompt
SHELL = /usr/bin/zsh
TERM = screen-256color
Perl special variables (and OS-specific diagnostics, for MSWin32):
EGID = 1000 24 25 27 29 30 44 46 100 106 1000
EUID = 1027
EXECUTABLE_NAME = /opt/plenv/versions/5.41.12/bin/perl5.41.12
GID = 1000 24 25 27 29 30 44 46 100 106 1000
UID = 1027
Perl module toolchain versions installed:
Module Have
------------------- --------
CPAN 2.38
CPAN::Meta 2.150010
Cwd 3.94
ExtUtils::CBuilder 0.280240
ExtUtils::Command 7.74
ExtUtils::Install 2.22
ExtUtils::MakeMaker 7.74
ExtUtils::Manifest 1.75
ExtUtils::ParseXS 3.57
File::Spec 3.94
JSON 4.10
JSON::PP 4.16
Module::Build 0.4234
Module::Signature n/a
Parse::CPAN::Meta 2.150010
Test::Harness 3.50
Test::More 1.302210
YAML 1.31
YAML::Syck n/a
version 0.9933
--
Summary of my perl5 (revision 5 version 41 subversion 12) configuration:
Platform:
osname=linux
osvers=6.1.0-30-amd64
archname=x86_64-linux
uname='linux beeves 6.1.0-30-amd64 #1 smp preempt_dynamic debian 6.1.124-1 (2025-01-12) x86_64 gnulinux '
config_args='-Dprefix=/opt/plenv/versions/5.41.12 -de -Dversiononly -Dusedevel -A'eval:scriptdir=/opt/plenv/versions/5.41.12/bin''
hint=recommended
useposix=true
d_sigaction=define
useithreads=undef
usemultiplicity=undef
use64bitint=define
use64bitall=define
uselongdouble=undef
usemymalloc=n
default_inc_excludes_dot=define
Compiler:
cc='cc'
ccflags ='-fwrapv -fno-strict-aliasing -pipe -fstack-protector-strong -I/usr/local/include -D_LARGEFILE_SOURCE -D_FILE_OFFSET_BITS=64 -D_FORTIFY_SOURCE=2'
optimize='-O2'
cppflags='-fwrapv -fno-strict-aliasing -pipe -fstack-protector-strong -I/usr/local/include'
ccversion=''
gccversion='12.2.0'
gccosandvers=''
intsize=4
longsize=8
ptrsize=8
doublesize=8
byteorder=12345678
doublekind=3
d_longlong=define
longlongsize=8
d_longdbl=define
longdblsize=16
longdblkind=3
ivtype='long'
ivsize=8
nvtype='double'
nvsize=8
Off_t='off_t'
lseeksize=8
alignbytes=8
prototype=define
Linker and Libraries:
ld='cc'
ldflags =' -fstack-protector-strong -L/usr/local/lib'
libpth=/usr/local/lib /usr/lib/x86_64-linux-gnu /usr/lib /usr/lib64
libs=-lpthread -ldl -lm -lcrypt -lutil -lc
perllibs=-lpthread -ldl -lm -lcrypt -lutil -lc
libc=/lib/x86_64-linux-gnu/libc.so.6
so=so
useshrplib=false
libperl=libperl.a
gnulibc_version='2.36'
Dynamic Linking:
dlsrc=dl_dlopen.xs
dlext=so
d_dlsymun=undef
ccdlflags='-Wl,-E'
cccdlflags='-fPIC'
lddlflags='-shared -O2 -L/usr/local/lib -fstack-protector-strong'
Characteristics of this binary (from libperl):
Compile-time options:
HAS_LONG_DOUBLE
HAS_STRTOLD
HAS_TIMES
PERLIO_LAYERS
PERL_COPY_ON_WRITE
PERL_DONT_CREATE_GVSV
PERL_HASH_FUNC_SIPHASH13
PERL_HASH_USE_SBOX32
PERL_MALLOC_WRAP
PERL_OP_PARENT
PERL_PRESERVE_IVUV
PERL_USE_DEVEL
PERL_USE_SAFE_PUTENV
USE_64_BIT_ALL
USE_64_BIT_INT
USE_LARGE_FILES
USE_LOCALE
USE_LOCALE_COLLATE
USE_LOCALE_CTYPE
USE_LOCALE_NUMERIC
USE_LOCALE_TIME
USE_PERLIO
USE_PERL_ATOF
Built under linux
Compiled at Apr 21 2025 16:08:22
%ENV:
PERL_CPANM_OPT="--skip-installed --prompt"
@INC:
/opt/plenv/versions/5.41.12/lib/perl5/site_perl/5.41.12/x86_64-linux
/opt/plenv/versions/5.41.12/lib/perl5/site_perl/5.41.12
/opt/plenv/versions/5.41.12/lib/perl5/5.41.12/x86_64-linux
/opt/plenv/versions/5.41.12/lib/perl5/5.41.12