Test-WWW-Mechanize v1.56 Perl 5 v5.14.2 i86pc-solaris-thread-multi-64

Status
Pass
From
Chris Williams (BINGOS)
Dist
Test-WWW-Mechanize v1.56
Platform
Perl 5 v5.14.2 i86pc-solaris-thread-multi-64
Date
2022-04-29 13:24:34
ID
b617c4de-c7bf-11ec-8f4e-c962458f5e5b
This distribution has been tested as part of the CPAN Testers
project, supporting the Perl programming language.  See
http://wiki.cpantesters.org/ for more information or email
questions to cpan-testers-discuss@perl.org


--

Dear PETDANCE,

This is a computer-generated error report created automatically by
CPANPLUS, version 0.9914. Testers personal comments may appear
at the end of this report.


Thank you for uploading your work to CPAN.  Congratulations!
All tests were successful.

TEST RESULTS:

Below is the error stack from stage 'make test':

PERL_DL_NONLAZY=1 "/home/cpan/pit/thr/perl-5.14.2/bin/perl" "-MExtUtils::Command::MM" "-MTest::Harness" "-e" "undef *Test::Harness::Switches; test_harness(0, 'blib/lib', 'blib/arch')" t/*.t
# Testing Test::WWW::Mechanize 1.56 undef Perl 5.014002, /home/cpan/pit/thr/perl-5.14.2/bin/perl
# LWP 6.64
# WWW::Mechanize 2.06
# Test::More 1.302190
# Test::Builder::Tester 1.302190
# Optional HTML::Lint not found. Install it to use additional features.
# Optional HTML::Tidy5 not found. Install it to use additional features.
t/00-load.t ................ ok
t/autolint.t ............... skipped: HTML::Lint 2.20 is not installed, cannot test autolint
t/autotidy.t ............... skipped: Optional HTML::Tidy5 1.00 is not installed, cannot test autotidy.
t/button_exists.t .......... ok
# Test server http://127.0.0.1:36401 as PID 15680
t/click_ok.t ............... ok
t/content_contains.t ....... ok
t/content_lacks.t .......... ok
# Test server http://127.0.0.1:36979 as PID 15686
t/delete_ok.t .............. ok
t/follow_link_ok.t ......... ok
t/followable_links.t ....... ok
t/get_ok-parms.t ........... ok
t/get_ok.t ................. ok
t/has_tag.t ................ ok
t/head_ok-parms.t .......... ok
t/head_ok.t ................ ok
# Test server http://127.0.0.1:35236 as PID 15707
t/headers.t ................ ok
t/html_lint_ok.t ........... skipped: HTML::Lint 2.20 is not installed, cannot test html_lint_ok
t/html_tidy_ok.t ........... skipped: Optional HTML::Tidy5 1.00 is not installed, cannot test html_tidy_ok
t/id_exists.t .............. ok
t/lacks_uncapped_inputs.t .. ok
t/link_content.t ........... ok
t/link_status.t ............ ok
t/links_ok.t ............... ok
t/new.t .................... ok
t/page_links_content.t ..... ok
t/page_links_ok.t .......... ok
t/pod-coverage.t ........... skipped: Test::Pod::Coverage 0.08 required for testing POD coverage
t/pod.t .................... skipped: Test::Pod 1.00 required for testing POD
# Test server http://127.0.0.1:32222 as PID 15732
t/put_ok.t ................. ok
t/scrape_text_by_id.t ...... ok
t/stuff_inputs.t ........... ok
# Test server http://127.0.0.1:27044 as PID 15739
t/submit_form_ok.t ......... ok
t/text_contains.t .......... ok
t/title_is.t ............... ok
All tests successful.
Files=34, Tests=287, 21 wallclock secs ( 0.25 usr  0.13 sys + 12.58 cusr  3.04 csys = 16.00 CPU)
Result: PASS


PREREQUISITES:

Here is a list of prerequisites you specified and versions we
managed to load:

	  Module Name                        Have     Want
	  Carp                               1.50        0
	  Carp::Assert::More                2.0.1     1.16
	  ExtUtils::MakeMaker                7.64        0
	  HTML::Form                         6.07        0
	  HTML::TokeParser                   3.78        0
	  HTTP::Message                      6.36     6.29
	  HTTP::Server::Simple               0.52     0.42
	  HTTP::Server::Simple::CGI             0        0
	  LWP                                6.64     6.02
	  Test::Builder::Tester          1.302190     1.09
	  Test::LongString                   0.17     0.15
	  Test::More                     1.302190     0.96
	  URI::file                          5.10        0
	  WWW::Mechanize                     2.06     1.68
	  parent                            0.225        0

Perl module toolchain versions installed:
	Module Name                        Have
	CPANPLUS                         0.9914
	CPANPLUS::Dist::Build              0.90
	Cwd                                3.75
	ExtUtils::CBuilder             0.280236
	ExtUtils::Command                  7.64
	ExtUtils::Install                  2.20
	ExtUtils::MakeMaker                7.64
	ExtUtils::Manifest                 1.73
	ExtUtils::ParseXS                  3.44
	File::Spec                         3.75
	Module::Build                    0.4231
	Pod::Parser                        1.37
	Pod::Simple                        3.16
	Test2                          1.302190
	Test::Harness                      3.42
	Test::More                     1.302190
	version                          0.9929

******************************** NOTE ********************************
The comments above are created mechanically, possibly without manual
checking by the sender.  As there are many people performing automatic
tests on each upload to CPAN, it is likely that you will receive
identical messages about the same problem.

If you believe that the message is mistaken, please reply to the first
one with correction and/or additional informations, and do not take
it personally.  We appreciate your patience. :)
**********************************************************************

Additional comments:


This report was machine-generated by CPANPLUS::Dist::YACSmoke 1.08.
Powered by minismokebox version 0.68

CPANPLUS is prefering Build.PL

------------------------------
ENVIRONMENT AND OTHER CONTEXT
------------------------------

Environment variables:

    AUTOMATED_TESTING = 1
    NONINTERACTIVE_TESTING = 1
    PATH = /usr/bin:/usr/sbin:/sbin:/opt/ooce/bin:/usr/gnu/bin
    PERL5LIB = /home/cpan/pit/jail/Hw1OgGxvRe/lib/perl5:/home/cpan/pit/thr/conf/perl-5.14.2/.cpanplus/5.14.2/build/kNRlPHAofp/Test-WWW-Mechanize-1.56/blib/lib:/home/cpan/pit/thr/conf/perl-5.14.2/.cpanplus/5.14.2/build/kNRlPHAofp/Test-WWW-Mechanize-1.56/blib/arch
    PERL5_CPANPLUS_IS_RUNNING = 10254
    PERL5_CPANPLUS_IS_VERSION = 0.9914
    PERL5_MINISMOKEBOX = 0.68
    PERL5_YACSMOKE_BASE = /home/cpan/pit/thr/conf/perl-5.14.2
    PERL_EXTUTILS_AUTOINSTALL = --defaultdeps
    PERL_LOCAL_LIB_ROOT = /home/cpan/pit/jail/Hw1OgGxvRe
    PERL_MB_OPT = --install_base "/home/cpan/pit/jail/Hw1OgGxvRe"
    PERL_MM_OPT = INSTALL_BASE=/home/cpan/pit/jail/Hw1OgGxvRe
    PERL_MM_USE_DEFAULT = 1
    SHELL = /bin/bash
    TERM = screen

Perl special variables (and OS-specific diagnostics, for MSWin32):

    Perl: $^X = /home/cpan/pit/thr/perl-5.14.2/bin/perl
    UID:  $<  = 101
    EUID: $>  = 101
    GID:  $(  = 101 101
    EGID: $)  = 101 101


-------------------------------


--

Summary of my perl5 (revision 5 version 14 subversion 2) configuration:
   
  Platform:
    osname=solaris, osvers=2.11, archname=i86pc-solaris-thread-multi-64
    uname='sunos ouzel 5.11 omnios-r151034-0d278a0cc5 i86pc i386 i86pc '
    config_args='-des -Dprefix=/home/cpan/pit/thr/perl-5.14.2 -Dusethreads -Duse64bitall -Dcc=gcc'
    hint=recommended, useposix=true, d_sigaction=define
    useithreads=define, usemultiplicity=define
    useperlio=define, d_sfio=undef, uselargefiles=define, usesocks=undef
    use64bitint=define, use64bitall=define, uselongdouble=undef
    usemymalloc=n, bincompat5005=undef
  Compiler:
    cc='gcc', ccflags ='-D_REENTRANT -m64 -fwrapv -fno-strict-aliasing -pipe -fstack-protector -D_LARGEFILE_SOURCE -D_FILE_OFFSET_BITS=64 -DPERL_USE_SAFE_PUTENV',
    optimize='-O',
    cppflags='-D_REENTRANT -m64 -fwrapv -fno-strict-aliasing -pipe -fstack-protector'
    ccversion='', gccversion='9.3.0', gccosandvers=''
    intsize=4, longsize=8, ptrsize=8, doublesize=8, byteorder=12345678
    d_longlong=define, longlongsize=8, d_longdbl=define, longdblsize=16
    ivtype='long', ivsize=8, nvtype='double', nvsize=8, Off_t='off_t', lseeksize=8
    alignbytes=8, prototype=define
  Linker and Libraries:
    ld='gcc', ldflags =' -m64 -fstack-protector -L/usr/gnu/lib '
    libpth=/usr/gnu/lib /usr/lib /usr/ccs/lib
    libs=-lsocket -lnsl -ldl -lm -lpthread -lc
    perllibs=-lsocket -lnsl -ldl -lm -lpthread -lc
    libc=/lib/libc.so, so=so, useshrplib=true, libperl=libperl.so
    gnulibc_version=''
  Dynamic Linking:
    dlsrc=dl_dlopen.xs, dlext=so, d_dlsymun=undef, ccdlflags='  -R /home/cpan/pit/thr/perl-5.14.2/lib/5.14.2/i86pc-solaris-thread-multi-64/CORE'
    cccdlflags='-fPIC', lddlflags=' -shared -m64 -L/usr/gnu/lib -fstack-protector'


Characteristics of this binary (from libperl): 
  Compile-time options: MULTIPLICITY PERL_DONT_CREATE_GVSV
                        PERL_IMPLICIT_CONTEXT PERL_MALLOC_WRAP
                        PERL_PRESERVE_IVUV PERL_USE_SAFE_PUTENV
                        USE_64_BIT_ALL USE_64_BIT_INT USE_ITHREADS
                        USE_LARGE_FILES USE_PERLIO USE_PERL_ATOF
                        USE_REENTRANT_API
  Locally applied patches:
	Devel::PatchPerl 2.00
  Built under solaris
  Compiled at Aug 20 2020 00:13:58
  %ENV:
    PERL5LIB="/home/cpan/pit/jail/Hw1OgGxvRe/lib/perl5:/home/cpan/pit/thr/conf/perl-5.14.2/.cpanplus/5.14.2/build/kNRlPHAofp/Test-WWW-Mechanize-1.56/blib/lib:/home/cpan/pit/thr/conf/perl-5.14.2/.cpanplus/5.14.2/build/kNRlPHAofp/Test-WWW-Mechanize-1.56/blib/arch"
    PERL5_CPANPLUS_IS_RUNNING="10254"
    PERL5_CPANPLUS_IS_VERSION="0.9914"
    PERL5_MINISMOKEBOX="0.68"
    PERL5_YACSMOKE_BASE="/home/cpan/pit/thr/conf/perl-5.14.2"
    PERL_EXTUTILS_AUTOINSTALL="--defaultdeps"
    PERL_LOCAL_LIB_ROOT="/home/cpan/pit/jail/Hw1OgGxvRe"
    PERL_MB_OPT="--install_base "/home/cpan/pit/jail/Hw1OgGxvRe""
    PERL_MM_OPT="INSTALL_BASE=/home/cpan/pit/jail/Hw1OgGxvRe"
    PERL_MM_USE_DEFAULT="1"
  @INC:
    /home/cpan/pit/jail/Hw1OgGxvRe/lib/perl5/5.14.2/i86pc-solaris-thread-multi-64
    /home/cpan/pit/jail/Hw1OgGxvRe/lib/perl5/5.14.2
    /home/cpan/pit/jail/Hw1OgGxvRe/lib/perl5/i86pc-solaris-thread-multi-64
    /home/cpan/pit/jail/Hw1OgGxvRe/lib/perl5
    /home/cpan/pit/thr/conf/perl-5.14.2/.cpanplus/5.14.2/build/kNRlPHAofp/Test-WWW-Mechanize-1.56/blib/lib
    /home/cpan/pit/thr/conf/perl-5.14.2/.cpanplus/5.14.2/build/kNRlPHAofp/Test-WWW-Mechanize-1.56/blib/arch
    /home/cpan/pit/thr/perl-5.14.2/lib/site_perl/5.14.2/i86pc-solaris-thread-multi-64
    /home/cpan/pit/thr/perl-5.14.2/lib/site_perl/5.14.2
    /home/cpan/pit/thr/perl-5.14.2/lib/5.14.2/i86pc-solaris-thread-multi-64
    /home/cpan/pit/thr/perl-5.14.2/lib/5.14.2
    .