Report for Data-Util-0.65

Back
From: metabase:user:314402c4-2aae-11df-837a-5e0a49663a4f
Subject: PASS Data-Util-0.65 v5.22.3 RC4 GNU/Linux
Date: 2016-11-01T08:32:23Z

This distribution has been tested as part of the CPAN Testers
project, supporting the Perl programming language.  See
http://wiki.cpantesters.org/ for more information or email
questions to cpan-testers-discuss@perl.org


--
Dear Syohei Yoshida,

This is a computer-generated report for Data-Util-0.65
on perl 5.22.3, created by CPAN-Reporter-1.2018.

Thank you for uploading your work to CPAN.  Congratulations!
All tests were successful.

Sections of this report:

    * Tester comments
    * Program output
    * Prerequisites
    * Environment and other context

------------------------------
TESTER COMMENTS
------------------------------

Additional comments from tester:

none provided

------------------------------
PROGRAM OUTPUT
------------------------------

Output from './Build test':

# Testing Data::Util 0.65 (XS)
t/00_load.t .................. ok
# Testing XS
t/01_refs.t .................. ok
t/02_inst.t .................. ok
t/03_gen.t ................... ok
t/04_overloaded.t ............ ok
t/05_get_stash.t ............. ok
t/06_subroutine.t ............ ok
t/08_mgvars.t ................ ok
Can't locate package A for @Bar::ISA during global destruction.
Can't locate package A for @Bar::ISA during global destruction.
t/09_paranoia.t .............. ok
t/10_neat.t .................. ok
t/11_fail_handler.t .......... ok
t/12_in_attr_handler.t ....... skipped: This test is for old perls
t/13_optlist.t ............... ok
t/14_uninst_subr.t ........... ok
t/15_curry.t ................. ok
t/16_modify.t ................ ok
t/17_nsclean.t ............... ok
t/18_is_value.t .............. ok
t/19_multiple_modifiers.t .... ok
t/20_lexical_sub.t ........... ok
t/21_get_code_ref.t .......... ok
t/22_install2.t .............. ok
t/23_largeargs.t ............. ok
t/24_eval_in_modifiers.t ..... ok
t/pp00_load.t ................ ok
# Testing PurePerl
t/pp01_refs.t ................ ok
t/pp02_inst.t ................ ok
t/pp03_gen.t ................. ok
t/pp04_overloaded.t .......... ok
t/pp05_get_stash.t ........... ok
t/pp06_subroutine.t .......... ok
t/pp08_mgvars.t .............. ok
t/pp10_neat.t ................ ok
t/pp11_fail_handler.t ........ ok
t/pp12_in_attr_handler.t ..... skipped: This test is for old perls
t/pp13_optlist.t ............. ok
t/pp14_uninst_subr.t ......... ok
t/pp15_curry.t ............... ok
t/pp16_modify.t .............. ok
t/pp17_nsclean.t ............. ok
t/pp18_is_value.t ............ ok
t/pp19_multiple_modifiers.t .. ok
t/pp20_lexical_sub.t ......... ok
t/pp21_get_code_ref.t ........ ok
t/pp22_install2.t ............ ok
t/pp23_largeargs.t ........... ok
t/pp24_eval_in_modifiers.t ... ok
All tests successful.
Files=47, Tests=1141,  5 wallclock secs ( 0.13 usr  0.30 sys +  1.76 cusr  0.56 csys =  2.75 CPU)
Result: PASS

------------------------------
PREREQUISITES
------------------------------

Prerequisite modules loaded:

requires:

    Module                        Need   Have    
    ----------------------------- ------ --------
    perl                          5.010  5.022003
    XSLoader                      0.02   0.24    

build_requires:

    Module                        Need   Have    
    ----------------------------- ------ --------
    Devel::PPPort                 3.19   3.31    
    ExtUtils::CBuilder            0      0.280221
    ExtUtils::MakeMaker           6.59   7.04_02 
    ExtUtils::ParseXS             3.18   3.28    
    Hash::Util::FieldHash::Compat 0      0.11    
    Scope::Guard                  0      0.21    
    Test::Exception               0.27   0.43    
    Test::More                    0.62   1.302059

configure_requires:

    Module                        Need   Have    
    ----------------------------- ------ --------
    Module::Build                 0.4005 0.4220  
    Module::Build::XSUtil         0.03   0.16    


------------------------------
ENVIRONMENT AND OTHER CONTEXT
------------------------------

Environment variables:

    LANG = C
    PATH = /usr/local/bin:/usr/bin:/bin:/usr/local/sbin:/usr/sbin:/sbin:/home/cpansand/bin/linux-gnu:/home/cpansand/bin/sh:/home/cpansand/bin:/usr/games:/home/cpansand/devel:/home/eserte/src/srezic-misc/scripts
    PERL5LIB = /home/cpansand/.cpan/build/2016110106/Module-Build-XSUtil-0.16-Fik8Da/blib/arch:/home/cpansand/.cpan/build/2016110106/Module-Build-XSUtil-0.16-Fik8Da/blib/lib:/home/cpansand/.cpan/build/2016110106/Devel-CheckCompiler-0.06-I6nXEr/blib/arch:/home/cpansand/.cpan/build/2016110106/Devel-CheckCompiler-0.06-I6nXEr/blib/lib:/home/cpansand/.cpan/build/2016110106/Cwd-Guard-0.05-_b_c1r/blib/arch:/home/cpansand/.cpan/build/2016110106/Cwd-Guard-0.05-_b_c1r/blib/lib:/home/cpansand/.cpan/build/2016110106/SVN-Look-0.41-YW93PN/blib/arch:/home/cpansand/.cpan/build/2016110106/SVN-Look-0.41-YW93PN/blib/lib
    PERL5OPT = 
    PERL5_CPANPLUS_IS_RUNNING = 18388
    PERL5_CPAN_IS_RUNNING = 18388
    PERL5_CPAN_IS_RUNNING_IN_RECURSION = 26471,18388
    PERLDOC = -MPod::Perldoc::ToTextOverstrike
    PERL_BATCH = yes
    PERL_CANARY_STABILITY_NOPROMPT = 1
    PERL_CPAN_REPORTER_CONFIG = /run/user/1023/cpansmoker/2016110106/cpanreporter_003_config.ini
    PERL_EXTUTILS_AUTOINSTALL = --defaultdeps
    PERL_USE_UNSAFE_INC = 1
    SHELL = /bin/zsh
    TERM = screen
    TMPDIR = /run/user/1023/cpansmoker/2016110106

Perl special variables (and OS-specific diagnostics, for MSWin32):

    $^X = /bbbike/perl-5.22.3-RC4t/bin/perl
    $UID/$EUID = 1023 / 1023
    $GID = 1023 1023
    $EGID = 1023 1023

Perl module toolchain versions installed:

    Module              Have      
    ------------------- ----------
    CPAN                2.11_01   
    CPAN::Meta          2.150001  
    Cwd                 3.56_02   
    ExtUtils::CBuilder  0.280221  
    ExtUtils::Command   1.20_01   
    ExtUtils::Install   2.04      
    ExtUtils::MakeMaker 7.04_02   
    ExtUtils::Manifest  1.70      
    ExtUtils::ParseXS   3.28      
    File::Spec          3.56_02   
    JSON                2.90      
    JSON::PP            2.27300_01
    Module::Build       0.4220    
    Module::Signature   n/a       
    Parse::CPAN::Meta   1.4414_001
    Test::Harness       3.35_01   
    Test::More          1.302059  
    YAML                1.18      
    YAML::Syck          1.29      
    version             0.9909    


--

Summary of my perl5 (revision 5 version 22 subversion 3) configuration:
   
  Platform:
    osname=linux, osvers=3.16.0-4-amd64, archname=x86_64-linux-thread-multi
    uname='linux eserte 3.16.0-4-amd64 #1 smp debian 3.16.36-1+deb8u1 (2016-09-03) x86_64 gnulinux '
    config_args='-ds -e -Dprefix=/opt/perl-5.22.3-RC4t -Dusethreads -Dcf_email=srezic@cpan.org'
    hint=recommended, useposix=true, d_sigaction=define
    useithreads=define, usemultiplicity=define
    use64bitint=define, use64bitall=define, uselongdouble=undef
    usemymalloc=n, bincompat5005=undef
  Compiler:
    cc='cc', ccflags ='-D_REENTRANT -D_GNU_SOURCE -fwrapv -fno-strict-aliasing -pipe -fstack-protector-strong -I/usr/local/include -D_LARGEFILE_SOURCE -D_FILE_OFFSET_BITS=64 -D_FORTIFY_SOURCE=2',
    optimize='-O2',
    cppflags='-D_REENTRANT -D_GNU_SOURCE -fwrapv -fno-strict-aliasing -pipe -fstack-protector-strong -I/usr/local/include'
    ccversion='', gccversion='4.9.2', gccosandvers=''
    intsize=4, longsize=8, ptrsize=8, doublesize=8, byteorder=12345678, doublekind=3
    d_longlong=define, longlongsize=8, d_longdbl=define, longdblsize=16, longdblkind=3
    ivtype='long', ivsize=8, nvtype='double', nvsize=8, Off_t='off_t', lseeksize=8
    alignbytes=8, prototype=define
  Linker and Libraries:
    ld='cc', ldflags =' -fstack-protector-strong -L/usr/local/lib'
    libpth=/usr/local/lib /usr/lib/gcc/x86_64-linux-gnu/4.9/include-fixed /usr/include/x86_64-linux-gnu /usr/lib /lib/x86_64-linux-gnu /lib/../lib /usr/lib/x86_64-linux-gnu /usr/lib/../lib /lib
    libs=-lpthread -lnsl -lgdbm -ldb -ldl -lm -lcrypt -lutil -lc -lgdbm_compat
    perllibs=-lpthread -lnsl -ldl -lm -lcrypt -lutil -lc
    libc=libc-2.19.so, so=so, useshrplib=false, libperl=libperl.a
    gnulibc_version='2.19'
  Dynamic Linking:
    dlsrc=dl_dlopen.xs, dlext=so, d_dlsymun=undef, ccdlflags='-Wl,-E'
    cccdlflags='-fPIC', lddlflags='-shared -O2 -L/usr/local/lib -fstack-protector-strong'


Characteristics of this binary (from libperl): 
  Compile-time options: HAS_TIMES MULTIPLICITY PERLIO_LAYERS
                        PERL_DONT_CREATE_GVSV
                        PERL_HASH_FUNC_ONE_AT_A_TIME_HARD
                        PERL_IMPLICIT_CONTEXT PERL_MALLOC_WRAP
                        PERL_NEW_COPY_ON_WRITE PERL_PRESERVE_IVUV
                        USE_64_BIT_ALL USE_64_BIT_INT USE_ITHREADS
                        USE_LARGE_FILES USE_LOCALE USE_LOCALE_COLLATE
                        USE_LOCALE_CTYPE USE_LOCALE_NUMERIC USE_LOCALE_TIME
                        USE_PERLIO USE_PERL_ATOF USE_REENTRANT_API
  Locally applied patches:
	RC4
  Built under linux
  Compiled at Oct 13 2016 19:15:21
  %ENV:
    PERL5LIB="/home/cpansand/.cpan/build/2016110106/Module-Build-XSUtil-0.16-Fik8Da/blib/arch:/home/cpansand/.cpan/build/2016110106/Module-Build-XSUtil-0.16-Fik8Da/blib/lib:/home/cpansand/.cpan/build/2016110106/Devel-CheckCompiler-0.06-I6nXEr/blib/arch:/home/cpansand/.cpan/build/2016110106/Devel-CheckCompiler-0.06-I6nXEr/blib/lib:/home/cpansand/.cpan/build/2016110106/Cwd-Guard-0.05-_b_c1r/blib/arch:/home/cpansand/.cpan/build/2016110106/Cwd-Guard-0.05-_b_c1r/blib/lib:/home/cpansand/.cpan/build/2016110106/SVN-Look-0.41-YW93PN/blib/arch:/home/cpansand/.cpan/build/2016110106/SVN-Look-0.41-YW93PN/blib/lib"
    PERL5OPT=""
    PERL5_CPANPLUS_IS_RUNNING="18388"
    PERL5_CPAN_IS_RUNNING="18388"
    PERL5_CPAN_IS_RUNNING_IN_RECURSION="26471,18388"
    PERLDOC="-MPod::Perldoc::ToTextOverstrike"
    PERL_BATCH="yes"
    PERL_CANARY_STABILITY_NOPROMPT="1"
    PERL_CPAN_REPORTER_CONFIG="/run/user/1023/cpansmoker/2016110106/cpanreporter_003_config.ini"
    PERL_EXTUTILS_AUTOINSTALL="--defaultdeps"
    PERL_USE_UNSAFE_INC="1"
  @INC:
    /home/cpansand/.cpan/build/2016110106/Module-Build-XSUtil-0.16-Fik8Da/blib/arch
    /home/cpansand/.cpan/build/2016110106/Module-Build-XSUtil-0.16-Fik8Da/blib/lib
    /home/cpansand/.cpan/build/2016110106/Devel-CheckCompiler-0.06-I6nXEr/blib/arch
    /home/cpansand/.cpan/build/2016110106/Devel-CheckCompiler-0.06-I6nXEr/blib/lib
    /home/cpansand/.cpan/build/2016110106/Cwd-Guard-0.05-_b_c1r/blib/arch
    /home/cpansand/.cpan/build/2016110106/Cwd-Guard-0.05-_b_c1r/blib/lib
    /home/cpansand/.cpan/build/2016110106/SVN-Look-0.41-YW93PN/blib/arch
    /home/cpansand/.cpan/build/2016110106/SVN-Look-0.41-YW93PN/blib/lib
    /opt/perl-5.22.3-RC4t/lib/site_perl/5.22.3/x86_64-linux-thread-multi
    /opt/perl-5.22.3-RC4t/lib/site_perl/5.22.3
    /opt/perl-5.22.3-RC4t/lib/5.22.3/x86_64-linux-thread-multi
    /opt/perl-5.22.3-RC4t/lib/5.22.3
    .