Alien-raylib v0.019 Perl 5 v5.22.4 darwin-thread-multi-2level

Status
Pass
From
Nigel Horne
Dist
Alien-raylib v0.019
Platform
Perl 5 v5.22.4 darwin-thread-multi-2level
Date
2018-07-04 12:06:41
ID
b6258800-7f82-11e8-8e81-4ffdce7491a7
This distribution has been tested as part of the CPAN Testers
project, supporting the Perl programming language.  See
http://wiki.cpantesters.org/ for more information or email
questions to cpan-testers-discuss@perl.org


--
Dear Ahmad Fatoum,

This is a computer-generated report for Alien-raylib-0.019
on perl 5.22.4, created by CPAN-Reporter-1.2018.

Thank you for uploading your work to CPAN.  Congratulations!
All tests were successful.

Sections of this report:

    * Tester comments
    * Program output
    * Prerequisites
    * Environment and other context

------------------------------
TESTER COMMENTS
------------------------------

Additional comments from tester:

this report is from an automated smoke testing program
and was not reviewed by a human for accuracy

------------------------------
PROGRAM OUTPUT
------------------------------

Output from '/sw/bin/make test':

"/Users/hornenj/perl5/perlbrew/perls/perl-5.22.4/bin/perl5.22.4" -MAlien::Build::MM=cmd -e test
Alien::Build::Plugin::PkgConfig::Negotiate> Using PkgConfig plugin: PkgConfig::CommandLine
PERL_DL_NONLAZY=1 "/Users/hornenj/perl5/perlbrew/perls/perl-5.22.4/bin/perl5.22.4" "-MExtUtils::Command::MM" "-MTest::Harness" "-e" "undef *Test::Harness::Switches; test_harness(0, 'blib/lib', 'blib/arch')" t/*.t
t/00-compile.t ......... ok
# Trying out GetRandomValue
compilet-XHnla.c:1:5: warning: no previous prototype for function 'boot_compilet' [-Wmissing-prototypes]
int boot_compilet() { return 1; }
    ^
1 warning generated.
ld: warning: object file (compilet-XHnla.o) was built for newer OSX version (10.13) than being linked (10.4)
# 
# Versions for all modules listed in MYMETA.json (including optional ones):
# 
# === Configure Requires ===
# 
#     Module                             Want Have
#     ---------------------------------- ---- ----
#     Alien::Build                       0.32 1.46
#     Alien::Build::MM                   0.32 1.46
#     Alien::Build::Plugin::Build::CMake 0.99 1.46
#     ExtUtils::MakeMaker                6.52 7.30
# 
# === Build Requires ===
# 
#     Module                                        Want     Have
#     -------------------------------------------- ----- --------
#     Alien::Build                                  0.32     1.46
#     Alien::Build::MM                              0.32     1.46
#     Alien::Build::Plugin::Gather::IsolateDynamic  0.48     1.46
#     Alien::cmake3                                 0.02     0.04
#     Archive::Tar                                   any  2.04_01
#     Config                                         any 5.022004
#     ExtUtils::MakeMaker                           6.52     7.30
#     HTTP::Tiny                                   0.044    0.070
#     IO::Socket::SSL                               1.56    2.056
#     IO::Zlib                                       any     1.10
#     Net::SSLeay                                   1.49     1.81
#     URI                                            any     1.71
# 
# === Test Requires ===
# 
#     Module              Want     Have
#     ------------------- ---- --------
#     ExtUtils::MakeMaker 6.52     7.30
#     File::Spec           any  3.56_02
#     IO::Handle           any     1.35
#     IPC::Open3           any     1.18
#     Test::More           any 1.302106
# 
# === Test Recommends ===
# 
#     Module         Want     Have
#     ---------- -------- --------
#     CPAN::Meta 2.120900 2.150001
# 
# === Runtime Requires ===
# 
#     Module       Want Have
#     ------------ ---- ----
#     Alien::Build 0.25 1.46
# 
t/00-report-prereqs.t .. ok
# LIBS: -L/Users/hornenj/.cpan/build/Alien-raylib-0.019-0/blib/lib/auto/share/dist/Alien-raylib/lib -lraylib
t/libs.t ............... ok
t/init.t ............... ok
All tests successful.
Files=4, Tests=7,  1 wallclock secs ( 0.03 usr  0.01 sys +  0.74 cusr  0.38 csys =  1.16 CPU)
Result: PASS

------------------------------
PREREQUISITES
------------------------------

Prerequisite modules loaded:

requires:

    Module                                       Need  Have    
    -------------------------------------------- ----- --------
    Alien::Build                                 0.25  1.46    
    perl                                         5.008 5.022004

build_requires:

    Module                                       Need  Have    
    -------------------------------------------- ----- --------
    Alien::Build                                 0.32  1.46    
    Alien::Build::MM                             0.32  1.46    
    Alien::Build::Plugin::Gather::IsolateDynamic 0.48  1.46    
    Alien::cmake3                                0.02  0.04    
    Archive::Tar                                 0     2.04_01 
    Config                                       0     5.022004
    ExtUtils::MakeMaker                          6.52  7.30    
    File::Spec                                   0     3.56_02 
    HTTP::Tiny                                   0.044 0.070   
    IO::Handle                                   0     1.35    
    IO::Socket::SSL                              1.56  2.056   
    IO::Zlib                                     0     1.10    
    IPC::Open3                                   0     1.18    
    Net::SSLeay                                  1.49  1.81    
    Test::More                                   0     1.302106
    URI                                          0     1.71    

configure_requires:

    Module                                       Need  Have    
    -------------------------------------------- ----- --------
    Alien::Build                                 0.32  1.46    
    Alien::Build::MM                             0.32  1.46    
    Alien::Build::Plugin::Build::CMake           0.99  1.46    
    ExtUtils::MakeMaker                          6.52  7.30    


------------------------------
ENVIRONMENT AND OTHER CONTEXT
------------------------------

Environment variables:

    AUTOMATED_TESTING = 1
    HARNESS_OPTIONS = j4
    LANG = en_US.UTF-8
    LC_ALL = POSIX
    PATH = /Users/hornenj/perl5/perlbrew/bin:/Users/hornenj/perl5/perlbrew/perls/perl-5.22.4/bin:/Users/hornenj/homebrew/bin:/Users/hornenj/bin:/usr/bin:/bin:/usr/X11R6/bin:/sw/bin:/Users/hornenj/src/njh/smoker/bin
    PERL5LIB = /Users/hornenj/.cpan/build/Alien-cmake3-0.04-0/blib/arch:/Users/hornenj/.cpan/build/Alien-cmake3-0.04-0/blib/lib:/Users/hornenj/.cpan/build/Alien-Build-1.46-0/blib/arch:/Users/hornenj/.cpan/build/Alien-Build-1.46-0/blib/lib:/Users/hornenj/.cpan/build/FFI-CheckLib-0.20-0/blib/arch:/Users/hornenj/.cpan/build/FFI-CheckLib-0.20-0/blib/lib:/Users/hornenj/.cpan/build/ExtUtils-ParseXS-3.35-0/blib/arch:/Users/hornenj/.cpan/build/ExtUtils-ParseXS-3.35-0/blib/lib
    PERL5OPT = 
    PERL5_CPANPLUS_IS_RUNNING = 10165
    PERL5_CPAN_IS_RUNNING = 10165
    PERLBREW_HOME = /Users/hornenj/.perlbrew
    PERLBREW_MANPATH = /Users/hornenj/perl5/perlbrew/perls/perl-5.22.4/man
    PERLBREW_PATH = /Users/hornenj/perl5/perlbrew/bin:/Users/hornenj/perl5/perlbrew/perls/perl-5.22.4/bin
    PERLBREW_PERL = perl-5.22.4
    PERLBREW_ROOT = /Users/hornenj/perl5/perlbrew
    PERLBREW_SHELLRC_VERSION = 0.84
    PERLBREW_VERSION = 0.84
    SHELL = /bin/bash
    TERM = xterm-256color
    TMPDIR = /var/folders/pz/pd7y1qjs6s3cbk170cw50fjc000c61/T//testwrapper.10153
    VERSIONER_PERL_PREFER_32_BIT = no
    VERSIONER_PERL_VERSION = 5.18

Perl special variables (and OS-specific diagnostics, for MSWin32):

    $^X = /Users/hornenj/perl5/perlbrew/perls/perl-5.22.4/bin/perl5.22.4
    $UID/$EUID = 12481 / 12481
    $GID = 14 14 5344 37191 527 12 62 98 204 399 206 37223 241 223 100
    $EGID = 14 14 5344 37191 527 12 62 98 204 399 206 37223 241 223 100

Perl module toolchain versions installed:

    Module              Have      
    ------------------- ----------
    CPAN                2.16      
    CPAN::Meta          2.150001  
    Cwd                 3.56_02   
    ExtUtils::CBuilder  0.280221  
    ExtUtils::Command   7.30      
    ExtUtils::Install   2.06      
    ExtUtils::MakeMaker 7.30      
    ExtUtils::Manifest  1.70      
    ExtUtils::ParseXS   3.35      
    File::Spec          3.56_02   
    JSON                2.94      
    JSON::PP            2.27300_01
    Module::Build       0.4224    
    Module::Signature   n/a       
    Parse::CPAN::Meta   1.4414_001
    Test::Harness       3.35_01   
    Test::More          1.302106  
    YAML                1.26      
    YAML::Syck          1.30      
    version             0.9909    


--

Summary of my perl5 (revision 5 version 22 subversion 4) configuration:
   
  Platform:
    osname=darwin, osvers=15.6.0, archname=darwin-thread-multi-2level
    uname='darwin ncbimac2027 15.6.0 darwin kernel version 15.6.0: fri feb 17 10:21:18 pst 2017; root:xnu-3248.60.11.4.1~1release_x86_64 x86_64 '
    config_args='-de -Dprefix=/Users/hornenj/perl5/perlbrew/perls/perl-5.22.4 -Duseithreads -Dusemultiplicity -Dusedevel -Accflags=-O2 -W -Wformat=2 -Wswitch -Wshadow -Wwrite-strings -Wuninitialized -Wall -pipe -fomit-frame-pointer -pedantic -D_FORTIFY_SOURCE=2 -Wpointer-arith -Wstrict-prototypes -fstack-protector -Wstack-protector -Wextra -Wbad-function-cast -Wcast-align -Wcast-qual -Wdisabled-optimization -Wendif-labels -Wfloat-equal -Wformat-nonliteral -Winline -Wmissing-declarations -Wmissing-prototypes -Wnested-externs -Wpointer-arith -Wundef -Wformat-security -ftree-vectorize -mmmx -msse -mfpmath=sse -msse2 -msse3 -msse4.1 -msse4.2 -fdiagnostics-color=auto -mtune=native -march=native -I/Users/hornenj/openssl/include -Acc=cc -Aeval:scriptdir=/Users/hornenj/perl5/perlbrew/perls/perl-5.22.4/bin'
    hint=recommended, useposix=true, d_sigaction=define
    useithreads=define, usemultiplicity=define
    use64bitint=define, use64bitall=define, uselongdouble=undef
    usemymalloc=n, bincompat5005=undef
  Compiler:
    cc=' cc', ccflags ='-fno-common -DPERL_DARWIN -O2 -W -Wformat=2 -Wswitch -Wshadow -Wwrite-strings -Wuninitialized -Wall -pipe -fomit-frame-pointer -pedantic -D_FORTIFY_SOURCE=2 -Wpointer-arith -Wstrict-prototypes -fstack-protector -Wstack-protector -Wextra -Wbad-function-cast -Wcast-align -Wcast-qual -Wdisabled-optimization -Wendif-labels -Wfloat-equal -Wformat-nonliteral -Winline -Wmissing-declarations -Wmissing-prototypes -Wnested-externs -Wpointer-arith -Wundef -Wformat-security -ftree-vectorize -mmmx -msse -mfpmath=sse -msse2 -msse3 -msse4.1 -msse4.2 -fdiagnostics-color=auto -mtune=native -march=native -I/Users/hornenj/openssl/include -fno-strict-aliasing -fstack-protector-strong -I/usr/local/include',
    optimize='-O3',
    cppflags='-fno-common -DPERL_DARWIN -O2 -W -Wformat=2 -Wswitch -Wshadow -Wwrite-strings -Wuninitialized -Wall -pipe -fomit-frame-pointer -pedantic -D_FORTIFY_SOURCE=2 -Wpointer-arith -Wstrict-prototypes -fstack-protector -Wstack-protector -Wextra -Wbad-function-cast -Wcast-align -Wcast-qual -Wdisabled-optimization -Wendif-labels -Wfloat-equal -Wformat-nonliteral -Winline -Wmissing-declarations -Wmissing-prototypes -Wnested-externs -Wpointer-arith -Wundef -Wformat-security -ftree-vectorize -mmmx -msse -mfpmath=sse -msse2 -msse3 -msse4.1 -msse4.2 -fdiagnostics-color=auto -mtune=native -march=native -I/Users/hornenj/openssl/include -fno-strict-aliasing -fstack-protector-strong -I/usr/local/include'
    ccversion='', gccversion='4.2.1 Compatible Apple LLVM 8.0.0 (clang-800.0.42.1)', gccosandvers=''
    intsize=4, longsize=8, ptrsize=8, doublesize=8, byteorder=12345678, doublekind=3
    d_longlong=define, longlongsize=8, d_longdbl=define, longdblsize=16, longdblkind=3
    ivtype='long', ivsize=8, nvtype='double', nvsize=8, Off_t='off_t', lseeksize=8
    alignbytes=8, prototype=define
  Linker and Libraries:
    ld='env MACOSX_DEPLOYMENT_TARGET=10.3 cc', ldflags =' -fstack-protector-strong -L/usr/local/lib'
    libpth=/usr/local/lib /Applications/Xcode.app/Contents/Developer/Toolchains/XcodeDefault.xctoolchain/usr/bin/../lib/clang/8.0.0/lib /Applications/Xcode.app/Contents/Developer/Toolchains/XcodeDefault.xctoolchain/usr/lib /usr/lib
    libs=-lpthread -ldbm -ldl -lm -lutil -lc
    perllibs=-lpthread -ldl -lm -lutil -lc
    libc=, so=dylib, useshrplib=false, libperl=libperl.a
    gnulibc_version=''
  Dynamic Linking:
    dlsrc=dl_dlopen.xs, dlext=bundle, d_dlsymun=undef, ccdlflags=' '
    cccdlflags=' ', lddlflags=' -bundle -undefined dynamic_lookup -L/usr/local/lib -fstack-protector-strong'


Characteristics of this binary (from libperl): 
  Compile-time options: HAS_TIMES MULTIPLICITY PERLIO_LAYERS
                        PERL_DONT_CREATE_GVSV
                        PERL_HASH_FUNC_ONE_AT_A_TIME_HARD
                        PERL_IMPLICIT_CONTEXT PERL_MALLOC_WRAP
                        PERL_NEW_COPY_ON_WRITE PERL_PRESERVE_IVUV
                        PERL_USE_DEVEL USE_64_BIT_ALL USE_64_BIT_INT
                        USE_ITHREADS USE_LARGE_FILES USE_LOCALE
                        USE_LOCALE_COLLATE USE_LOCALE_CTYPE
                        USE_LOCALE_NUMERIC USE_LOCALE_TIME USE_PERLIO
                        USE_PERL_ATOF USE_REENTRANT_API
  Locally applied patches:
	Devel::PatchPerl 1.30
  Built under darwin
  Compiled at Jul 17 2017 13:10:17
  %ENV:
    PERL5LIB="/Users/hornenj/.cpan/build/Alien-cmake3-0.04-0/blib/arch:/Users/hornenj/.cpan/build/Alien-cmake3-0.04-0/blib/lib:/Users/hornenj/.cpan/build/Alien-Build-1.46-0/blib/arch:/Users/hornenj/.cpan/build/Alien-Build-1.46-0/blib/lib:/Users/hornenj/.cpan/build/FFI-CheckLib-0.20-0/blib/arch:/Users/hornenj/.cpan/build/FFI-CheckLib-0.20-0/blib/lib:/Users/hornenj/.cpan/build/ExtUtils-ParseXS-3.35-0/blib/arch:/Users/hornenj/.cpan/build/ExtUtils-ParseXS-3.35-0/blib/lib"
    PERL5OPT=""
    PERL5_CPANPLUS_IS_RUNNING="10165"
    PERL5_CPAN_IS_RUNNING="10165"
    PERLBREW_HOME="/Users/hornenj/.perlbrew"
    PERLBREW_MANPATH="/Users/hornenj/perl5/perlbrew/perls/perl-5.22.4/man"
    PERLBREW_PATH="/Users/hornenj/perl5/perlbrew/bin:/Users/hornenj/perl5/perlbrew/perls/perl-5.22.4/bin"
    PERLBREW_PERL="perl-5.22.4"
    PERLBREW_ROOT="/Users/hornenj/perl5/perlbrew"
    PERLBREW_SHELLRC_VERSION="0.84"
    PERLBREW_VERSION="0.84"
  @INC:
    /Users/hornenj/.cpan/build/Alien-cmake3-0.04-0/blib/arch
    /Users/hornenj/.cpan/build/Alien-cmake3-0.04-0/blib/lib
    /Users/hornenj/.cpan/build/Alien-Build-1.46-0/blib/arch
    /Users/hornenj/.cpan/build/Alien-Build-1.46-0/blib/lib
    /Users/hornenj/.cpan/build/FFI-CheckLib-0.20-0/blib/arch
    /Users/hornenj/.cpan/build/FFI-CheckLib-0.20-0/blib/lib
    /Users/hornenj/.cpan/build/ExtUtils-ParseXS-3.35-0/blib/arch
    /Users/hornenj/.cpan/build/ExtUtils-ParseXS-3.35-0/blib/lib
    /Users/hornenj/perl5/perlbrew/perls/perl-5.22.4/lib/site_perl/5.22.4/darwin-thread-multi-2level
    /Users/hornenj/perl5/perlbrew/perls/perl-5.22.4/lib/site_perl/5.22.4
    /Users/hornenj/perl5/perlbrew/perls/perl-5.22.4/lib/5.22.4/darwin-thread-multi-2level
    /Users/hornenj/perl5/perlbrew/perls/perl-5.22.4/lib/5.22.4
    .