Report for Dist-Zilla-Plugin-if-0.002002

Back
From: metabase:user:314402c4-2aae-11df-837a-5e0a49663a4f
Subject: PASS Dist-Zilla-Plugin-if-0.002002 v5.24.0 GNU/Linux
Date: 2017-03-09T10:25:26Z

This distribution has been tested as part of the CPAN Testers
project, supporting the Perl programming language.  See
http://wiki.cpantesters.org/ for more information or email
questions to cpan-testers-discuss@perl.org


--
Dear Kent Fredric,

This is a computer-generated report for Dist-Zilla-Plugin-if-0.002002
on perl 5.24.0, created by CPAN-Reporter-1.2018.

Thank you for uploading your work to CPAN.  Congratulations!
All tests were successful.

Sections of this report:

    * Tester comments
    * Program output
    * Prerequisites
    * Environment and other context

------------------------------
TESTER COMMENTS
------------------------------

Additional comments from tester:

none provided

------------------------------
PROGRAM OUTPUT
------------------------------

Output from '/usr/bin/make test':

PERL_DL_NONLAZY=1 "/opt/perl-5.24.0t/bin/perl" "-MExtUtils::Command::MM" "-MTest::Harness" "-e" "undef *Test::Harness::Switches; test_harness(0, 'blib/lib', 'blib/arch')" t/*.t t/00-compile/*.t t/if/*.t t/ifnot/*.t
t/00-compile/lib_Dist_Zilla_Plugin_if_not_pm.t .. ok
t/00-compile/lib_Dist_Zilla_Plugin_if_pm.t ...... ok
# 
# Versions for all modules listed in MYMETA.json (including optional ones):
# 
# === Configure Requires ===
# 
#     Module              Want Have
#     ------------------- ---- ----
#     ExtUtils::MakeMaker  any 7.24
# 
# === Configure Recommends ===
# 
#     Module              Want Have
#     ------------------- ---- ----
#     ExtUtils::MakeMaker 7.00 7.24
# 
# === Build Requires ===
# 
#     Module              Want Have
#     ------------------- ---- ----
#     ExtUtils::MakeMaker  any 7.24
# 
# === Test Requires ===
# 
#     Module              Want     Have
#     ------------------- ---- --------
#     ExtUtils::MakeMaker  any     7.24
#     File::Spec           any     3.63
#     Test::DZil           any    6.008
#     Test::Differences    any     0.64
#     Test::More           any 1.302078
# 
# === Test Recommends ===
# 
#     Module                  Want     Have
#     ------------------- -------- --------
#     CPAN::Meta          2.120900 2.150005
#     ExtUtils::MakeMaker     7.00     7.24
#     Test::More              0.99 1.302078
# 
# === Runtime Requires ===
# 
#     Module                                        Want     Have
#     --------------------------------------------- ---- --------
#     Dist::Zilla::Role::PluginLoader::Configurable  any 0.001003
#     Dist::Zilla::Util                              any    6.008
#     Eval::Closure                                  any     0.14
#     Moose                                          any   2.2004
#     strict                                         any     1.11
#     utf8                                           any     1.19
#     warnings                                       any     1.36
# 
# === Runtime Recommends ===
# 
#     Module  Want   Have
#     ------ ----- ------
#     Moose  2.000 2.2004
# 
t/00-report-prereqs.t ........................... ok
t/if/env-disable.t .............................. ok
t/if/no-plugin.t ................................ ok
t/if/pass-args.t ................................ ok
t/if/plugin-doublelevel.t ....................... ok
t/if/plugin-only-2.t ............................ ok
t/if/plugin-only.t .............................. ok
t/ifnot/env-disable.t ........................... ok
t/ifnot/no-plugin.t ............................. ok
t/ifnot/pass-args.t ............................. ok
t/ifnot/plugin-doublelevel.t .................... ok
t/ifnot/plugin-only-2.t ......................... ok
t/ifnot/plugin-only.t ........................... ok
All tests successful.
Files=15, Tests=27, 18 wallclock secs ( 0.10 usr  0.01 sys + 16.93 cusr  1.16 csys = 18.20 CPU)
Result: PASS

------------------------------
PREREQUISITES
------------------------------

Prerequisite modules loaded:

requires:

    Module                                        Need     Have    
    --------------------------------------------- -------- --------
    Dist::Zilla::Role::PluginLoader::Configurable 0        0.001003
    Dist::Zilla::Util                             0        6.008   
    Eval::Closure                                 0        0.14    
    Moose                                         0        2.2004  
    perl                                          5.010    5.024000
    strict                                        0        1.11    
    utf8                                          0        1.19    
    warnings                                      0        1.36    

build_requires:

    Module                                        Need     Have    
    --------------------------------------------- -------- --------
    ExtUtils::MakeMaker                           0        7.24    
    File::Spec                                    0        3.63    
    Test::Differences                             0        0.64    
    Test::DZil                                    0        6.008   
    Test::More                                    0        1.302078

configure_requires:

    Module                                        Need     Have    
    --------------------------------------------- -------- --------
    ExtUtils::MakeMaker                           0        7.24    
    perl                                          5.010    5.024000

opt_requires:

    Module                                        Need     Have    
    --------------------------------------------- -------- --------
    Moose                                         2.000    2.2004  

opt_build_requires:

    Module                                        Need     Have    
    --------------------------------------------- -------- --------
    CPAN::Meta                                    2.120900 2.150005
    ExtUtils::MakeMaker                           7.00     7.24    
    Test::More                                    0.99     1.302078


------------------------------
ENVIRONMENT AND OTHER CONTEXT
------------------------------

Environment variables:

    LANG = en_US.UTF-8
    LANGUAGE = en_US:en
    PATH = /usr/local/bin:/usr/bin:/bin:/usr/local/sbin:/usr/sbin:/sbin:/home/cpansand/bin/linux-gnu:/home/cpansand/bin/sh:/home/cpansand/bin:/usr/games:/home/cpansand/devel:/home/eserte/src/srezic-misc/scripts
    PERL5LIB = /home/cpansand/.cpan/build/2017030909/Dist-Zilla-Role-PluginLoader-0.001003-2/blib/arch:/home/cpansand/.cpan/build/2017030909/Dist-Zilla-Role-PluginLoader-0.001003-2/blib/lib
    PERL5OPT = 
    PERL5_CPANPLUS_IS_RUNNING = 18025
    PERL5_CPAN_IS_RUNNING = 18025
    PERL5_CPAN_IS_RUNNING_IN_RECURSION = 17925,18025
    PERLDOC = -MPod::Perldoc::ToTextOverstrike
    PERL_BATCH = yes
    PERL_CANARY_STABILITY_NOPROMPT = 1
    PERL_CPAN_REPORTER_CONFIG = /var/tmp/cpansmoker-1002/2017030909/cpanreporter_000_config.ini
    PERL_EXTUTILS_AUTOINSTALL = --defaultdeps
    PERL_USE_UNSAFE_INC = 1
    SHELL = /bin/zsh
    TERM = screen
    TMPDIR = /var/tmp/cpansmoker-1002/2017030909

Perl special variables (and OS-specific diagnostics, for MSWin32):

    $^X = /opt/perl-5.24.0t/bin/perl
    $UID/$EUID = 1002 / 1002
    $GID = 1002 1002
    $EGID = 1002 1002

Perl module toolchain versions installed:

    Module              Have    
    ------------------- --------
    CPAN                2.16    
    CPAN::Meta          2.150005
    Cwd                 3.63    
    ExtUtils::CBuilder  0.280225
    ExtUtils::Command   7.24    
    ExtUtils::Install   2.04    
    ExtUtils::MakeMaker 7.24    
    ExtUtils::Manifest  1.70    
    ExtUtils::ParseXS   3.31    
    File::Spec          3.63    
    JSON                2.90    
    JSON::PP            2.27300 
    Module::Build       0.4220  
    Module::Signature   0.81    
    Parse::CPAN::Meta   1.4417  
    Test::Harness       3.36    
    Test::More          1.302078
    YAML                1.23    
    YAML::Syck          1.29    
    version             0.9916  


--

Summary of my perl5 (revision 5 version 24 subversion 0) configuration:
   
  Platform:
    osname=linux, osvers=4.9.0-1-amd64, archname=x86_64-linux-thread-multi
    uname='linux prod4 4.9.0-1-amd64 #1 smp debian 4.9.6-3 (2017-01-28) x86_64 gnulinux '
    config_args='-ds -e -Dprefix=/opt/perl-5.24.0t -Dusethreads -Dcf_email=srezic@cpan.org'
    hint=recommended, useposix=true, d_sigaction=define
    useithreads=define, usemultiplicity=define
    use64bitint=define, use64bitall=define, uselongdouble=undef
    usemymalloc=n, bincompat5005=undef
  Compiler:
    cc='cc', ccflags ='-D_REENTRANT -D_GNU_SOURCE -fwrapv -fno-strict-aliasing -pipe -fstack-protector-strong -I/usr/local/include -D_LARGEFILE_SOURCE -D_FILE_OFFSET_BITS=64',
    optimize='-O2',
    cppflags='-D_REENTRANT -D_GNU_SOURCE -fwrapv -fno-strict-aliasing -pipe -fstack-protector-strong -I/usr/local/include'
    ccversion='', gccversion='6.3.0 20170205', gccosandvers=''
    intsize=4, longsize=8, ptrsize=8, doublesize=8, byteorder=12345678, doublekind=3
    d_longlong=define, longlongsize=8, d_longdbl=define, longdblsize=16, longdblkind=3
    ivtype='long', ivsize=8, nvtype='double', nvsize=8, Off_t='off_t', lseeksize=8
    alignbytes=8, prototype=define
  Linker and Libraries:
    ld='cc', ldflags =' -fstack-protector-strong -L/usr/local/lib'
    libpth=/usr/local/lib /usr/lib/gcc/x86_64-linux-gnu/6/include-fixed /usr/include/x86_64-linux-gnu /usr/lib /lib/x86_64-linux-gnu /lib/../lib /usr/lib/x86_64-linux-gnu /usr/lib/../lib /lib
    libs=-lpthread -lnsl -lgdbm -ldb -ldl -lm -lcrypt -lutil -lc -lgdbm_compat
    perllibs=-lpthread -lnsl -ldl -lm -lcrypt -lutil -lc
    libc=libc-2.24.so, so=so, useshrplib=false, libperl=libperl.a
    gnulibc_version='2.24'
  Dynamic Linking:
    dlsrc=dl_dlopen.xs, dlext=so, d_dlsymun=undef, ccdlflags='-Wl,-E'
    cccdlflags='-fPIC', lddlflags='-shared -O2 -L/usr/local/lib -fstack-protector-strong'


Characteristics of this binary (from libperl): 
  Compile-time options: HAS_TIMES MULTIPLICITY PERLIO_LAYERS
                        PERL_COPY_ON_WRITE PERL_DONT_CREATE_GVSV
                        PERL_HASH_FUNC_ONE_AT_A_TIME_HARD
                        PERL_IMPLICIT_CONTEXT PERL_MALLOC_WRAP
                        PERL_PRESERVE_IVUV USE_64_BIT_ALL USE_64_BIT_INT
                        USE_ITHREADS USE_LARGE_FILES USE_LOCALE
                        USE_LOCALE_COLLATE USE_LOCALE_CTYPE
                        USE_LOCALE_NUMERIC USE_LOCALE_TIME USE_PERLIO
                        USE_PERL_ATOF USE_REENTRANT_API
  Built under linux
  Compiled at Feb 23 2017 20:47:31
  %ENV:
    PERL5LIB="/home/cpansand/.cpan/build/2017030909/Dist-Zilla-Role-PluginLoader-0.001003-2/blib/arch:/home/cpansand/.cpan/build/2017030909/Dist-Zilla-Role-PluginLoader-0.001003-2/blib/lib"
    PERL5OPT=""
    PERL5_CPANPLUS_IS_RUNNING="18025"
    PERL5_CPAN_IS_RUNNING="18025"
    PERL5_CPAN_IS_RUNNING_IN_RECURSION="17925,18025"
    PERLDOC="-MPod::Perldoc::ToTextOverstrike"
    PERL_BATCH="yes"
    PERL_CANARY_STABILITY_NOPROMPT="1"
    PERL_CPAN_REPORTER_CONFIG="/var/tmp/cpansmoker-1002/2017030909/cpanreporter_000_config.ini"
    PERL_EXTUTILS_AUTOINSTALL="--defaultdeps"
    PERL_USE_UNSAFE_INC="1"
  @INC:
    /home/cpansand/.cpan/build/2017030909/Dist-Zilla-Role-PluginLoader-0.001003-2/blib/arch
    /home/cpansand/.cpan/build/2017030909/Dist-Zilla-Role-PluginLoader-0.001003-2/blib/lib
    /opt/perl-5.24.0t/lib/site_perl/5.24.0/x86_64-linux-thread-multi
    /opt/perl-5.24.0t/lib/site_perl/5.24.0
    /opt/perl-5.24.0t/lib/5.24.0/x86_64-linux-thread-multi
    /opt/perl-5.24.0t/lib/5.24.0
    .