Net-Statsd-Server v0.20 Perl 5 v5.43.4 x86_64-linux

Status
Pass
From
Carlos Guevara
Dist
Net-Statsd-Server v0.20
Platform
Perl 5 v5.43.4 x86_64-linux
Date
2025-10-15 15:22:07
ID
b6319444-a9da-11f0-861e-c7212d20080a
This distribution has been tested as part of the CPAN Testers
project, supporting the Perl programming language.  See
http://wiki.cpantesters.org/ for more information or email
questions to cpan-testers-discuss@perl.org


--
Dear Cosimo Streppone,

This is a computer-generated report for Net-Statsd-Server-0.20
on perl 5.43.4, created by CPAN-Reporter-1.2020.

Thank you for uploading your work to CPAN.  Congratulations!
All tests were successful.

Sections of this report:

    * Tester comments
    * Program output
    * Prerequisites
    * Environment and other context

------------------------------
TESTER COMMENTS
------------------------------

Additional comments from tester:

this report is from an automated smoke testing program
and was not reviewed by a human for accuracy

------------------------------
PROGRAM OUTPUT
------------------------------

Output from '/usr/bin/make test':

PERL_DL_NONLAZY=1 "/home/cpan/bin/perl/bin/perl5.43.4" "-MExtUtils::Command::MM" "-MTest::Harness" "-e" "undef *Test::Harness::Switches; test_harness(0, 'blib/lib', 'blib/arch')" t/*.t t/integration-tests/*.t
t/000-sanity.t ............................. ok
t/config.t ................................. ok
t/graphite.t ............................... ok
2025-10-15 11:21:56.000000 -0400 note  Net::Statsd::Server: Initializing Net::Statsd::Server::Backend::Console backend
2025-10-15 11:21:56.000000 -0400 note  Net::Statsd::Server: Initializing Net::Statsd::Server::Backend::Graphite backend
2025-10-15 11:21:56.000000 -0400 info  AnyEvent: Autoloaded model 'AnyEvent::Impl::Perl', using it.
2025-10-15 11:21:56.743774 -0400 note  Net::Statsd::Server: statsd server started on 0.0.0.0:40001 (v0.17)
2025-10-15 11:21:56.743853 -0400 note  Net::Statsd::Server: manager interface started on 0.0.0.0:40002
2025-10-15 11:21:56.743899 -0400 note  Net::Statsd::Server: metrics flush will happen every 1s
2025-10-15 11:21:57.198860 -0400 warn  Net::Statsd::Server: Bad line: 1 in msg "a_bad_test_value|z"
2025-10-15 11:21:57.744714 -0400 note  Net::Statsd::Server: flushing metrics
Flushing stats at Wed Oct 15 11:21:57 2025
{"gauges":{},"pctThreshold":[90],"counters":{"statsd.bad_lines_seen":1,"statsd.packets_received":1},"timer_data":{},"timers":{},"counter_rates":{"statsd.bad_lines_seen":1,"statsd.packets_received":1},"sets":null}
t/integration-tests/bad-message.t .......... ok
2025-10-15 11:21:57.000000 -0400 note  Net::Statsd::Server: Initializing Net::Statsd::Server::Backend::Console backend
2025-10-15 11:21:57.000000 -0400 note  Net::Statsd::Server: Initializing Net::Statsd::Server::Backend::Graphite backend
2025-10-15 11:21:57.000000 -0400 info  AnyEvent: Autoloaded model 'AnyEvent::Impl::Perl', using it.
2025-10-15 11:21:57.882456 -0400 note  Net::Statsd::Server: statsd server started on 0.0.0.0:40001 (v0.17)
2025-10-15 11:21:57.882524 -0400 note  Net::Statsd::Server: manager interface started on 0.0.0.0:40002
2025-10-15 11:21:57.882572 -0400 note  Net::Statsd::Server: metrics flush will happen every 1s
2025-10-15 11:21:58.883404 -0400 note  Net::Statsd::Server: flushing metrics
Flushing stats at Wed Oct 15 11:21:58 2025
{"timer_data":{},"gauges":{},"counters":{"a_test_value":100,"statsd.packets_received":1,"statsd.bad_lines_seen":0},"counter_rates":{"statsd.packets_received":1,"a_test_value":100,"statsd.bad_lines_seen":0},"timers":{},"sets":null,"pctThreshold":[90]}
# stats.counters.a_test_value.rate 100.000000 1760541718
# stats.counters.a_test_value.count 100 1760541718
# stats.counters.statsd.packets_received.rate 1.000000 1760541718
# stats.counters.statsd.packets_received.count 1 1760541718
# stats.counters.statsd.bad_lines_seen.rate 0.000000 1760541718
# stats.counters.statsd.bad_lines_seen.count 0 1760541718
# stats.statsd.numStats 3 1760541718
# stats.statsd.graphiteStats.calculationtime 0.062000 1760541718
# stats.statsd.processing_time 0.039 1760541718
# stats.statsd.graphiteStats.last_exception 807328192 1760541718
# stats.statsd.graphiteStats.last_flush 807328192 1760541718
t/integration-tests/counts-are-valid.t ..... ok
2025-10-15 11:21:59.000000 -0400 note  Net::Statsd::Server: Initializing Net::Statsd::Server::Backend::Graphite backend
2025-10-15 11:21:59.000000 -0400 info  AnyEvent: Autoloaded model 'AnyEvent::Impl::Perl', using it.
2025-10-15 11:21:59.018476 -0400 note  Net::Statsd::Server: statsd server started on 0.0.0.0:40001 (v0.17)
2025-10-15 11:21:59.018543 -0400 note  Net::Statsd::Server: manager interface started on 0.0.0.0:40002
2025-10-15 11:21:59.018594 -0400 note  Net::Statsd::Server: metrics flush will happen every 1s
2025-10-15 11:22:00.019458 -0400 note  Net::Statsd::Server: flushing metrics
# First flush. Test gauge should be there.
2025-10-15 11:22:01.019680 -0400 note  Net::Statsd::Server: flushing metrics
# Second flush. deleteGauges=false should keep the test gauge.
t/integration-tests/delete-gauges-false.t .. ok
2025-10-15 11:22:01.000000 -0400 note  Net::Statsd::Server: Initializing Net::Statsd::Server::Backend::Graphite backend
2025-10-15 11:22:01.000000 -0400 info  AnyEvent: Autoloaded model 'AnyEvent::Impl::Perl', using it.
2025-10-15 11:22:01.155647 -0400 note  Net::Statsd::Server: statsd server started on 0.0.0.0:40001 (v0.17)
2025-10-15 11:22:01.155726 -0400 note  Net::Statsd::Server: manager interface started on 0.0.0.0:40002
2025-10-15 11:22:01.155772 -0400 note  Net::Statsd::Server: metrics flush will happen every 1s
2025-10-15 11:22:02.156791 -0400 note  Net::Statsd::Server: flushing metrics
# First flush. Test gauge should be there.
2025-10-15 11:22:03.157069 -0400 note  Net::Statsd::Server: flushing metrics
# Second flush. deleteIdleStats should have cleared the test gauge.
t/integration-tests/delete-idle-stats.t .... ok
2025-10-15 11:22:03.000000 -0400 note  Net::Statsd::Server: Initializing Net::Statsd::Server::Backend::Console backend
2025-10-15 11:22:03.000000 -0400 note  Net::Statsd::Server: Initializing Net::Statsd::Server::Backend::Graphite backend
2025-10-15 11:22:03.000000 -0400 info  AnyEvent: Autoloaded model 'AnyEvent::Impl::Perl', using it.
2025-10-15 11:22:03.296690 -0400 note  Net::Statsd::Server: statsd server started on 0.0.0.0:40001 (v0.17)
2025-10-15 11:22:03.296762 -0400 note  Net::Statsd::Server: manager interface started on 0.0.0.0:40002
2025-10-15 11:22:03.296808 -0400 note  Net::Statsd::Server: metrics flush will happen every 1s
2025-10-15 11:22:04.297390 -0400 note  Net::Statsd::Server: flushing metrics
Flushing stats at Wed Oct 15 11:22:04 2025
{"counters":{"statsd.bad_lines_seen":0,"statsd.packets_received":1,"a_test_value,category=web,severity=high":100},"gauges":{},"counter_rates":{"statsd.packets_received":1,"statsd.bad_lines_seen":0,"a_test_value,category=web,severity=high":100},"timer_data":{},"pctThreshold":[90],"sets":null,"timers":{}}
# stats.counters.statsd.bad_lines_seen.rate 0.000000 1760541724
# stats.counters.statsd.bad_lines_seen.count 0 1760541724
# stats.counters.statsd.packets_received.rate 1.000000 1760541724
# stats.counters.statsd.packets_received.count 1 1760541724
# stats.counters.a_test_value,category=web,severity=high.rate 100.000000 1760541724
# stats.counters.a_test_value,category=web,severity=high.count 100 1760541724
# stats.statsd.numStats 3 1760541724
# stats.statsd.graphiteStats.calculationtime 0.064000 1760541724
# stats.statsd.processing_time 0.032 1760541724
# stats.statsd.graphiteStats.last_exception 295057856 1760541724
# stats.statsd.graphiteStats.last_flush 295057856 1760541724
t/integration-tests/keys-with-tags.t ....... ok
2025-10-15 11:22:04.000000 -0400 note  Net::Statsd::Server: Initializing Net::Statsd::Server::Backend::Graphite backend
2025-10-15 11:22:04.000000 -0400 info  AnyEvent: Autoloaded model 'AnyEvent::Impl::Perl', using it.
2025-10-15 11:22:04.434026 -0400 note  Net::Statsd::Server: statsd server started on 0.0.0.0:40001 (v0.17)
2025-10-15 11:22:04.434112 -0400 note  Net::Statsd::Server: manager interface started on 0.0.0.0:40002
2025-10-15 11:22:04.434166 -0400 note  Net::Statsd::Server: metrics flush will happen every 1s
# Expected mean value is 1962
2025-10-15 11:22:05.434994 -0400 note  Net::Statsd::Server: flushing metrics
# stats.counters.statsd.bad_lines_seen.rate 0.000000 1760541725
# stats.counters.statsd.bad_lines_seen.count 0 1760541725
# stats.counters.statsd.packets_received.rate 100.000000 1760541725
# stats.counters.statsd.packets_received.count 100 1760541725
# stats.timers.read_latency.sum 196200.000000 1760541725
# stats.timers.read_latency.sum_98 190267.000000 1760541725
# stats.timers.read_latency.count_99 99.000000 1760541725
# stats.timers.read_latency.median 1986.500000 1760541725
# stats.timers.read_latency.count 100.000000 1760541725
# stats.timers.read_latency.upper 2989.000000 1760541725
# stats.timers.read_latency.mean 1962.000000 1760541725
# stats.timers.read_latency.mean_95 1911.610526 1760541725
# stats.timers.read_latency.lower 1014.000000 1760541725
# stats.timers.read_latency.upper_99 2944.000000 1760541725
# stats.timers.read_latency.sum_99 193211.000000 1760541725
# stats.timers.read_latency.sum_squares_99 407943965.000000 1760541725
# stats.timers.read_latency.upper_95 2862.000000 1760541725
# stats.timers.read_latency.std 565.098982 1760541725
# stats.timers.read_latency.upper_98 2897.000000 1760541725
# stats.timers.read_latency.count_98 98.000000 1760541725
# stats.timers.read_latency.sum_squares_98 399276829.000000 1760541725
# stats.timers.read_latency.count_ps 100.000000 1760541725
# stats.timers.read_latency.mean_99 1951.626263 1760541725
# stats.timers.read_latency.sum_squares_95 374255063.000000 1760541725
# stats.timers.read_latency.sum_95 181603.000000 1760541725
# stats.timers.read_latency.count_95 95.000000 1760541725
# stats.timers.read_latency.sum_squares 416878086.000000 1760541725
# stats.timers.read_latency.mean_98 1941.500000 1760541725
# stats.statsd.numStats 3 1760541725
# stats.statsd.graphiteStats.calculationtime 0.143000 1760541725
# stats.statsd.processing_time 0.373 1760541725
# stats.statsd.graphiteStats.last_exception 667322816 1760541725
# stats.statsd.graphiteStats.last_flush 667322816 1760541725
t/integration-tests/percent-threshold.t .... ok
2025-10-15 11:22:05.000000 -0400 note  Net::Statsd::Server: Initializing Net::Statsd::Server::Backend::Console backend
2025-10-15 11:22:05.000000 -0400 note  Net::Statsd::Server: Initializing Net::Statsd::Server::Backend::Graphite backend
2025-10-15 11:22:05.000000 -0400 info  AnyEvent: Autoloaded model 'AnyEvent::Impl::Perl', using it.
2025-10-15 11:22:05.572704 -0400 note  Net::Statsd::Server: statsd server started on 0.0.0.0:40001 (v0.17)
2025-10-15 11:22:05.572779 -0400 note  Net::Statsd::Server: manager interface started on 0.0.0.0:40002
2025-10-15 11:22:05.572827 -0400 note  Net::Statsd::Server: metrics flush will happen every 1s
2025-10-15 11:22:06.573880 -0400 note  Net::Statsd::Server: flushing metrics
Flushing stats at Wed Oct 15 11:22:06 2025
{"counters":{"statsd.bad_lines_seen":0,"statsd.packets_received":1},"pctThreshold":["90"],"counter_rates":{"statsd.bad_lines_seen":0,"statsd.packets_received":1},"timer_data":{"a_test_value":{"count_ps":1,"count_90":1,"median":"100","mean_90":"100","upper_90":"100","sum":"100","std":0,"upper":"100","mean":100,"count":1,"sum_90":"100","lower":"100","sum_squares_90":10000,"sum_squares":10000}},"timers":{"a_test_value":["100"]},"sets":null,"gauges":{}}
# stats.counters.statsd.bad_lines_seen.rate 0.000000 1760541726
# stats.counters.statsd.bad_lines_seen.count 0 1760541726
# stats.counters.statsd.packets_received.rate 1.000000 1760541726
# stats.counters.statsd.packets_received.count 1 1760541726
# stats.timers.a_test_value.count_ps 1.000000 1760541726
# stats.timers.a_test_value.count_90 1.000000 1760541726
# stats.timers.a_test_value.median 100.000000 1760541726
# stats.timers.a_test_value.mean_90 100.000000 1760541726
# stats.timers.a_test_value.upper_90 100.000000 1760541726
# stats.timers.a_test_value.sum 100.000000 1760541726
# stats.timers.a_test_value.std 0.000000 1760541726
# stats.timers.a_test_value.upper 100.000000 1760541726
# stats.timers.a_test_value.mean 100.000000 1760541726
# stats.timers.a_test_value.count 1.000000 1760541726
# stats.timers.a_test_value.sum_90 100.000000 1760541726
# stats.timers.a_test_value.lower 100.000000 1760541726
# stats.timers.a_test_value.sum_squares_90 10000.000000 1760541726
# stats.timers.a_test_value.sum_squares 10000.000000 1760541726
# stats.statsd.numStats 3 1760541726
# stats.statsd.graphiteStats.calculationtime 0.112000 1760541726
# stats.statsd.processing_time 0.089 1760541726
# stats.statsd.graphiteStats.last_exception 111114688 1760541726
# stats.statsd.graphiteStats.last_flush 111114688 1760541726
t/integration-tests/timers-are-valid.t ..... ok
t/process-metrics.t ........................ ok
t/trim.t ................................... ok
All tests successful.
Files=12, Tests=92, 10 wallclock secs ( 0.05 usr  0.02 sys +  0.69 cusr  0.18 csys =  0.94 CPU)
Result: PASS

------------------------------
PREREQUISITES
------------------------------

Prerequisite modules loaded:

requires:

    Module                Need Have    
    --------------------- ---- --------
    AnyEvent::Handle::UDP 0    0.050   
    IO::Socket::INET      0    1.55    
    JSON::XS              0    4.04    

build_requires:

    Module                Need Have    
    --------------------- ---- --------
    ExtUtils::MakeMaker   0    7.76    
    Test::More            0    1.302214

configure_requires:

    Module                Need Have    
    --------------------- ---- --------
    ExtUtils::MakeMaker   0    7.76    


------------------------------
ENVIRONMENT AND OTHER CONTEXT
------------------------------

Environment variables:

    AUTOMATED_TESTING = 1
    DATE_MANIP_TEST_DM5 = 1
    LANG = en_US.UTF-8
    LC_ALL = C
    NONINTERACTIVE_TESTING = 1
    NO_NETWORK_TESTING = 1
    PATH = /home/cpan/bin/perl/bin:/home/cpan/bin:/home/cpan/bin:/usr/local/bin:/usr/bin:/usr/local/sbin:/usr/sbin
    PERL5LIB = 
    PERL5OPT = 
    PERL5_CPANPLUS_IS_RUNNING = 1759366
    PERL5_CPAN_IS_RUNNING = 1759366
    PERL_MM_USE_DEFAULT = 1
    PERL_PERTURB_KEYS = 0
    PERL_USE_UNSAFE_INC = 1
    SHELL = /bin/bash
    TERM = screen
    TMPDIR = /home/cpan/tmp

Perl special variables (and OS-specific diagnostics, for MSWin32):

    $^X = /home/cpan/bin/perl/bin/perl5.43.4
    $UID/$EUID = 1001 / 1001
    $GID = 1001 1001
    $EGID = 1001 1001

Perl module toolchain versions installed:

    Module              Have    
    ------------------- --------
    CPAN                2.38    
    CPAN::Meta          2.150010
    Cwd                 3.94    
    ExtUtils::CBuilder  0.280242
    ExtUtils::Command   7.76    
    ExtUtils::Install   2.22    
    ExtUtils::MakeMaker 7.76    
    ExtUtils::Manifest  1.75    
    ExtUtils::ParseXS   3.60    
    File::Spec          3.94    
    JSON                4.10    
    JSON::PP            4.16    
    Module::Build       0.4234  
    Module::Signature   n/a     
    Parse::CPAN::Meta   2.150010
    Test2               1.302214
    Test::Harness       3.52    
    Test::More          1.302214
    YAML                1.31    
    YAML::Syck          1.36    
    version             0.9933  


--

Summary of my perl5 (revision 5 version 43 subversion 4) configuration:
  Commit id: 043a9f33278c53eca7b8229f52cccdcadcaed8a9
  Platform:
    osname=linux
    osvers=6.12.0-55.39.1.el10_0.x86_64
    archname=x86_64-linux
    uname='linux cjg-rhel10 6.12.0-55.39.1.el10_0.x86_64 #1 smp preempt_dynamic sat oct 4 03:09:12 edt 2025 x86_64 gnulinux '
    config_args='-des -Dprefix=/home/cpan/bin/perl -Dscriptdir=/home/cpan/bin/perl/bin -Dusedevel -Duse64bitall'
    hint=recommended
    useposix=true
    d_sigaction=define
    useithreads=undef
    usemultiplicity=undef
    use64bitint=define
    use64bitall=define
    uselongdouble=undef
    usemymalloc=n
    default_inc_excludes_dot=define
  Compiler:
    cc='cc'
    ccflags ='-fwrapv -fno-strict-aliasing -pipe -fstack-protector-strong -I/usr/local/include -D_LARGEFILE_SOURCE -D_FILE_OFFSET_BITS=64 -D_FORTIFY_SOURCE=2'
    optimize='-O2'
    cppflags='-fwrapv -fno-strict-aliasing -pipe -fstack-protector-strong -I/usr/local/include'
    ccversion=''
    gccversion='14.2.1 20250110 (Red Hat 14.2.1-7)'
    gccosandvers=''
    intsize=4
    longsize=8
    ptrsize=8
    doublesize=8
    byteorder=12345678
    doublekind=3
    d_longlong=define
    longlongsize=8
    d_longdbl=define
    longdblsize=16
    longdblkind=3
    ivtype='long'
    ivsize=8
    nvtype='double'
    nvsize=8
    Off_t='off_t'
    lseeksize=8
    alignbytes=8
    prototype=define
  Linker and Libraries:
    ld='cc'
    ldflags =' -fstack-protector-strong -L/usr/local/lib'
    libpth=/usr/local/lib /usr/lib /usr/lib64 /usr/local/lib64
    libs=-lpthread -ldb -ldl -lm -lcrypt -lutil -lc
    perllibs=-lpthread -ldl -lm -lcrypt -lutil -lc
    libc=/lib/../lib64/libc.so.6
    so=so
    useshrplib=false
    libperl=libperl.a
    gnulibc_version='2.39'
  Dynamic Linking:
    dlsrc=dl_dlopen.xs
    dlext=so
    d_dlsymun=undef
    ccdlflags='-Wl,-E'
    cccdlflags='-fPIC'
    lddlflags='-shared -O2 -L/usr/local/lib -fstack-protector-strong'


Characteristics of this binary (from libperl): 
  Compile-time options:
    HAS_LONG_DOUBLE
    HAS_STRTOLD
    HAS_TIMES
    PERLIO_LAYERS
    PERL_COPY_ON_WRITE
    PERL_DONT_CREATE_GVSV
    PERL_HASH_FUNC_SIPHASH13
    PERL_HASH_USE_SBOX32
    PERL_MALLOC_WRAP
    PERL_OP_PARENT
    PERL_PRESERVE_IVUV
    PERL_USE_DEVEL
    PERL_USE_SAFE_PUTENV
    USE_64_BIT_ALL
    USE_64_BIT_INT
    USE_LARGE_FILES
    USE_LOCALE
    USE_LOCALE_COLLATE
    USE_LOCALE_CTYPE
    USE_LOCALE_NUMERIC
    USE_LOCALE_TIME
    USE_PERLIO
    USE_PERL_ATOF
  Built under linux
  Compiled at Oct 14 2025 18:15:04
  %ENV:
    PERL5LIB=""
    PERL5OPT=""
    PERL5_CPANPLUS_IS_RUNNING="1759366"
    PERL5_CPAN_IS_RUNNING="1759366"
    PERL_MM_USE_DEFAULT="1"
    PERL_PERTURB_KEYS="0"
    PERL_USE_UNSAFE_INC="1"
  @INC:
    /home/cpan/bin/perl/lib/site_perl/5.43.4/x86_64-linux
    /home/cpan/bin/perl/lib/site_perl/5.43.4
    /home/cpan/bin/perl/lib/5.43.4/x86_64-linux
    /home/cpan/bin/perl/lib/5.43.4
    .