Report for Regexp-Common-2017040401

Back
From: metabase:user:3138bf04-2aae-11df-837a-5e0a49663a4f
Subject: PASS Regexp-Common-2017040401 v5.18.2 Mac OS X
Date: 2017-04-12T04:01:31Z

This distribution has been tested as part of the CPAN Testers
project, supporting the Perl programming language.  See
http://wiki.cpantesters.org/ for more information or email
questions to cpan-testers-discuss@perl.org


--
Dear Abigail,

This is a computer-generated report for Regexp-Common-2017040401
on perl 5.18.2, created by CPAN-Reporter-1.2018.

Thank you for uploading your work to CPAN.  Congratulations!
All tests were successful.

Sections of this report:

    * Tester comments
    * Program output
    * Prerequisites
    * Environment and other context

------------------------------
TESTER COMMENTS
------------------------------

Additional comments from tester:

none provided

------------------------------
PROGRAM OUTPUT
------------------------------

Output from '/usr/bin/make test':

PERL_DL_NONLAZY=1 "/usr/bin/perl" "-MExtUtils::Command::MM" "-MTest::Harness" "-e" "undef *Test::Harness::Switches; test_harness(0, 'blib/lib', 'blib/arch')" t/*.t t/*/*.t
t/comment/delimited.t ............ ok
t/comment/html.t ................. ok
t/comment/nested.t ............... ok
t/comment/pascal.t ............... ok
t/comment/single_line.t .......... ok
t/comment/single_or_multiline.t .. ok
t/delimited/101_delimited.t ...... ok
t/delimited/111_bquoted.t ........ ok
t/net/101_ipv4.t ................. ok
t/net/102_ipv4_strict.t .......... ok
t/net/111_ipv6.t ................. ok
t/net/121_mac.t .................. ok
t/net/131_domain.t ............... ok
t/number/101_integer.t ........... ok
t/number/111_integer_base.t ...... ok
t/number/121_integer_places.t .... ok
t/number/122_integer_places.t .... ok
t/number/123_integer_places.t .... ok
t/number/131_integer_sep.t ....... ok
t/number/141_integer_group.t ..... ok
t/number/701_squares.t ........... ok
t/number/801_roman.t ............. ok
t/number/decimal.t ............... ok
t/number/number.t ................ ok
t/SEN/usa_ssn.t .................. ok
t/test___luhn.t .................. ok
t/test_balanced.t ................ ok
t/test_bases.t ................... ok
t/test_bases_sep.t ............... ok
t/test_comments.t ................ ok
t/test_curry.t ................... ok
t/test_i.t ....................... ok
t/test_lingua_palindrome.t ....... ok
t/test_list.t .................... ok
t/test_no_import.t ............... ok
t/test_profanity.t ............... ok
t/test_sub.t ..................... ok
t/test_sub_named.t ............... ok
t/test_ws.t ...................... ok
t/URI/any.t ...................... ok
t/URI/fax.t ...................... ok
t/URI/file.t ..................... ok
t/URI/ftp.t ...................... ok
t/URI/gopher.t ................... ok
t/URI/http.t ..................... ok
t/URI/news.t ..................... ok
t/URI/nntp.t ..................... ok
t/URI/pop.t ...................... ok
t/URI/prospero.t ................. ok
t/URI/tel.t ...................... ok
t/URI/telnet.t ................... ok
t/URI/tv.t ....................... ok
t/URI/wais.t ..................... ok
t/zip/101_austria.t .............. ok
t/zip/111_australia.t ............ ok
t/zip/112_australia.t ............ ok
t/zip/121_belgium.t .............. ok
t/zip/131_denmark.t .............. ok
t/zip/141_greenland.t ............ ok
t/zip/151_norway.t ............... ok
t/zip/161_liechtenstein.t ........ ok
t/zip/171_switzerland.t .......... ok
t/zip/181_italy.t ................ ok
t/zip/191_germany.t .............. ok
t/zip/201_luxembourg.t ........... ok
t/zip/211_france.t ............... ok
t/zip/221_monaco.t ............... ok
t/zip/231_san-marino.t ........... ok
t/zip/241_vatican-city.t ......... ok
t/zip/netherlands.t .............. ok
t/zip/spain.t .................... ok
t/zip/us.t ....................... ok
t/zip/zip.t ...................... ok
All tests successful.
Files=73, Tests=2315992, 488 wallclock secs (217.62 usr 23.43 sys + 454.57 cusr 15.51 csys = 711.13 CPU)
Result: PASS

------------------------------
PREREQUISITES
------------------------------

Prerequisite modules loaded:

requires:

    Module              Need Have      
    ------------------- ---- ----------
    Config              0    5.018002  
    perl                5.01 5.018002  
    strict              0    1.07      
    vars                0    1.03      
    warnings            0    1.18      

build_requires:

    Module              Need Have      
    ------------------- ---- ----------
    Config              0    5.018002  
    strict              0    1.07      
    Test::More          0    1.302078  
    vars                0    1.03      
    warnings            0    1.18      

configure_requires:

    Module              Need Have      
    ------------------- ---- ----------
    Config              0    5.018002  
    ExtUtils::MakeMaker 0    7.24      
    perl                5.01 5.018002  
    strict              0    1.07      
    vars                0    1.03      
    warnings            0    1.18      

opt_build_requires:

    Module              Need Have      
    ------------------- ---- ----------
    Test::Regexp        0    2016060501


------------------------------
ENVIRONMENT AND OTHER CONTEXT
------------------------------

Environment variables:

    LANG = en_US.UTF-8
    LC_ALL = en_US.UTF-8
    LC_CTYPE = UTF-8
    PATH = /usr/bin:/bin
    PERL5LIB = /Users/roland/.cpan/build/Net-DNS-1.09-KQVR8N/blib/arch:/Users/roland/.cpan/build/Net-DNS-1.09-KQVR8N/blib/lib:/Users/roland/.cpan/build/CPAN-2.16-l7xDZz/blib/arch:/Users/roland/.cpan/build/CPAN-2.16-l7xDZz/blib/lib
    PERL5OPT = 
    PERL5_CPANPLUS_IS_RUNNING = 3246
    PERL5_CPAN_IS_RUNNING = 3246
    SHELL = /bin/sh
    TERM = xterm-256color
    VERSIONER_PERL_PREFER_32_BIT = no
    VERSIONER_PERL_VERSION = 5.18

Perl special variables (and OS-specific diagnostics, for MSWin32):

    $^X = /usr/bin/perl
    $UID/$EUID = 0 / 0
    $GID = 0 0 1 2 3 4 5 8 9 12 20 29 61 80 33 98 100 204 395 398 399
    $EGID = 0 0 1 2 3 4 5 8 9 12 20 29 61 80 33 98 100 204 395 398 399

Perl module toolchain versions installed:

    Module              Have    
    ------------------- --------
    CPAN                2.16    
    CPAN::Meta          2.150010
    Cwd                 3.62    
    ExtUtils::CBuilder  0.280224
    ExtUtils::Command   7.24    
    ExtUtils::Install   2.04    
    ExtUtils::MakeMaker 7.24    
    ExtUtils::Manifest  1.70    
    ExtUtils::ParseXS   3.30    
    File::Spec          3.62    
    JSON                2.90    
    JSON::PP            2.27400 
    Module::Build       0.4222  
    Module::Signature   0.81    
    Parse::CPAN::Meta   2.150010
    Test::Harness       3.38    
    Test::More          1.302078
    YAML                1.23    
    YAML::Syck          1.29    
    version             0.9917  


--

Summary of my perl5 (revision 5 version 18 subversion 2) configuration:
   
  Platform:
    osname=darwin, osvers=16.0, archname=darwin-thread-multi-2level
    uname='darwin osx338.sd.apple.com 16.0 darwin kernel version 15.0.0: wed jun 22 17:57:08 pdt 2016; root:xnu-3247.1.106.2.9~1development_x86_64 x86_64 '
    config_args='-ds -e -Dprefix=/usr -Dccflags=-g  -pipe  -Dldflags= -Dman3ext=3pm -Duseithreads -Duseshrplib -Dinc_version_list=none -Dcc=cc'
    hint=recommended, useposix=true, d_sigaction=define
    useithreads=define, usemultiplicity=define
    useperlio=define, d_sfio=undef, uselargefiles=define, usesocks=undef
    use64bitint=define, use64bitall=define, uselongdouble=undef
    usemymalloc=n, bincompat5005=undef
  Compiler:
    cc='cc', ccflags ='-arch i386 -arch x86_64 -g -pipe -fno-common -DPERL_DARWIN -fno-strict-aliasing -fstack-protector',
    optimize='-Os',
    cppflags='-g -pipe -fno-common -DPERL_DARWIN -fno-strict-aliasing -fstack-protector'
    ccversion='', gccversion='4.2.1 Compatible Apple LLVM 8.0.0 (clang-800.0.34)', gccosandvers=''
    intsize=4, longsize=8, ptrsize=8, doublesize=8, byteorder=12345678
    d_longlong=define, longlongsize=8, d_longdbl=define, longdblsize=16
    ivtype='long', ivsize=8, nvtype='double', nvsize=8, Off_t='off_t', lseeksize=8
    alignbytes=8, prototype=define
  Linker and Libraries:
    ld='cc -mmacosx-version-min=10.12.4', ldflags ='-arch i386 -arch x86_64 -fstack-protector'
    libpth=/usr/lib /usr/local/lib
    libs= 
    perllibs=
    libc=, so=dylib, useshrplib=true, libperl=libperl.dylib
    gnulibc_version=''
  Dynamic Linking:
    dlsrc=dl_dlopen.xs, dlext=bundle, d_dlsymun=undef, ccdlflags=' '
    cccdlflags=' ', lddlflags='-arch i386 -arch x86_64 -bundle -undefined dynamic_lookup -fstack-protector'


Characteristics of this binary (from libperl): 
  Compile-time options: HAS_TIMES MULTIPLICITY PERLIO_LAYERS
                        PERL_DONT_CREATE_GVSV
                        PERL_HASH_FUNC_ONE_AT_A_TIME_HARD
                        PERL_IMPLICIT_CONTEXT PERL_MALLOC_WRAP
                        PERL_PRESERVE_IVUV PERL_SAWAMPERSAND USE_64_BIT_ALL
                        USE_64_BIT_INT USE_ITHREADS USE_LARGE_FILES
                        USE_LOCALE USE_LOCALE_COLLATE USE_LOCALE_CTYPE
                        USE_LOCALE_NUMERIC USE_PERLIO USE_PERL_ATOF
                        USE_REENTRANT_API
  Locally applied patches:
	/Library/Perl/Updates/<version> comes before system perl directories
	installprivlib and installarchlib points to the Updates directory
  Built under darwin
  Compiled at Feb  6 2017 22:13:46
  %ENV:
    PERL5LIB="/Users/roland/.cpan/build/Net-DNS-1.09-KQVR8N/blib/arch:/Users/roland/.cpan/build/Net-DNS-1.09-KQVR8N/blib/lib:/Users/roland/.cpan/build/CPAN-2.16-l7xDZz/blib/arch:/Users/roland/.cpan/build/CPAN-2.16-l7xDZz/blib/lib"
    PERL5OPT=""
    PERL5_CPANPLUS_IS_RUNNING="3246"
    PERL5_CPAN_IS_RUNNING="3246"
  @INC:
    /Users/roland/.cpan/build/Net-DNS-1.09-KQVR8N/blib/arch
    /Users/roland/.cpan/build/Net-DNS-1.09-KQVR8N/blib/lib
    /Users/roland/.cpan/build/CPAN-2.16-l7xDZz/blib/arch
    /Users/roland/.cpan/build/CPAN-2.16-l7xDZz/blib/lib
    /Library/Perl/5.18/darwin-thread-multi-2level
    /Library/Perl/5.18
    /Network/Library/Perl/5.18/darwin-thread-multi-2level
    /Network/Library/Perl/5.18
    /Library/Perl/Updates/5.18.2/darwin-thread-multi-2level
    /Library/Perl/Updates/5.18.2
    /System/Library/Perl/5.18/darwin-thread-multi-2level
    /System/Library/Perl/5.18
    /System/Library/Perl/Extras/5.18/darwin-thread-multi-2level
    /System/Library/Perl/Extras/5.18
    .