Report for Net-Statsd-Server-0.20

Back
From: metabase:user:314402c4-2aae-11df-837a-5e0a49663a4f
Subject: PASS Net-Statsd-Server-0.20 v5.22.3 RC5 GNU/Linux
Date: 2017-01-08T20:04:50Z

This distribution has been tested as part of the CPAN Testers
project, supporting the Perl programming language.  See
http://wiki.cpantesters.org/ for more information or email
questions to cpan-testers-discuss@perl.org


--
Dear Cosimo Streppone,

This is a computer-generated report for Net-Statsd-Server-0.20
on perl 5.22.3, created by CPAN-Reporter-1.2018.

Thank you for uploading your work to CPAN.  Congratulations!
All tests were successful.

Sections of this report:

    * Tester comments
    * Program output
    * Prerequisites
    * Environment and other context

------------------------------
TESTER COMMENTS
------------------------------

Additional comments from tester:

none provided

------------------------------
PROGRAM OUTPUT
------------------------------

Output from '/usr/bin/make test':

PERL_DL_NONLAZY=1 "/bbbike/perl-5.22.3-RC5t/bin/perl" "-MExtUtils::Command::MM" "-MTest::Harness" "-e" "undef *Test::Harness::Switches; test_harness(0, 'blib/lib', 'blib/arch')" t/*.t t/integration-tests/*.t
t/000-sanity.t ............................. ok
t/config.t ................................. ok
t/graphite.t ............................... ok
2017-01-08 20:02:17.000000 +0000 note  Net::Statsd::Server: Initializing Net::Statsd::Server::Backend::Console backend
2017-01-08 20:02:17.000000 +0000 note  Net::Statsd::Server: Initializing Net::Statsd::Server::Backend::Graphite backend
2017-01-08 20:02:17.000000 +0000 info  AnyEvent: Autoloaded model 'AnyEvent::Impl::Perl', using it.
2017-01-08 20:02:17.760377 +0000 note  Net::Statsd::Server: statsd server started on 0.0.0.0:40001 (v0.17)
2017-01-08 20:02:17.760411 +0000 note  Net::Statsd::Server: manager interface started on 0.0.0.0:40002
2017-01-08 20:02:17.760441 +0000 note  Net::Statsd::Server: metrics flush will happen every 1s
2017-01-08 20:02:18.045066 +0000 warn  Net::Statsd::Server: Bad line: 1 in msg "a_bad_test_value|z"
2017-01-08 20:02:18.763446 +0000 note  Net::Statsd::Server: flushing metrics
Flushing stats at Sun Jan  8 20:02:18 2017
{"timer_data":{},"counter_rates":{"statsd.packets_received":1,"statsd.bad_lines_seen":1},"sets":null,"counters":{"statsd.packets_received":1,"statsd.bad_lines_seen":1},"gauges":{},"pctThreshold":[90],"timers":{}}
t/integration-tests/bad-message.t .......... ok
2017-01-08 20:02:19.000000 +0000 note  Net::Statsd::Server: Initializing Net::Statsd::Server::Backend::Console backend
2017-01-08 20:02:19.000000 +0000 note  Net::Statsd::Server: Initializing Net::Statsd::Server::Backend::Graphite backend
2017-01-08 20:02:19.000000 +0000 info  AnyEvent: Autoloaded model 'AnyEvent::Impl::Perl', using it.
2017-01-08 20:02:19.382035 +0000 note  Net::Statsd::Server: statsd server started on 0.0.0.0:40001 (v0.17)
2017-01-08 20:02:19.382066 +0000 note  Net::Statsd::Server: manager interface started on 0.0.0.0:40002
2017-01-08 20:02:19.382095 +0000 note  Net::Statsd::Server: metrics flush will happen every 1s
2017-01-08 20:02:20.383456 +0000 note  Net::Statsd::Server: flushing metrics
Flushing stats at Sun Jan  8 20:02:20 2017
{"counter_rates":{"statsd.bad_lines_seen":0,"a_test_value":100,"statsd.packets_received":1},"counters":{"statsd.packets_received":1,"statsd.bad_lines_seen":0,"a_test_value":100},"gauges":{},"pctThreshold":[90],"timers":{},"timer_data":{},"sets":null}
# stats.counters.statsd.packets_received.rate 1.000000 1483905740
# stats.counters.statsd.packets_received.count 1 1483905740
# stats.counters.statsd.bad_lines_seen.rate 0.000000 1483905740
# stats.counters.statsd.bad_lines_seen.count 0 1483905740
# stats.counters.a_test_value.rate 100.000000 1483905740
# stats.counters.a_test_value.count 100 1483905740
# stats.statsd.numStats 3 1483905740
# stats.statsd.graphiteStats.calculationtime 0.041000 1483905740
# stats.statsd.processing_time 0.023 1483905740
# stats.statsd.graphiteStats.last_exception 41141312 1483905740
# stats.statsd.graphiteStats.last_flush 41141312 1483905740
t/integration-tests/counts-are-valid.t ..... ok
2017-01-08 20:02:20.000000 +0000 note  Net::Statsd::Server: Initializing Net::Statsd::Server::Backend::Graphite backend
2017-01-08 20:02:20.000000 +0000 info  AnyEvent: Autoloaded model 'AnyEvent::Impl::Perl', using it.
2017-01-08 20:02:20.929946 +0000 note  Net::Statsd::Server: statsd server started on 0.0.0.0:40001 (v0.17)
2017-01-08 20:02:20.929980 +0000 note  Net::Statsd::Server: manager interface started on 0.0.0.0:40002
2017-01-08 20:02:20.930006 +0000 note  Net::Statsd::Server: metrics flush will happen every 1s
2017-01-08 20:02:21.931443 +0000 note  Net::Statsd::Server: flushing metrics
# First flush. Test gauge should be there.
2017-01-08 20:02:22.931442 +0000 note  Net::Statsd::Server: flushing metrics
# Second flush. deleteGauges=false should keep the test gauge.
t/integration-tests/delete-gauges-false.t .. ok
2017-01-08 20:02:23.000000 +0000 note  Net::Statsd::Server: Initializing Net::Statsd::Server::Backend::Graphite backend
2017-01-08 20:02:23.000000 +0000 info  AnyEvent: Autoloaded model 'AnyEvent::Impl::Perl', using it.
2017-01-08 20:02:23.485666 +0000 note  Net::Statsd::Server: statsd server started on 0.0.0.0:40001 (v0.17)
2017-01-08 20:02:23.485698 +0000 note  Net::Statsd::Server: manager interface started on 0.0.0.0:40002
2017-01-08 20:02:23.485729 +0000 note  Net::Statsd::Server: metrics flush will happen every 1s
2017-01-08 20:02:24.487447 +0000 note  Net::Statsd::Server: flushing metrics
# First flush. Test gauge should be there.
2017-01-08 20:02:25.487445 +0000 note  Net::Statsd::Server: flushing metrics
# Second flush. deleteIdleStats should have cleared the test gauge.
t/integration-tests/delete-idle-stats.t .... ok
2017-01-08 20:02:26.000000 +0000 note  Net::Statsd::Server: Initializing Net::Statsd::Server::Backend::Console backend
2017-01-08 20:02:26.000000 +0000 note  Net::Statsd::Server: Initializing Net::Statsd::Server::Backend::Graphite backend
2017-01-08 20:02:26.000000 +0000 info  AnyEvent: Autoloaded model 'AnyEvent::Impl::Perl', using it.
2017-01-08 20:02:26.037627 +0000 note  Net::Statsd::Server: statsd server started on 0.0.0.0:40001 (v0.17)
2017-01-08 20:02:26.037662 +0000 note  Net::Statsd::Server: manager interface started on 0.0.0.0:40002
2017-01-08 20:02:26.037689 +0000 note  Net::Statsd::Server: metrics flush will happen every 1s
2017-01-08 20:02:27.039453 +0000 note  Net::Statsd::Server: flushing metrics
Flushing stats at Sun Jan  8 20:02:27 2017
{"timers":{},"gauges":{},"sets":null,"counter_rates":{"statsd.packets_received":1,"a_test_value,category=web,severity=high":100,"statsd.bad_lines_seen":0},"counters":{"a_test_value,category=web,severity=high":100,"statsd.packets_received":1,"statsd.bad_lines_seen":0},"pctThreshold":[90],"timer_data":{}}
# stats.counters.a_test_value,category=web,severity=high.rate 100.000000 1483905747
# stats.counters.a_test_value,category=web,severity=high.count 100 1483905747
# stats.counters.statsd.packets_received.rate 1.000000 1483905747
# stats.counters.statsd.packets_received.count 1 1483905747
# stats.counters.statsd.bad_lines_seen.rate 0.000000 1483905747
# stats.counters.statsd.bad_lines_seen.count 0 1483905747
# stats.statsd.numStats 3 1483905747
# stats.statsd.graphiteStats.calculationtime 0.040000 1483905747
# stats.statsd.processing_time 0.02 1483905747
# stats.statsd.graphiteStats.last_exception 12596288 1483905747
# stats.statsd.graphiteStats.last_flush 12596288 1483905747
t/integration-tests/keys-with-tags.t ....... ok
2017-01-08 20:02:27.000000 +0000 note  Net::Statsd::Server: Initializing Net::Statsd::Server::Backend::Graphite backend
2017-01-08 20:02:27.000000 +0000 info  AnyEvent: Autoloaded model 'AnyEvent::Impl::Perl', using it.
2017-01-08 20:02:27.595468 +0000 note  Net::Statsd::Server: statsd server started on 0.0.0.0:40001 (v0.17)
2017-01-08 20:02:27.595521 +0000 note  Net::Statsd::Server: manager interface started on 0.0.0.0:40002
2017-01-08 20:02:27.595555 +0000 note  Net::Statsd::Server: metrics flush will happen every 1s
# Expected mean value is 1977.6
2017-01-08 20:02:28.587459 +0000 note  Net::Statsd::Server: flushing metrics
# stats.counters.statsd.packets_received.rate 100.000000 1483905748
# stats.counters.statsd.packets_received.count 100 1483905748
# stats.counters.statsd.bad_lines_seen.rate 0.000000 1483905748
# stats.counters.statsd.bad_lines_seen.count 0 1483905748
# stats.timers.read_latency.sum 197760.000000 1483905748
# stats.timers.read_latency.std 581.587775 1483905748
# stats.timers.read_latency.count 100.000000 1483905748
# stats.timers.read_latency.lower 1028.000000 1483905748
# stats.timers.read_latency.sum_squares_98 407579690.000000 1483905748
# stats.timers.read_latency.sum_squares_95 382493151.000000 1483905748
# stats.timers.read_latency.count_95 95.000000 1483905748
# stats.timers.read_latency.upper_98 2913.000000 1483905748
# stats.timers.read_latency.upper 2962.000000 1483905748
# stats.timers.read_latency.sum_squares_99 416141166.000000 1483905748
# stats.timers.read_latency.mean_99 1967.656566 1483905748
# stats.timers.read_latency.count_98 98.000000 1483905748
# stats.timers.read_latency.sum_98 191872.000000 1483905748
# stats.timers.read_latency.mean_98 1957.877551 1483905748
# stats.timers.read_latency.median 1920.500000 1483905748
# stats.timers.read_latency.sum_95 183197.000000 1483905748
# stats.timers.read_latency.sum_squares 424914610.000000 1483905748
# stats.timers.read_latency.count_99 99.000000 1483905748
# stats.timers.read_latency.upper_95 2859.000000 1483905748
# stats.timers.read_latency.sum_99 194798.000000 1483905748
# stats.timers.read_latency.upper_99 2926.000000 1483905748
# stats.timers.read_latency.mean 1977.600000 1483905748
# stats.timers.read_latency.count_ps 100.000000 1483905748
# stats.timers.read_latency.mean_95 1928.389474 1483905748
# stats.statsd.numStats 3 1483905748
# stats.statsd.graphiteStats.calculationtime 0.082000 1483905748
# stats.statsd.processing_time 0.19 1483905748
# stats.statsd.graphiteStats.last_exception 25326656 1483905748
# stats.statsd.graphiteStats.last_flush 25326656 1483905748
t/integration-tests/percent-threshold.t .... ok
2017-01-08 20:02:29.000000 +0000 note  Net::Statsd::Server: Initializing Net::Statsd::Server::Backend::Console backend
2017-01-08 20:02:29.000000 +0000 note  Net::Statsd::Server: Initializing Net::Statsd::Server::Backend::Graphite backend
2017-01-08 20:02:29.000000 +0000 info  AnyEvent: Autoloaded model 'AnyEvent::Impl::Perl', using it.
2017-01-08 20:02:29.164522 +0000 note  Net::Statsd::Server: statsd server started on 0.0.0.0:40001 (v0.17)
2017-01-08 20:02:29.164556 +0000 note  Net::Statsd::Server: manager interface started on 0.0.0.0:40002
2017-01-08 20:02:29.164586 +0000 note  Net::Statsd::Server: metrics flush will happen every 1s
2017-01-08 20:02:30.167443 +0000 note  Net::Statsd::Server: flushing metrics
Flushing stats at Sun Jan  8 20:02:30 2017
{"timers":{"a_test_value":["100"]},"gauges":{},"counters":{"statsd.packets_received":1,"statsd.bad_lines_seen":0},"counter_rates":{"statsd.bad_lines_seen":0,"statsd.packets_received":1},"timer_data":{"a_test_value":{"mean":100,"count_90":1,"upper":"100","sum_90":"100","mean_90":"100","std":0,"sum_squares_90":10000,"upper_90":"100","sum":"100","count_ps":1,"median":"100","count":1,"lower":"100","sum_squares":10000}},"sets":null,"pctThreshold":["90"]}
# stats.counters.statsd.packets_received.rate 1.000000 1483905750
# stats.counters.statsd.packets_received.count 1 1483905750
# stats.counters.statsd.bad_lines_seen.rate 0.000000 1483905750
# stats.counters.statsd.bad_lines_seen.count 0 1483905750
# stats.timers.a_test_value.mean 100.000000 1483905750
# stats.timers.a_test_value.count_90 1.000000 1483905750
# stats.timers.a_test_value.upper 100.000000 1483905750
# stats.timers.a_test_value.sum_90 100.000000 1483905750
# stats.timers.a_test_value.mean_90 100.000000 1483905750
# stats.timers.a_test_value.std 0.000000 1483905750
# stats.timers.a_test_value.sum_squares_90 10000.000000 1483905750
# stats.timers.a_test_value.upper_90 100.000000 1483905750
# stats.timers.a_test_value.sum 100.000000 1483905750
# stats.timers.a_test_value.count_ps 1.000000 1483905750
# stats.timers.a_test_value.median 100.000000 1483905750
# stats.timers.a_test_value.count 1.000000 1483905750
# stats.timers.a_test_value.lower 100.000000 1483905750
# stats.timers.a_test_value.sum_squares 10000.000000 1483905750
# stats.statsd.numStats 3 1483905750
# stats.statsd.graphiteStats.calculationtime 0.072000 1483905750
# stats.statsd.processing_time 0.053 1483905750
# stats.statsd.graphiteStats.last_exception 34653248 1483905750
# stats.statsd.graphiteStats.last_flush 34653248 1483905750
t/integration-tests/timers-are-valid.t ..... ok
t/process-metrics.t ........................ ok
t/trim.t ................................... ok
All tests successful.
Files=12, Tests=92, 14 wallclock secs ( 0.04 usr  0.05 sys +  0.79 cusr  0.18 csys =  1.06 CPU)
Result: PASS

------------------------------
PREREQUISITES
------------------------------

Prerequisite modules loaded:

requires:

    Module                Need Have    
    --------------------- ---- --------
    AnyEvent::Handle::UDP 0    0.046   
    IO::Socket::INET      0    1.35    
    JSON::XS              0    3.03    

build_requires:

    Module                Need Have    
    --------------------- ---- --------
    ExtUtils::MakeMaker   0    7.04_02 
    Test::More            0    1.302073

configure_requires:

    Module                Need Have    
    --------------------- ---- --------
    ExtUtils::MakeMaker   0    7.04_02 


------------------------------
ENVIRONMENT AND OTHER CONTEXT
------------------------------

Environment variables:

    LANG = C
    PATH = /usr/local/bin:/usr/bin:/bin:/usr/local/sbin:/usr/sbin:/sbin:/home/cpansand/bin/linux-gnu:/home/cpansand/bin/sh:/home/cpansand/bin:/usr/games:/home/cpansand/devel:/home/eserte/src/srezic-misc/scripts
    PERL5LIB = /home/cpansand/.cpan/build/2017010818/AnyEvent-Handle-UDP-0.046-UbUKFK/blib/arch:/home/cpansand/.cpan/build/2017010818/AnyEvent-Handle-UDP-0.046-UbUKFK/blib/lib:/home/cpansand/.cpan/build/2017010818/AnyEvent-7.13-LRrV1x/blib/arch:/home/cpansand/.cpan/build/2017010818/AnyEvent-7.13-LRrV1x/blib/lib
    PERL5OPT = 
    PERL5_CPANPLUS_IS_RUNNING = 1512
    PERL5_CPAN_IS_RUNNING = 1512
    PERL5_CPAN_IS_RUNNING_IN_RECURSION = 9135,1512
    PERLDOC = -MPod::Perldoc::ToTextOverstrike
    PERL_BATCH = yes
    PERL_CANARY_STABILITY_NOPROMPT = 1
    PERL_CPAN_REPORTER_CONFIG = /run/user/1023/cpansmoker/2017010809/cpanreporter_003_config.ini
    PERL_EXTUTILS_AUTOINSTALL = --defaultdeps
    PERL_USE_UNSAFE_INC = 1
    SHELL = /bin/zsh
    TERM = screen
    TMPDIR = /run/user/1023/cpansmoker/2017010809

Perl special variables (and OS-specific diagnostics, for MSWin32):

    $^X = /bbbike/perl-5.22.3-RC5t/bin/perl
    $UID/$EUID = 1023 / 1023
    $GID = 1023 1023
    $EGID = 1023 1023

Perl module toolchain versions installed:

    Module              Have      
    ------------------- ----------
    CPAN                2.11_01   
    CPAN::Meta          2.150001  
    Cwd                 3.56_02   
    ExtUtils::CBuilder  0.280221  
    ExtUtils::Command   1.20_01   
    ExtUtils::Install   2.04      
    ExtUtils::MakeMaker 7.04_02   
    ExtUtils::Manifest  1.70      
    ExtUtils::ParseXS   3.28      
    File::Spec          3.56_02   
    JSON                2.90      
    JSON::PP            2.27300_01
    Module::Build       0.4220    
    Module::Signature   n/a       
    Parse::CPAN::Meta   1.4414_001
    Test::Harness       3.35_01   
    Test::More          1.302073  
    YAML                1.21      
    YAML::Syck          1.29      
    version             0.9909    


--

Summary of my perl5 (revision 5 version 22 subversion 3) configuration:
   
  Platform:
    osname=linux, osvers=3.16.0-4-amd64, archname=x86_64-linux-thread-multi
    uname='linux eserte 3.16.0-4-amd64 #1 smp debian 3.16.36-1+deb8u2 (2016-10-19) x86_64 gnulinux '
    config_args='-ds -e -Dprefix=/opt/perl-5.22.3-RC5t -Dusethreads -Dcf_email=srezic@cpan.org'
    hint=recommended, useposix=true, d_sigaction=define
    useithreads=define, usemultiplicity=define
    use64bitint=define, use64bitall=define, uselongdouble=undef
    usemymalloc=n, bincompat5005=undef
  Compiler:
    cc='cc', ccflags ='-D_REENTRANT -D_GNU_SOURCE -fwrapv -fno-strict-aliasing -pipe -fstack-protector-strong -I/usr/local/include -D_LARGEFILE_SOURCE -D_FILE_OFFSET_BITS=64 -D_FORTIFY_SOURCE=2',
    optimize='-O2',
    cppflags='-D_REENTRANT -D_GNU_SOURCE -fwrapv -fno-strict-aliasing -pipe -fstack-protector-strong -I/usr/local/include'
    ccversion='', gccversion='4.9.2', gccosandvers=''
    intsize=4, longsize=8, ptrsize=8, doublesize=8, byteorder=12345678, doublekind=3
    d_longlong=define, longlongsize=8, d_longdbl=define, longdblsize=16, longdblkind=3
    ivtype='long', ivsize=8, nvtype='double', nvsize=8, Off_t='off_t', lseeksize=8
    alignbytes=8, prototype=define
  Linker and Libraries:
    ld='cc', ldflags =' -fstack-protector-strong -L/usr/local/lib'
    libpth=/usr/local/lib /usr/lib/gcc/x86_64-linux-gnu/4.9/include-fixed /usr/include/x86_64-linux-gnu /usr/lib /lib/x86_64-linux-gnu /lib/../lib /usr/lib/x86_64-linux-gnu /usr/lib/../lib /lib
    libs=-lpthread -lnsl -lgdbm -ldb -ldl -lm -lcrypt -lutil -lc -lgdbm_compat
    perllibs=-lpthread -lnsl -ldl -lm -lcrypt -lutil -lc
    libc=libc-2.19.so, so=so, useshrplib=false, libperl=libperl.a
    gnulibc_version='2.19'
  Dynamic Linking:
    dlsrc=dl_dlopen.xs, dlext=so, d_dlsymun=undef, ccdlflags='-Wl,-E'
    cccdlflags='-fPIC', lddlflags='-shared -O2 -L/usr/local/lib -fstack-protector-strong'


Characteristics of this binary (from libperl): 
  Compile-time options: HAS_TIMES MULTIPLICITY PERLIO_LAYERS
                        PERL_DONT_CREATE_GVSV
                        PERL_HASH_FUNC_ONE_AT_A_TIME_HARD
                        PERL_IMPLICIT_CONTEXT PERL_MALLOC_WRAP
                        PERL_NEW_COPY_ON_WRITE PERL_PRESERVE_IVUV
                        USE_64_BIT_ALL USE_64_BIT_INT USE_ITHREADS
                        USE_LARGE_FILES USE_LOCALE USE_LOCALE_COLLATE
                        USE_LOCALE_CTYPE USE_LOCALE_NUMERIC USE_LOCALE_TIME
                        USE_PERLIO USE_PERL_ATOF USE_REENTRANT_API
  Locally applied patches:
	RC5
  Built under linux
  Compiled at Jan  7 2017 16:47:45
  %ENV:
    PERL5LIB="/home/cpansand/.cpan/build/2017010818/AnyEvent-Handle-UDP-0.046-UbUKFK/blib/arch:/home/cpansand/.cpan/build/2017010818/AnyEvent-Handle-UDP-0.046-UbUKFK/blib/lib:/home/cpansand/.cpan/build/2017010818/AnyEvent-7.13-LRrV1x/blib/arch:/home/cpansand/.cpan/build/2017010818/AnyEvent-7.13-LRrV1x/blib/lib"
    PERL5OPT=""
    PERL5_CPANPLUS_IS_RUNNING="1512"
    PERL5_CPAN_IS_RUNNING="1512"
    PERL5_CPAN_IS_RUNNING_IN_RECURSION="9135,1512"
    PERLDOC="-MPod::Perldoc::ToTextOverstrike"
    PERL_BATCH="yes"
    PERL_CANARY_STABILITY_NOPROMPT="1"
    PERL_CPAN_REPORTER_CONFIG="/run/user/1023/cpansmoker/2017010809/cpanreporter_003_config.ini"
    PERL_EXTUTILS_AUTOINSTALL="--defaultdeps"
    PERL_USE_UNSAFE_INC="1"
  @INC:
    /home/cpansand/.cpan/build/2017010818/AnyEvent-Handle-UDP-0.046-UbUKFK/blib/arch
    /home/cpansand/.cpan/build/2017010818/AnyEvent-Handle-UDP-0.046-UbUKFK/blib/lib
    /home/cpansand/.cpan/build/2017010818/AnyEvent-7.13-LRrV1x/blib/arch
    /home/cpansand/.cpan/build/2017010818/AnyEvent-7.13-LRrV1x/blib/lib
    /opt/perl-5.22.3-RC5t/lib/site_perl/5.22.3/x86_64-linux-thread-multi
    /opt/perl-5.22.3-RC5t/lib/site_perl/5.22.3
    /opt/perl-5.22.3-RC5t/lib/5.22.3/x86_64-linux-thread-multi
    /opt/perl-5.22.3-RC5t/lib/5.22.3
    .