ODF-lpOD_Helper v6.014 Perl 5 v5.26.0 amd64-freebsd

Status
Pass
From
Slaven Rezić
Dist
ODF-lpOD_Helper v6.014
Platform
Perl 5 v5.26.0 amd64-freebsd
Date
2024-08-26 06:23:30
ID
b6685492-6373-11ef-b161-ee326e8775ea
This distribution has been tested as part of the CPAN Testers
project, supporting the Perl programming language.  See
http://wiki.cpantesters.org/ for more information or email
questions to cpan-testers-discuss@perl.org


--
Dear Jim Avera,

This is a computer-generated report for ODF-lpOD_Helper-6.014
on perl 5.26.0, created by CPAN-Reporter-1.2019.

Thank you for uploading your work to CPAN.  Congratulations!
All tests were successful.

Sections of this report:

    * Tester comments
    * Program output
    * Prerequisites
    * Environment and other context

------------------------------
TESTER COMMENTS
------------------------------

Additional comments from tester:

none provided

------------------------------
PROGRAM OUTPUT
------------------------------

Output from '/usr/bin/make test':

PERL_DL_NONLAZY=1 "/usr/perl5.26.0p/bin/perl5.26.0" "-MExtUtils::Command::MM" "-MTest::Harness" "-e" "undef *Test::Harness::Switches; test_harness(0, 'blib/lib', 'blib/arch')" t/*.t
t/20_next_elt_masked.t .... ok
t/25_Hnormalize.t ......... ok
t/30_styles.t ............. ok
t/40_unicode.t ............ ok
t/41_charstag.t ........... ok
t/42_Hor_cond.t ........... ok
t/45_Hsearch.t ............ ok
t/47_Hsplit_element_at.t .. ok
t/50_Hinsert_element.t .... skipped: These tests are for testing by the author
t/51_insert_content.t ..... ok
t/55_Hreplace.t ........... ok
t/60_encoding.t ........... ok
t/author-pod-coverage.t ... skipped: these tests are for testing by the author
t/author-pod-syntax.t ..... skipped: these tests are for testing by the author
All tests successful.
Files=14, Tests=904, 23 wallclock secs ( 0.10 usr  0.17 sys + 17.24 cusr  3.55 csys = 21.07 CPU)
Result: PASS

------------------------------
PREREQUISITES
------------------------------

Prerequisite modules loaded:

requires:

    Module                    Need  Have    
    ------------------------- ----- --------
    Carp                      0     1.50    
    constant                  0     1.33    
    Data::Dumper::Interp      6.006 7.007   
    Exporter                  0     5.77    
    feature                   0     1.47    
    File::Basename            0     2.85    
    Getopt::Long              0     2.55    
    List::Util                0     1.63    
    ODF::lpOD                 1.201 2.001   
    open                      0     1.11    
    parent                    0     0.241   
    perl                      5.018 5.026000
    Scalar::Util              0     1.63    
    strict                    0     1.11    
    utf8                      0     1.19    
    warnings                  0     1.37    
    warnings::register        0     1.04    

build_requires:

    Module                    Need  Have    
    ------------------------- ----- --------
    Archive::Zip              0     1.67    
    autovivification          0     0.18    
    bytes                     0     1.05    
    Capture::Tiny             0     0.48    
    Carp::Always              0     0.16    
    Cwd                       0     3.75    
    Data::Dumper              0     2.183   
    Data::Dumper::Interp      6.006 7.007   
    Encode                    0     3.21    
    English                   0     1.10    
    Env                       0     1.04    
    ExtUtils::MakeMaker       0     7.70    
    File::Path                0     2.18    
    File::Spec                0     3.75    
    File::Spec::Functions     0     3.75    
    File::Temp                0.23  0.2311  
    FindBin                   0     1.54    
    Guard                     0     1.023   
    Import::Into              0     1.002005
    indirect                  0     0.39    
    JSON                      0     4.10    
    lib                       0     0.64    
    multidimensional          0     0.014   
    Path::Tiny                0     0.146   
    POSIX                     0     1.76    
    Test2::Plugin::BailOnFail 0     0.000162
    Test2::Tools::Compare     0     0.000162
    Test2::V0                 0     0.000162
    Time::HiRes               0     1.9764  

configure_requires:

    Module                    Need  Have    
    ------------------------- ----- --------
    ExtUtils::MakeMaker       0     7.70    


------------------------------
ENVIRONMENT AND OTHER CONTEXT
------------------------------

Environment variables:

    LC_ALL = de_DE.ISO8859-1
    PATH = /usr/local/bin:/usr/bin:/bin:/usr/local/sbin:/usr/sbin:/sbin:/home/cpansand/bin/freebsd10.3:/home/cpansand/bin/sh:/home/cpansand/bin:/usr/games:/home/cpansand/devel:/home/eserte/src/srezic-misc/scripts
    PERL5LIB = 
    PERL5OPT = 
    PERL5_CPANPLUS_IS_RUNNING = 26446
    PERL5_CPAN_IS_RUNNING = 26446
    PERL5_CPAN_IS_RUNNING_IN_RECURSION = 24652,26446
    PERLDOC = -MPod::Perldoc::ToTextOverstrike
    PERL_BATCH = yes
    PERL_CANARY_STABILITY_NOPROMPT = 1
    PERL_CPAN_REPORTER_CONFIG = /var/tmp/cpansmoker-1023/2024082608/cpanreporter_000_config.ini
    PERL_EXTUTILS_AUTOINSTALL = --defaultdeps
    PERL_USE_UNSAFE_INC = 1
    SHELL = /usr/local/bin/zsh
    TERM = screen
    TMPDIR = /var/tmp/cpansmoker-1023/2024082608

Perl special variables (and OS-specific diagnostics, for MSWin32):

    $^X = /usr/perl5.26.0p/bin/perl5.26.0
    $UID/$EUID = 1023 / 1023
    $GID = 1023 1023
    $EGID = 1023 1023

Perl module toolchain versions installed:

    Module              Have    
    ------------------- --------
    CPAN                2.34    
    CPAN::Meta          2.150010
    Cwd                 3.75    
    ExtUtils::CBuilder  0.280236
    ExtUtils::Command   7.70    
    ExtUtils::Install   2.22    
    ExtUtils::MakeMaker 7.70    
    ExtUtils::Manifest  1.75    
    ExtUtils::ParseXS   3.51    
    File::Spec          3.75    
    JSON                4.10    
    JSON::PP            4.16    
    Module::Build       0.4234  
    Module::Signature   0.87    
    Parse::CPAN::Meta   2.150010
    Test2               1.302198
    Test::Harness       3.47    
    Test::More          1.302198
    YAML                1.30    
    YAML::Syck          1.34    
    version             0.9930  


--

Summary of my perl5 (revision 5 version 26 subversion 0) configuration:
   
  Platform:
    osname=freebsd
    osvers=10.3-release-p11
    archname=amd64-freebsd
    uname='freebsd cvrsnica-freebsd-101.herceg.de 10.3-release-p11 freebsd 10.3-release-p11 #0: mon oct 24 18:49:24 utc 2016 root@amd64-builder.daemonology.net:usrobjusrsrcsysgeneric amd64 '
    config_args='-ds -e -Dprefix=/usr/perl5.26.0p -Dcf_email=srezic@cpan.org -Doptimize=-O2 -pipe'
    hint=recommended
    useposix=true
    d_sigaction=define
    useithreads=undef
    usemultiplicity=undef
    use64bitint=define
    use64bitall=define
    uselongdouble=undef
    usemymalloc=n
    default_inc_excludes_dot=define
    bincompat5005=undef
  Compiler:
    cc='cc'
    ccflags ='-DHAS_FPSETMASK -DHAS_FLOATINGPOINT_H -fno-strict-aliasing -pipe -fstack-protector -I/usr/local/include -D_FORTIFY_SOURCE=2'
    optimize='-O2 -pipe'
    cppflags='-DHAS_FPSETMASK -DHAS_FLOATINGPOINT_H -fno-strict-aliasing -pipe -fstack-protector -I/usr/local/include'
    ccversion=''
    gccversion='4.2.1 Compatible FreeBSD Clang 3.4.1 (tags/RELEASE_34/dot1-final 208032)'
    gccosandvers=''
    intsize=4
    longsize=8
    ptrsize=8
    doublesize=8
    byteorder=12345678
    doublekind=3
    d_longlong=define
    longlongsize=8
    d_longdbl=define
    longdblsize=16
    longdblkind=3
    ivtype='long'
    ivsize=8
    nvtype='double'
    nvsize=8
    Off_t='off_t'
    lseeksize=8
    alignbytes=8
    prototype=define
  Linker and Libraries:
    ld='cc'
    ldflags ='-pthread -Wl,-E  -fstack-protector -L/usr/local/lib'
    libpth=/usr/lib /usr/local/lib /usr/include/clang/3.4.1 /usr/lib
    libs=-lpthread -lgdbm -lm -lcrypt -lutil -lc -lelf
    perllibs=-lpthread -lm -lcrypt -lutil -lc -lelf
    libc=
    so=so
    useshrplib=false
    libperl=libperl.a
    gnulibc_version=''
  Dynamic Linking:
    dlsrc=dl_dlopen.xs
    dlext=so
    d_dlsymun=undef
    ccdlflags=' '
    cccdlflags='-DPIC -fPIC'
    lddlflags='-shared  -L/usr/local/lib -fstack-protector'


Characteristics of this binary (from libperl): 
  Compile-time options:
    HAS_TIMES
    PERLIO_LAYERS
    PERL_COPY_ON_WRITE
    PERL_DONT_CREATE_GVSV
    PERL_MALLOC_WRAP
    PERL_OP_PARENT
    PERL_PRESERVE_IVUV
    USE_64_BIT_ALL
    USE_64_BIT_INT
    USE_LARGE_FILES
    USE_LOCALE
    USE_LOCALE_COLLATE
    USE_LOCALE_CTYPE
    USE_LOCALE_NUMERIC
    USE_LOCALE_TIME
    USE_PERLIO
    USE_PERL_ATOF
  Built under freebsd
  Compiled at Jun  3 2017 22:58:33
  %ENV:
    PERL5LIB=""
    PERL5OPT=""
    PERL5_CPANPLUS_IS_RUNNING="26446"
    PERL5_CPAN_IS_RUNNING="26446"
    PERL5_CPAN_IS_RUNNING_IN_RECURSION="24652,26446"
    PERLDOC="-MPod::Perldoc::ToTextOverstrike"
    PERL_BATCH="yes"
    PERL_CANARY_STABILITY_NOPROMPT="1"
    PERL_CPAN_REPORTER_CONFIG="/var/tmp/cpansmoker-1023/2024082608/cpanreporter_000_config.ini"
    PERL_EXTUTILS_AUTOINSTALL="--defaultdeps"
    PERL_USE_UNSAFE_INC="1"
  @INC:
    /usr/perl5.26.0p/lib/site_perl/5.26.0/amd64-freebsd
    /usr/perl5.26.0p/lib/site_perl/5.26.0
    /usr/perl5.26.0p/lib/5.26.0/amd64-freebsd
    /usr/perl5.26.0p/lib/5.26.0
    .