Report for Data-Session-1.16

Back
From: metabase:user:0d96120c-29e2-11e5-b049-ede3035d37de
Subject: PASS Data-Session-1.16 v5.23.0 GNU/Linux
Date: 2015-07-17T05:00:15Z

This distribution has been tested as part of the CPAN Testers
project, supporting the Perl programming language.  See
http://wiki.cpantesters.org/ for more information or email
questions to cpan-testers-discuss@perl.org


--
Dear Ron Savage,

This is a computer-generated report for Data-Session-1.16
on perl 5.23.0, created by CPAN-Reporter-1.2014.

Thank you for uploading your work to CPAN.  Congratulations!
All tests were successful.

Sections of this report:

    * Tester comments
    * Program output
    * Prerequisites
    * Environment and other context

------------------------------
TESTER COMMENTS
------------------------------

Additional comments from tester:

this report is from an automated smoke testing program
and was not reviewed by a human for accuracy

------------------------------
PROGRAM OUTPUT
------------------------------

Output from './Build test':

# Test: File.1. DSN: dbi:File:. ID generator: AutoIncrement. Serializer: DataDumper
# id 1: 1002
# Test: File.1. DSN: dbi:File:. ID generator: AutoIncrement. Serializer: FreezeThaw
# id 1: 1008
# Test: File.1. DSN: dbi:File:. ID generator: AutoIncrement. Serializer: JSON
# id 1: 1014
# Test: File.1. DSN: dbi:File:. ID generator: AutoIncrement. Serializer: Storable
# id 1: 1020
# Test: File.1. DSN: dbi:File:. ID generator: AutoIncrement. Serializer: YAML
# id 1: 1026
# Test: File.1. DSN: dbi:File:. ID generator: MD5. Serializer: DataDumper
# id 1: 452d332a6d12c98f6f9b96a92f412f75
# Test: File.1. DSN: dbi:File:. ID generator: MD5. Serializer: FreezeThaw
# id 1: 862877408082590129eca59aaeb1d929
# Test: File.1. DSN: dbi:File:. ID generator: MD5. Serializer: JSON
# id 1: d9ff2c9bb135059f3bbd07a978b78ea5
# Test: File.1. DSN: dbi:File:. ID generator: MD5. Serializer: Storable
# id 1: f7ce21d44acad67db8ae14c67244cbca
# Test: File.1. DSN: dbi:File:. ID generator: MD5. Serializer: YAML
# id 1: 940dc813e3a8299688730b8df854cf5d
# Test: File.1. DSN: dbi:File:. ID generator: SHA1. Serializer: DataDumper
# id 1: ce42dfb6c0c78906956e78e514824cea8cb709f5
# Test: File.1. DSN: dbi:File:. ID generator: SHA1. Serializer: FreezeThaw
# id 1: 879d1824ba5313fcd8f0b5fad84224dc6c49077d
# Test: File.1. DSN: dbi:File:. ID generator: SHA1. Serializer: JSON
# id 1: ed2bee010e47be49ecac83523e6878d87479b6c8
# Test: File.1. DSN: dbi:File:. ID generator: SHA1. Serializer: Storable
# id 1: 0913a588335e4e1aa6b26060278e99021f55d719
# Test: File.1. DSN: dbi:File:. ID generator: SHA1. Serializer: YAML
# id 1: c4a116d57d57039a08a13cb4049ae37b69448037
# Test: File.1. DSN: dbi:File:. ID generator: SHA256. Serializer: DataDumper
# id 1: 8d72d41f626a94c4852f5b3b4ec6836b212597ce26d709441df3839d108f8882
# Test: File.1. DSN: dbi:File:. ID generator: SHA256. Serializer: FreezeThaw
# id 1: 8e156d529fbd209ea0ca2154ab716540a9777a4afe16f232893d224e193c8ebd
# Test: File.1. DSN: dbi:File:. ID generator: SHA256. Serializer: JSON
# id 1: 328c9df7c20f0da31b73d421f059d7cf828f4bc50b7e556b36d035369a0c8cfa
# Test: File.1. DSN: dbi:File:. ID generator: SHA256. Serializer: Storable
# id 1: f294ce267cc7a2fd9f335d7cb2702779e683ad9ab811147f346794736b76ba09
# Test: File.1. DSN: dbi:File:. ID generator: SHA256. Serializer: YAML
# id 1: 86c53254ec550dd4ea9c0cec962a20970b8a64556ea63e26b3155fd5caa19b54
# Test: File.1. DSN: dbi:File:. ID generator: SHA512. Serializer: DataDumper
# id 1: 2b1a7aa69a0ebeafc50b18f1225563ea44a4d5cc2f484a2c06bf534b8104e09bf2eabeb94eb6e8ad94ff8bce0d9c02a002fd29100a0ac6c9026bc1ddf67ecb06
# Test: File.1. DSN: dbi:File:. ID generator: SHA512. Serializer: FreezeThaw
# id 1: 8f053667695c098136236b8e1973d0eb175b4b57ff4d3f299adcf62f45a342824ff0ec44a6affcfceb0c18b45df925aebb4f11b78174d1e936727bc8d4ae952d
# Test: File.1. DSN: dbi:File:. ID generator: SHA512. Serializer: JSON
# id 1: ec1d41e278271c637d6a5edc482a432a6942935c07505c04554988c94c06627439b8718b68e8610dd27af4d455122cc8fc987b13efabd51d3bf32f39c80372ff
# Test: File.1. DSN: dbi:File:. ID generator: SHA512. Serializer: Storable
# id 1: 3ecaa3ecc408f182b1a7f561f235910d3f90e749bb67b8cee49227e8b0bf020d4f950db8c36d7f4f496552870f4b6d8e04d60cec07d0e0a89fc6f7d66ed31359
# Test: File.1. DSN: dbi:File:. ID generator: SHA512. Serializer: YAML
# id 1: fbf4be45288f5633cc46e8fa3d688519787b976977981df897add82bf01b9aded5d30066891830b9363deebd7c1385e76e6385f882b797076ed683a5428dc5ee
# Test: File.1. DSN: dbi:File:. ID generator: Static. Serializer: DataDumper
# id 1: 1234
# Test: File.1. DSN: dbi:File:. ID generator: Static. Serializer: FreezeThaw
# id 1: 1234
# Test: File.1. DSN: dbi:File:. ID generator: Static. Serializer: JSON
# id 1: 1234
# Test: File.1. DSN: dbi:File:. ID generator: Static. Serializer: Storable
# id 1: 1234
# Test: File.1. DSN: dbi:File:. ID generator: Static. Serializer: YAML
# id 1: 1234
# Test: File.1. DSN: dbi:File:. ID generator: UUID34. Serializer: DataDumper
# id 1: 0xB2362B2A2C4011E585C23C2C372B1A8F
# Test: File.1. DSN: dbi:File:. ID generator: UUID34. Serializer: FreezeThaw
# id 1: 0xB23785102C4011E585C23C2C372B1A8F
# Test: File.1. DSN: dbi:File:. ID generator: UUID34. Serializer: JSON
# id 1: 0xB2388AF02C4011E585C23C2C372B1A8F
# Test: File.1. DSN: dbi:File:. ID generator: UUID34. Serializer: Storable
# id 1: 0xB239864E2C4011E585C23C2C372B1A8F
# Test: File.1. DSN: dbi:File:. ID generator: UUID34. Serializer: YAML
# id 1: 0xB23A7E282C4011E585C23C2C372B1A8F
# Test: File.1. DSN: dbi:File:. ID generator: UUID36. Serializer: DataDumper
# id 1: B23BA74E-2C40-11E5-85C2-3C2C372B1A8F
# Test: File.1. DSN: dbi:File:. ID generator: UUID36. Serializer: FreezeThaw
# id 1: B23D04E0-2C40-11E5-85C2-3C2C372B1A8F
# Test: File.1. DSN: dbi:File:. ID generator: UUID36. Serializer: JSON
# id 1: B23E0B10-2C40-11E5-85C2-3C2C372B1A8F
# Test: File.1. DSN: dbi:File:. ID generator: UUID36. Serializer: Storable
# id 1: B23F01C8-2C40-11E5-85C2-3C2C372B1A8F
# Test: File.1. DSN: dbi:File:. ID generator: UUID36. Serializer: YAML
# id 1: B23FB67C-2C40-11E5-85C2-3C2C372B1A8F
# Skipping dsn 'dbi:SQLite:dbname=/tmp/sessions.sqlite' because the SQLite directory does not exist
# 
# Testing HTTP header generation
# 
# Testing expire the session. Sleeping for 1 second ...
# Expiring id: B2409CF4-2C40-11E5-85C2-3C2C372B1A8F
# 
# Testing expire a session parameter. Sleeping for 1 second ...
t/basic.t ..... ok
t/pod.t ....... ok
# DSN name: File.1. DSN: dbi:File:. ID generator: MD5. Serializer: DataDumper
# id1: dee98f560d6384f6c33d77c2c20eebaa
# 1: Recovered known id 60040af7a1f191e3f459047ccab5527a from traverse
# 2: Recovered known id 5422ead28f6fd36d70312ae6f7fd6c8f from traverse
# 3: Recovered known id 2647f073fb0c18268875d6617a346e3d from traverse
# 4: Recovered known id b0e9615754c03384281fa23b61b2e1f6 from traverse
# Skipping dsn 'dbi:SQLite:dbname=/tmp/sessions.sqlite' because the SQLite directory does not exist
t/traverse.t .. ok
All tests successful.
Files=3, Tests=80,  6 wallclock secs ( 0.06 usr  0.01 sys +  0.53 cusr  0.06 csys =  0.66 CPU)
Result: PASS

------------------------------
PREREQUISITES
------------------------------

Prerequisite modules loaded:

requires:

    Module                   Need    Have    
    ------------------------ ------- --------
    autovivification         0       0.16    
    CGI                      3.63    4.21    
    Class::Load              0.19    0.23    
    Config::Tiny             2.14    2.22    
    Data::Dumper             2.145   2.158   
    Data::UUID               1.218   1.220   
    DBD::SQLite              1.39    1.48    
    DBI                      1.627   1.633   
    DBIx::Admin::CreateTable 2.07    2.10    
    Digest::MD5              2.52    2.54    
    Digest::SHA              5.84    5.95    
    Fcntl                    1.06    1.13    
    File::Basename           2.77    2.85    
    File::Path               2.07    2.09    
    File::Slurp              9999.19 9999.19 
    File::Spec               3.3     3.56    
    File::Temp               0.22    0.2304  
    FreezeThaw               0.5001  0.5001  
    Hash::FieldHash          0.14    0.14    
    JSON                     2.59    2.90    
    overload                 0       1.26    
    parent                   0       0.234   
    Safe                     2.35    2.39    
    Scalar::Util             1.27    1.42_01 
    Storable                 2.39    2.53    
    strict                   0       1.09    
    Try::Tiny                0.12    0.22    
    vars                     0       1.03    
    warnings                 0       1.32    
    YAML::Tiny               1.51    1.67    

build_requires:

    Module                   Need    Have    
    ------------------------ ------- --------
    Config::Tiny             2.14    2.22    
    DBIx::Admin::CreateTable 2.07    2.10    
    Test::More               0.92    1.001014

configure_requires:

    Module                   Need    Have    
    ------------------------ ------- --------
    Module::Build            0.38    0.4214  


------------------------------
ENVIRONMENT AND OTHER CONTEXT
------------------------------

Environment variables:

    AUTOMATED_TESTING = 1
    LANG = en_US.UTF-8
    NONINTERACTIVE_TESTING = 1
    PATH = /home/perltest/perl5/perlbrew/bin:/home/perltest/perl5/perlbrew/perls/perl-5.23.0/bin:/usr/local/sbin:/usr/local/bin:/usr/sbin:/usr/bin:/sbin:/bin:/usr/games:/usr/local/games
    PERL5LIB = /home/perltest/.cpan/build/FreezeThaw-0.5001-F_csIj/blib/arch:/home/perltest/.cpan/build/FreezeThaw-0.5001-F_csIj/blib/lib:/home/perltest/.cpan/build/DBIx-Admin-CreateTable-2.10-7QNlFp/blib/arch:/home/perltest/.cpan/build/DBIx-Admin-CreateTable-2.10-7QNlFp/blib/lib:/home/perltest/.cpan/build/Test-Version-2.03-3dAszH/blib/arch:/home/perltest/.cpan/build/Test-Version-2.03-3dAszH/blib/lib:/home/perltest/.cpan/build/autovivification-0.16-XCxr5Z/blib/arch:/home/perltest/.cpan/build/autovivification-0.16-XCxr5Z/blib/lib:/home/perltest/.cpan/build/List-Compare-0.53-Kkbe_X/blib/arch:/home/perltest/.cpan/build/List-Compare-0.53-Kkbe_X/blib/lib:/home/perltest/.cpan/build/Path-Iterator-Rule-1.008-MqXV5t/blib/arch:/home/perltest/.cpan/build/Path-Iterator-Rule-1.008-MqXV5t/blib/lib:/home/perltest/.cpan/build/Test-Filename-0.03-oECFRf/blib/arch:/home/perltest/.cpan/build/Test-Filename-0.03-oECFRf/blib/lib:/home/perltest/.cpan/build/CGI-Snapp-1.08-0YW_WC/blib/arch:/home/perltest/.cpan/build/CGI-Snapp-1.08-0YW_WC/blib/lib:/home/perltest/.cpan/build/Email-Date-1.104-CeZ7vg/blib/arch:/home/perltest/.cpan/build/Email-Date-1.104-CeZ7vg/blib/lib:/home/perltest/.cpan/build/Log-Handler-0.87-q4o2Hx/blib/arch:/home/perltest/.cpan/build/Log-Handler-0.87-q4o2Hx/blib/lib:/home/perltest/.cpan/build/CGI-PSGI-0.15-QXEgNl/blib/arch:/home/perltest/.cpan/build/CGI-PSGI-0.15-QXEgNl/blib/lib:/home/perltest/.cpan/build/Class-ISA-0.36-0Fc2JB/blib/arch:/home/perltest/.cpan/build/Class-ISA-0.36-0Fc2JB/blib/lib:/home/perltest/.cpan/build/Perl6-Slurp-0.051005-3caNOY/blib/arch:/home/perltest/.cpan/build/Perl6-Slurp-0.051005-3caNOY/blib/lib:/home/perltest/.cpan/build/DBIx-Simple-1.35-Kin_kc/blib/arch:/home/perltest/.cpan/build/DBIx-Simple-1.35-Kin_kc/blib/lib
    PERL5OPT = 
    PERL5_CPANPLUS_IS_RUNNING = 2851
    PERL5_CPAN_IS_RUNNING = 2851
    PERL5_CPAN_IS_RUNNING_IN_RECURSION = 13421,2851
    PERLBREW_BASHRC_VERSION = 0.73
    PERLBREW_HOME = /home/perltest/.perlbrew
    PERLBREW_MANPATH = /home/perltest/perl5/perlbrew/perls/perl-5.23.0/man
    PERLBREW_PATH = /home/perltest/perl5/perlbrew/bin:/home/perltest/perl5/perlbrew/perls/perl-5.23.0/bin
    PERLBREW_PERL = perl-5.23.0
    PERLBREW_ROOT = /home/perltest/perl5/perlbrew
    PERLBREW_VERSION = 0.73
    PERL_CR_SMOKER_CURRENT = App-Office-Contacts-2.04
    PERL_EXTUTILS_AUTOINSTALL = --defaultdeps
    PERL_MM_USE_DEFAULT = 1
    SHELL = /bin/bash
    TERM = screen

Perl special variables (and OS-specific diagnostics, for MSWin32):

    $^X = /data/perl5/perlbrew/perls/perl-5.23.0/bin/perl5.23.0
    $UID/$EUID = 2000 / 2000
    $GID = 2000 2000
    $EGID = 2000 2000

Perl module toolchain versions installed:

    Module              Have    
    ------------------- --------
    CPAN                2.11    
    CPAN::Meta          2.150005
    Cwd                 3.56    
    ExtUtils::CBuilder  0.280223
    ExtUtils::Command   1.20    
    ExtUtils::Install   2.04    
    ExtUtils::MakeMaker 7.04_01 
    ExtUtils::Manifest  1.70    
    ExtUtils::ParseXS   3.28    
    File::Spec          3.56    
    JSON                2.90    
    JSON::PP            2.27300 
    Module::Build       0.4214  
    Module::Signature   0.79    
    Parse::CPAN::Meta   1.4417  
    Test::Harness       3.35    
    Test::More          1.001014
    YAML                1.15    
    YAML::Syck          1.29    
    version             0.9909  


--

Summary of my perl5 (revision 5 version 23 subversion 0) configuration:
   
  Platform:
    osname=linux, osvers=3.19.0-18-generic, archname=x86_64-linux
    uname='linux perltest 3.19.0-18-generic #18-ubuntu smp tue may 19 18:31:35 utc 2015 x86_64 x86_64 x86_64 gnulinux '
    config_args='-de -Dprefix=/home/perltest/perl5/perlbrew/perls/perl-5.23.0 -Dusedevel -Aeval:scriptdir=/home/perltest/perl5/perlbrew/perls/perl-5.23.0/bin'
    hint=recommended, useposix=true, d_sigaction=define
    useithreads=undef, usemultiplicity=undef
    use64bitint=define, use64bitall=define, uselongdouble=undef
    usemymalloc=n, bincompat5005=undef
  Compiler:
    cc='cc', ccflags ='-fwrapv -fno-strict-aliasing -pipe -fstack-protector-strong -I/usr/local/include -D_LARGEFILE_SOURCE -D_FILE_OFFSET_BITS=64',
    optimize='-O2',
    cppflags='-fwrapv -fno-strict-aliasing -pipe -fstack-protector-strong -I/usr/local/include'
    ccversion='', gccversion='4.9.2', gccosandvers=''
    intsize=4, longsize=8, ptrsize=8, doublesize=8, byteorder=12345678, doublekind=3
    d_longlong=define, longlongsize=8, d_longdbl=define, longdblsize=16, longdblkind=3
    ivtype='long', ivsize=8, nvtype='double', nvsize=8, Off_t='off_t', lseeksize=8
    alignbytes=8, prototype=define
  Linker and Libraries:
    ld='cc', ldflags =' -fstack-protector-strong -L/usr/local/lib'
    libpth=/usr/local/lib /usr/lib/gcc/x86_64-linux-gnu/4.9/include-fixed /usr/include/x86_64-linux-gnu /usr/lib /lib/x86_64-linux-gnu /lib/../lib /usr/lib/x86_64-linux-gnu /usr/lib/../lib /lib
    libs=-lpthread -lnsl -ldl -lm -lcrypt -lutil -lc
    perllibs=-lpthread -lnsl -ldl -lm -lcrypt -lutil -lc
    libc=libc-2.21.so, so=so, useshrplib=false, libperl=libperl.a
    gnulibc_version='2.21'
  Dynamic Linking:
    dlsrc=dl_dlopen.xs, dlext=so, d_dlsymun=undef, ccdlflags='-Wl,-E'
    cccdlflags='-fPIC', lddlflags='-shared -O2 -L/usr/local/lib -fstack-protector-strong'


Characteristics of this binary (from libperl): 
  Compile-time options: HAS_TIMES PERLIO_LAYERS PERL_DONT_CREATE_GVSV
                        PERL_HASH_FUNC_ONE_AT_A_TIME_HARD PERL_MALLOC_WRAP
                        PERL_NEW_COPY_ON_WRITE PERL_PRESERVE_IVUV
                        PERL_USE_DEVEL USE_64_BIT_ALL USE_64_BIT_INT
                        USE_LARGE_FILES USE_LOCALE USE_LOCALE_COLLATE
                        USE_LOCALE_CTYPE USE_LOCALE_NUMERIC USE_LOCALE_TIME
                        USE_PERLIO USE_PERL_ATOF
  Locally applied patches:
	Devel::PatchPerl 1.38
  Built under linux
  Compiled at Jul 14 2015 18:20:06
  %ENV:
    PERL5LIB="/home/perltest/.cpan/build/FreezeThaw-0.5001-F_csIj/blib/arch:/home/perltest/.cpan/build/FreezeThaw-0.5001-F_csIj/blib/lib:/home/perltest/.cpan/build/DBIx-Admin-CreateTable-2.10-7QNlFp/blib/arch:/home/perltest/.cpan/build/DBIx-Admin-CreateTable-2.10-7QNlFp/blib/lib:/home/perltest/.cpan/build/Test-Version-2.03-3dAszH/blib/arch:/home/perltest/.cpan/build/Test-Version-2.03-3dAszH/blib/lib:/home/perltest/.cpan/build/autovivification-0.16-XCxr5Z/blib/arch:/home/perltest/.cpan/build/autovivification-0.16-XCxr5Z/blib/lib:/home/perltest/.cpan/build/List-Compare-0.53-Kkbe_X/blib/arch:/home/perltest/.cpan/build/List-Compare-0.53-Kkbe_X/blib/lib:/home/perltest/.cpan/build/Path-Iterator-Rule-1.008-MqXV5t/blib/arch:/home/perltest/.cpan/build/Path-Iterator-Rule-1.008-MqXV5t/blib/lib:/home/perltest/.cpan/build/Test-Filename-0.03-oECFRf/blib/arch:/home/perltest/.cpan/build/Test-Filename-0.03-oECFRf/blib/lib:/home/perltest/.cpan/build/CGI-Snapp-1.08-0YW_WC/blib/arch:/home/perltest/.cpan/build/CGI-Snapp-1.08-0YW_WC/blib/lib:/home/perltest/.cpan/build/Email-Date-1.104-CeZ7vg/blib/arch:/home/perltest/.cpan/build/Email-Date-1.104-CeZ7vg/blib/lib:/home/perltest/.cpan/build/Log-Handler-0.87-q4o2Hx/blib/arch:/home/perltest/.cpan/build/Log-Handler-0.87-q4o2Hx/blib/lib:/home/perltest/.cpan/build/CGI-PSGI-0.15-QXEgNl/blib/arch:/home/perltest/.cpan/build/CGI-PSGI-0.15-QXEgNl/blib/lib:/home/perltest/.cpan/build/Class-ISA-0.36-0Fc2JB/blib/arch:/home/perltest/.cpan/build/Class-ISA-0.36-0Fc2JB/blib/lib:/home/perltest/.cpan/build/Perl6-Slurp-0.051005-3caNOY/blib/arch:/home/perltest/.cpan/build/Perl6-Slurp-0.051005-3caNOY/blib/lib:/home/perltest/.cpan/build/DBIx-Simple-1.35-Kin_kc/blib/arch:/home/perltest/.cpan/build/DBIx-Simple-1.35-Kin_kc/blib/lib"
    PERL5OPT=""
    PERL5_CPANPLUS_IS_RUNNING="2851"
    PERL5_CPAN_IS_RUNNING="2851"
    PERL5_CPAN_IS_RUNNING_IN_RECURSION="13421,2851"
    PERLBREW_BASHRC_VERSION="0.73"
    PERLBREW_HOME="/home/perltest/.perlbrew"
    PERLBREW_MANPATH="/home/perltest/perl5/perlbrew/perls/perl-5.23.0/man"
    PERLBREW_PATH="/home/perltest/perl5/perlbrew/bin:/home/perltest/perl5/perlbrew/perls/perl-5.23.0/bin"
    PERLBREW_PERL="perl-5.23.0"
    PERLBREW_ROOT="/home/perltest/perl5/perlbrew"
    PERLBREW_VERSION="0.73"
    PERL_CR_SMOKER_CURRENT="App-Office-Contacts-2.04"
    PERL_EXTUTILS_AUTOINSTALL="--defaultdeps"
    PERL_MM_USE_DEFAULT="1"
  @INC:
    /home/perltest/.cpan/build/FreezeThaw-0.5001-F_csIj/blib/arch
    /home/perltest/.cpan/build/FreezeThaw-0.5001-F_csIj/blib/lib
    /home/perltest/.cpan/build/DBIx-Admin-CreateTable-2.10-7QNlFp/blib/arch
    /home/perltest/.cpan/build/DBIx-Admin-CreateTable-2.10-7QNlFp/blib/lib
    /home/perltest/.cpan/build/Test-Version-2.03-3dAszH/blib/arch
    /home/perltest/.cpan/build/Test-Version-2.03-3dAszH/blib/lib
    /home/perltest/.cpan/build/autovivification-0.16-XCxr5Z/blib/arch
    /home/perltest/.cpan/build/autovivification-0.16-XCxr5Z/blib/lib
    /home/perltest/.cpan/build/List-Compare-0.53-Kkbe_X/blib/arch
    /home/perltest/.cpan/build/List-Compare-0.53-Kkbe_X/blib/lib
    /home/perltest/.cpan/build/Path-Iterator-Rule-1.008-MqXV5t/blib/arch
    /home/perltest/.cpan/build/Path-Iterator-Rule-1.008-MqXV5t/blib/lib
    /home/perltest/.cpan/build/Test-Filename-0.03-oECFRf/blib/arch
    /home/perltest/.cpan/build/Test-Filename-0.03-oECFRf/blib/lib
    /home/perltest/.cpan/build/CGI-Snapp-1.08-0YW_WC/blib/arch
    /home/perltest/.cpan/build/CGI-Snapp-1.08-0YW_WC/blib/lib
    /home/perltest/.cpan/build/Email-Date-1.104-CeZ7vg/blib/arch
    /home/perltest/.cpan/build/Email-Date-1.104-CeZ7vg/blib/lib
    /home/perltest/.cpan/build/Log-Handler-0.87-q4o2Hx/blib/arch
    /home/perltest/.cpan/build/Log-Handler-0.87-q4o2Hx/blib/lib
    /home/perltest/.cpan/build/CGI-PSGI-0.15-QXEgNl/blib/arch
    /home/perltest/.cpan/build/CGI-PSGI-0.15-QXEgNl/blib/lib
    /home/perltest/.cpan/build/Class-ISA-0.36-0Fc2JB/blib/arch
    /home/perltest/.cpan/build/Class-ISA-0.36-0Fc2JB/blib/lib
    /home/perltest/.cpan/build/Perl6-Slurp-0.051005-3caNOY/blib/arch
    /home/perltest/.cpan/build/Perl6-Slurp-0.051005-3caNOY/blib/lib
    /home/perltest/.cpan/build/DBIx-Simple-1.35-Kin_kc/blib/arch
    /home/perltest/.cpan/build/DBIx-Simple-1.35-Kin_kc/blib/lib
    /home/perltest/perl5/perlbrew/perls/perl-5.23.0/lib/site_perl/5.23.0/x86_64-linux
    /home/perltest/perl5/perlbrew/perls/perl-5.23.0/lib/site_perl/5.23.0
    /home/perltest/perl5/perlbrew/perls/perl-5.23.0/lib/5.23.0/x86_64-linux
    /home/perltest/perl5/perlbrew/perls/perl-5.23.0/lib/5.23.0
    .