DateTime-Format-XMLTV v1.001 Perl 5 v5.41.8 amd64-netbsd-thread-multi
- Status
- Pass
- From
- Carlos Guevara
- Dist
-
DateTime-Format-XMLTV v1.001
- Platform
- Perl 5 v5.41.8 amd64-netbsd-thread-multi
- Date
- 2024-12-23 18:35:41
- ID
- b67e75e6-c15c-11ef-a8a2-adf3a7b0f2ac
This distribution has been tested as part of the CPAN Testers
project, supporting the Perl programming language. See
http://wiki.cpantesters.org/ for more information or email
questions to cpan-testers-discuss@perl.org
--
Dear Christopher J. Madsen,
This is a computer-generated report for DateTime-Format-XMLTV-1.001
on perl 5.41.8, created by CPAN-Reporter-1.2020.
Thank you for uploading your work to CPAN. Congratulations!
All tests were successful.
Sections of this report:
* Tester comments
* Program output
* Prerequisites
* Environment and other context
------------------------------
TESTER COMMENTS
------------------------------
Additional comments from tester:
this report is from an automated smoke testing program
and was not reviewed by a human for accuracy
------------------------------
PROGRAM OUTPUT
------------------------------
Output from '/usr/bin/make test':
PERL_DL_NONLAZY=1 "/home/cpan/bin/perl/bin/perl5.41.8" "-MExtUtils::Command::MM" "-MTest::Harness" "-e" "undef *Test::Harness::Switches; test_harness(0, 'blib/lib', 'blib/arch')" t/*.t
# Listing %INC
# B 1.89
# B::Hooks::EndOfScope 0.28
# B::Hooks::EndOfScope::XS 0.28
# Carp 1.54
# Class::Data::Inheritable 0.10
# Class::Inspector 1.36
# Class::Singleton 1.6
# Class::XSAccessor 1.19
# Class::XSAccessor::Heavy 1.19
# Cwd 3.92
# DateTime 1.65
# DateTime::Duration 1.65
# DateTime::Format::Builder 0.83
# DateTime::Format::Builder::Parser 0.83
# DateTime::Format::Builder::Parser::Dispatch 0.83
# DateTime::Format::Builder::Parser::Quick 0.83
# DateTime::Format::Builder::Parser::Regex 0.83
# DateTime::Format::Builder::Parser::Strptime 0.83
# DateTime::Format::Builder::Parser::generic 0.83
# DateTime::Format::Strptime 1.79
# DateTime::Format::Strptime::Types 1.79
# DateTime::Helpers 1.65
# DateTime::Infinite 1.65
# DateTime::Locale 1.44
# DateTime::Locale::Base 1.44
# DateTime::Locale::Data 1.44
# DateTime::Locale::FromData 1.44
# DateTime::Locale::Util 1.44
# DateTime::TimeZone 2.63
# DateTime::TimeZone::Catalog 2.63
# DateTime::TimeZone::Floating 2.63
# DateTime::TimeZone::Local 2.63
# DateTime::TimeZone::OffsetOnly 2.63
# DateTime::TimeZone::OlsonDB::Change 2.63
# DateTime::TimeZone::UTC 2.63
# DateTime::Types 1.65
# Devel::StackTrace 2.05
# Devel::StackTrace::Frame 2.05
# Eval::Closure 0.14
# Exception::Class 1.45
# Exception::Class::Base 1.45
# Exporter 5.78
# Exporter::Heavy 5.78
# Exporter::Tiny 1.006002
# Fcntl 1.19
# File::ShareDir 1.118
# File::Spec 3.93
# File::Spec::Unix 3.93
# Lexical::SealRequireHints 0.012
# Lexical::Sub 0.010
# Lexical::Var 0.010
# List::MoreUtils 0.430
# List::MoreUtils::PP 0.430
# List::MoreUtils::XS 0.430
# List::Util 1.6801
# MRO::Compat 0.15
# Module::Implementation 0.09
# Module::Runtime 0.016
# POSIX 2.23
# Package::Stash 0.40
# Package::Stash::XS 0.30
# Params::Util 1.102
# Params::Util::PP 1.102
# Params::Validate 1.31
# Params::Validate::Constants 1.31
# Params::Validate::XS 1.31
# Params::ValidationCompiler 0.31
# Params::ValidationCompiler::Compiler 0.31
# Params::ValidationCompiler::Exception::BadArguments 1.1
# Params::ValidationCompiler::Exception::Named::Extra 1.1
# Params::ValidationCompiler::Exception::Named::Required 1.1
# Params::ValidationCompiler::Exception::Positional::Extra 1.1
# Params::ValidationCompiler::Exception::Positional::Required 1.1
# Params::ValidationCompiler::Exception::ValidationFailedForMooseTypeConstraint 1.1
# Params::ValidationCompiler::Exceptions 0.31
# Ref::Util 0.204
# Ref::Util::XS 0.117
# Role::Tiny 2.002004
# Role::Tiny::With 2.002004
# Scalar::Util 1.6801
# Specio 0.48
# Specio::Coercion 0.48
# Specio::Constraint::AnyCan 0.48
# Specio::Constraint::Enum 0.48
# Specio::Constraint::ObjectCan 0.48
# Specio::Constraint::ObjectIsa 0.48
# Specio::Constraint::Parameterizable 0.48
# Specio::Constraint::Parameterized 0.48
# Specio::Constraint::Role::CanType 0.48
# Specio::Constraint::Role::Interface 0.48
# Specio::Constraint::Role::IsaType 0.48
# Specio::Constraint::Simple 0.48
# Specio::Constraint::Union 0.48
# Specio::Declare 0.48
# Specio::DeclaredAt 0.48
# Specio::Exception 0.48
# Specio::Exporter 0.48
# Specio::Helpers 0.48
# Specio::Library::Builtins 0.48
# Specio::Library::Numeric 0.48
# Specio::Library::Perl 0.48
# Specio::Library::String 0.48
# Specio::OO 0.48
# Specio::PartialDump 0.48
# Specio::Registry 0.48
# Specio::Role::Inlinable 0.48
# Specio::Subs 0.48
# Specio::TypeChecks 0.48
# Storable 3.35
# Sub::Exporter::Progressive 0.001013
# Sub::Util 1.6801
# Tie::Hash 1.06
# Try::Tiny 0.32
# Variable::Magic 0.64
# XSLoader 0.32
# XString 0.005
# base 2.27
# constant 1.33
# integer 1.01
# mro 1.29
# namespace::autoclean 0.31
# namespace::clean 0.27
# namespace::clean::_Util undef
# overload 1.39
# overloading 0.02
# parent 0.244
# re 0.47
# strict 1.13
# utf8 1.27
# vars 1.05
# version 0.9933
# version::regex 0.9933
# warnings 1.72
# warnings::register 1.06
t/00-all_prereqs.t .. ok
# Testing DateTime::Format::XMLTV 1.001
t/00-load.t ......... ok
t/10-parse.t ........ ok
t/20-format.t ....... ok
All tests successful.
Files=4, Tests=61, 1 wallclock secs ( 0.03 usr 0.01 sys + 0.71 cusr 0.16 csys = 0.91 CPU)
Result: PASS
------------------------------
PREREQUISITES
------------------------------
Prerequisite modules loaded:
requires:
Module Need Have
------------------------- ---- --------
DateTime::Format::Builder 0.80 0.83
build_requires:
Module Need Have
------------------------- ---- --------
Test::More 0.88 1.302206
configure_requires:
Module Need Have
------------------------- ---- --------
ExtUtils::MakeMaker 6.30 7.70
------------------------------
ENVIRONMENT AND OTHER CONTEXT
------------------------------
Environment variables:
AUTOMATED_TESTING = 1
DATE_MANIP_TEST_DM5 = 1
LC_ALL = C
NONINTERACTIVE_TESTING = 1
NO_NETWORK_TESTING = 1
PATH = /home/cpan/bin/perl/bin:/home/cpan/bin:/home/cpan/bin:/bin:/sbin:/usr/bin:/usr/sbin:/usr/X11R7/bin:/usr/pkg/bin:/usr/pkg/sbin:/usr/games:/usr/local/bin:/usr/local/sbin
PERL5LIB =
PERL5OPT =
PERL5_CPANPLUS_IS_RUNNING = 12782
PERL5_CPAN_IS_RUNNING = 12782
PERL_MM_USE_DEFAULT = 1
PERL_USE_UNSAFE_INC = 1
SHELL = /usr/pkg/bin/bash
TERM = screen
TMPDIR = /home/cpan/tmp
Perl special variables (and OS-specific diagnostics, for MSWin32):
$^X = /home/cpan/bin/perl/bin/perl5.41.8
$UID/$EUID = 1001 / 1001
$GID = 100 100
$EGID = 100 100
Perl module toolchain versions installed:
Module Have
------------------- --------
CPAN 2.38
CPAN::Meta 2.150010
Cwd 3.92
ExtUtils::CBuilder 0.280240
ExtUtils::Command 7.70
ExtUtils::Install 2.22
ExtUtils::MakeMaker 7.70
ExtUtils::Manifest 1.75
ExtUtils::ParseXS 3.56
File::Spec 3.93
JSON 4.10
JSON::PP 4.16
Module::Build 0.4234
Module::Signature 0.89
Parse::CPAN::Meta 2.150010
Test2 1.302206
Test::Harness 3.50
Test::More 1.302206
YAML 1.31
YAML::Syck 1.34
version 0.9933
--
Summary of my perl5 (revision 5 version 41 subversion 8) configuration:
Commit id: a9199382762588145cff5f01e2955750a9edf92f
Platform:
osname=netbsd
osvers=10.0
archname=amd64-netbsd-thread-multi
uname='netbsd cjg-netbsd10 10.0 netbsd 10.0 (generic) #0: thu mar 28 08:33:33 utc 2024 mkrepro@mkrepro.netbsd.org:usrsrcsysarchamd64compilegeneric amd64 '
config_args='-des -Dprefix=/home/cpan/bin/perl -Dscriptdir=/home/cpan/bin/perl/bin -Dusedevel -Duse64bitall -Duseithreads'
hint=recommended
useposix=true
d_sigaction=define
useithreads=define
usemultiplicity=define
use64bitint=define
use64bitall=define
uselongdouble=undef
usemymalloc=n
default_inc_excludes_dot=define
Compiler:
cc='cc'
ccflags ='-fwrapv -fno-strict-aliasing -pipe -fstack-protector-strong -I/usr/pkg/include -D_FORTIFY_SOURCE=2'
optimize='-O'
cppflags='-fwrapv -fno-strict-aliasing -pipe -fstack-protector-strong -I/usr/pkg/include'
ccversion=''
gccversion='10.5.0'
gccosandvers=''
intsize=4
longsize=8
ptrsize=8
doublesize=8
byteorder=12345678
doublekind=3
d_longlong=define
longlongsize=8
d_longdbl=define
longdblsize=16
longdblkind=3
ivtype='long'
ivsize=8
nvtype='double'
nvsize=8
Off_t='off_t'
lseeksize=8
alignbytes=8
prototype=define
Linker and Libraries:
ld='cc'
ldflags =' -Wl,-rpath,/usr/pkg/lib -Wl,-rpath,/usr/local/lib -fstack-protector-strong -L/usr/pkg/lib'
libpth=/usr/lib /usr/pkg/lib /lib
libs=-lpthread -lm -lcrypt -lutil -lc -lposix
perllibs=-lpthread -lm -lcrypt -lutil -lc -lposix
libc=/lib/libc.so
so=so
useshrplib=false
libperl=libperl.a
gnulibc_version=''
Dynamic Linking:
dlsrc=dl_dlopen.xs
dlext=so
d_dlsymun=undef
ccdlflags='-Wl,-E '
cccdlflags='-DPIC -fPIC '
lddlflags='-shared -L/usr/pkg/lib -fstack-protector-strong'
Characteristics of this binary (from libperl):
Compile-time options:
HAS_LONG_DOUBLE
HAS_STRTOLD
HAS_TIMES
MULTIPLICITY
PERLIO_LAYERS
PERL_COPY_ON_WRITE
PERL_DONT_CREATE_GVSV
PERL_HASH_FUNC_SIPHASH13
PERL_HASH_USE_SBOX32
PERL_MALLOC_WRAP
PERL_OP_PARENT
PERL_PRESERVE_IVUV
PERL_USE_DEVEL
PERL_USE_SAFE_PUTENV
USE_64_BIT_ALL
USE_64_BIT_INT
USE_ITHREADS
USE_LARGE_FILES
USE_LOCALE
USE_LOCALE_COLLATE
USE_LOCALE_CTYPE
USE_LOCALE_NUMERIC
USE_LOCALE_TIME
USE_PERLIO
USE_PERL_ATOF
USE_REENTRANT_API
Built under netbsd
Compiled at Dec 22 2024 22:16:34
%ENV:
PERL5LIB=""
PERL5OPT=""
PERL5_CPANPLUS_IS_RUNNING="12782"
PERL5_CPAN_IS_RUNNING="12782"
PERL_MM_USE_DEFAULT="1"
PERL_USE_UNSAFE_INC="1"
@INC:
/home/cpan/bin/perl/lib/site_perl/5.41.8/amd64-netbsd-thread-multi
/home/cpan/bin/perl/lib/site_perl/5.41.8
/home/cpan/bin/perl/lib/5.41.8/amd64-netbsd-thread-multi
/home/cpan/bin/perl/lib/5.41.8
.