Git-Helpers v0.000020 Perl 5 v5.24.0 i386-freebsd

Status
Pass
From
Chris Williams (BINGOS)
Dist
Git-Helpers v0.000020
Platform
Perl 5 v5.24.0 i386-freebsd
Date
2019-10-03 16:34:47
ID
b68ff2d6-e5fb-11e9-99fe-b031dbec7dbf
This distribution has been tested as part of the CPAN Testers
project, supporting the Perl programming language.  See
http://wiki.cpantesters.org/ for more information or email
questions to cpan-testers-discuss@perl.org


--

Dear OALDERS,

This is a computer-generated error report created automatically by
CPANPLUS, version 0.9178. Testers personal comments may appear
at the end of this report.


Thank you for uploading your work to CPAN.  Congratulations!
All tests were successful.

TEST RESULTS:

Below is the error stack from stage 'make test':

PERL_DL_NONLAZY=1 "/usr/home/cpan/pit/bare/perl-5.24.0/bin/perl" "-MExtUtils::Command::MM" "-MTest::Harness" "-e" "undef *Test::Harness::Switches; test_harness(0, 'blib/lib', 'blib/arch')" t/*.t
# 
# Versions for all modules listed in MYMETA.json (including optional ones):
# 
# === Configure Requires ===
# 
#     Module              Want Have
#     ------------------- ---- ----
#     ExtUtils::MakeMaker  any 7.36
# 
# === Build Requires ===
# 
#     Module              Want Have
#     ------------------- ---- ----
#     ExtUtils::MakeMaker  any 7.36
# 
# === Test Requires ===
# 
#     Module                  Want     Have
#     ---------------------- ----- --------
#     ExtUtils::MakeMaker      any     7.36
#     File::Spec               any     3.75
#     File::Temp               any   0.2309
#     File::Touch              any     0.11
#     Git::Version             any    1.000
#     Path::Tiny               any    0.108
#     Test::Deep               any    1.128
#     Test::Fatal              any    0.014
#     Test::Git              1.313    1.324
#     Test::More               any 1.302164
#     Test::Requires::Git    1.005    1.008
#     Test::RequiresInternet   any     0.05
# 
# === Test Recommends ===
# 
#     Module         Want     Have
#     ---------- -------- --------
#     CPAN::Meta 2.120900 2.150010
# 
# === Runtime Requires ===
# 
#     Module           Want     Have
#     ---------------- ---- --------
#     Browser::Open     any     0.04
#     Capture::Tiny     any     0.48
#     Carp              any     1.40
#     File::pushd       any    1.016
#     Getopt::Long      any     2.48
#     Git::Sub          any 0.163320
#     MetaCPAN::Client  any 2.026000
#     Moo               any 2.003004
#     MooX::Options     any    4.103
#     Pod::Usage        any     1.68
#     String::Trim      any    0.005
#     Sub::Exporter     any    0.987
#     Term::Choose      any    1.703
#     Try::Tiny         any     0.30
#     Types::Standard   any 1.004004
#     URI               any     1.76
#     URI::FromHash     any     0.05
#     URI::Heuristic    any     4.20
#     URI::git          any     0.02
#     strict            any     1.11
#     warnings          any     1.36
# 
t/00-report-prereqs.t .. ok
t/01-diag.t ............ ok
t/cpan-repo.t .......... ok
# git version 2.22.0
# Switched to a new branch 'README'
t/helpers.t ............ ok
All tests successful.
Files=4, Tests=17,  2 wallclock secs ( 0.02 usr  0.02 sys +  0.67 cusr  0.76 csys =  1.48 CPU)
Result: PASS


PREREQUISITES:

Here is a list of prerequisites you specified and versions we
managed to load:

	  Module Name                        Have     Want
	  Browser::Open                      0.04        0
	  Capture::Tiny                      0.48        0
	  Carp                               1.40        0
	  ExtUtils::MakeMaker                7.36        0
	  File::Spec                         3.75        0
	  File::Temp                       0.2309        0
	  File::Touch                        0.11        0
	  File::pushd                       1.016        0
	  Getopt::Long                       2.48        0
	  Git::Sub                       0.163320        0
	  Git::Version                      1.000        0
	  MetaCPAN::Client               2.026000        0
	  Moo                            2.003004        0
	  MooX::Options                     4.103        0
	  Path::Tiny                        0.108        0
	  Pod::Usage                         1.68        0
	  String::Trim                      0.005        0
	  Sub::Exporter                     0.987        0
	  Term::Choose                      1.703        0
	  Test::Deep                        1.128        0
	  Test::Fatal                       0.014        0
	  Test::Git                         1.324    1.313
	  Test::More                     1.302164        0
	  Test::Requires::Git               1.008    1.005
	  Test::RequiresInternet             0.05        0
	  Try::Tiny                          0.30        0
	  Types::Standard                1.004004        0
	  URI                                1.76        0
	  URI::FromHash                      0.05        0
	  URI::Heuristic                     4.20        0
	  URI::git                           0.02        0
	  strict                             1.11        0
	  warnings                           1.36        0

Perl module toolchain versions installed:
	Module Name                        Have
	CPANPLUS                         0.9178
	CPANPLUS::Dist::Build              0.90
	Cwd                                3.75
	ExtUtils::CBuilder             0.280231
	ExtUtils::Command                  7.36
	ExtUtils::Install                  2.14
	ExtUtils::MakeMaker                7.36
	ExtUtils::Manifest                 1.72
	ExtUtils::ParseXS                  3.35
	File::Spec                         3.75
	Module::Build                    0.4229
	Pod::Parser                        1.63
	Pod::Simple                        3.32
	Test2                          1.302164
	Test::Harness                      3.42
	Test::More                     1.302164
	version                          0.9924

******************************** NOTE ********************************
The comments above are created mechanically, possibly without manual
checking by the sender.  As there are many people performing automatic
tests on each upload to CPAN, it is likely that you will receive
identical messages about the same problem.

If you believe that the message is mistaken, please reply to the first
one with correction and/or additional informations, and do not take
it personally.  We appreciate your patience. :)
**********************************************************************

Additional comments:


This report was machine-generated by CPANPLUS::Dist::YACSmoke 1.08.
Powered by minismokebox version 0.68

CPANPLUS is prefering Build.PL

------------------------------
ENVIRONMENT AND OTHER CONTEXT
------------------------------

Environment variables:

    AUTOMATED_TESTING = 1
    NONINTERACTIVE_TESTING = 1
    PATH = /usr/home/cpan/pit/bare/conf/perl-5.24.0/.cpanplus/5.24.0/build/e9SKxsJ32o/Git-Helpers-0.000020/blib/script:/sbin:/bin:/usr/sbin:/usr/bin:/usr/local/sbin:/usr/local/bin:/home/cpan/bin
    PERL5LIB = /usr/home/cpan/pit/jail/Fcqu1_FJOo/lib/perl5:/usr/home/cpan/pit/bare/conf/perl-5.24.0/.cpanplus/5.24.0/build/e9SKxsJ32o/Git-Helpers-0.000020/blib/lib:/usr/home/cpan/pit/bare/conf/perl-5.24.0/.cpanplus/5.24.0/build/e9SKxsJ32o/Git-Helpers-0.000020/blib/arch
    PERL5_CPANPLUS_IS_RUNNING = 64274
    PERL5_CPANPLUS_IS_VERSION = 0.9178
    PERL5_MINISMOKEBOX = 0.68
    PERL5_YACSMOKE_BASE = /usr/home/cpan/pit/bare/conf/perl-5.24.0
    PERL_EXTUTILS_AUTOINSTALL = --defaultdeps
    PERL_LOCAL_LIB_ROOT = /usr/home/cpan/pit/jail/Fcqu1_FJOo
    PERL_MB_OPT = --install_base "/usr/home/cpan/pit/jail/Fcqu1_FJOo"
    PERL_MM_OPT = INSTALL_BASE=/usr/home/cpan/pit/jail/Fcqu1_FJOo
    PERL_MM_USE_DEFAULT = 1
    SHELL = /usr/local/bin/bash
    TERM = screen

Perl special variables (and OS-specific diagnostics, for MSWin32):

    Perl: $^X = /usr/home/cpan/pit/bare/perl-5.24.0/bin/perl
    UID:  $<  = 1002
    EUID: $>  = 1002
    GID:  $(  = 1002 1002
    EGID: $)  = 1002 1002


-------------------------------


--

Summary of my perl5 (revision 5 version 24 subversion 0) configuration:
   
  Platform:
    osname=freebsd, osvers=11.3-release-p1, archname=i386-freebsd
    uname='freebsd froggle 11.3-release-p1 freebsd 11.3-release-p1 #0: tue jul 23 18:16:36 utc 2019 root@amd64-builder.daemonology.net:usrobjusrsrcsysgeneric i386 '
    config_args='-des -Dprefix=/usr/home/cpan/pit/bare/perl-5.24.0'
    hint=recommended, useposix=true, d_sigaction=define
    useithreads=undef, usemultiplicity=undef
    use64bitint=undef, use64bitall=undef, uselongdouble=undef
    usemymalloc=n, bincompat5005=undef
  Compiler:
    cc='cc', ccflags ='-DHAS_FPSETMASK -DHAS_FLOATINGPOINT_H -fno-strict-aliasing -pipe -fstack-protector-strong -I/usr/local/include -D_FORTIFY_SOURCE=2',
    optimize='-O2',
    cppflags='-DHAS_FPSETMASK -DHAS_FLOATINGPOINT_H -fno-strict-aliasing -pipe -fstack-protector-strong -I/usr/local/include'
    ccversion='', gccversion='4.2.1 Compatible FreeBSD Clang 8.0.0 (tags/RELEASE_800/final 356365)', gccosandvers=''
    intsize=4, longsize=4, ptrsize=4, doublesize=8, byteorder=1234, doublekind=3
    d_longlong=define, longlongsize=8, d_longdbl=define, longdblsize=12, longdblkind=3
    ivtype='long', ivsize=4, nvtype='double', nvsize=8, Off_t='off_t', lseeksize=8
    alignbytes=4, prototype=define
  Linker and Libraries:
    ld='cc', ldflags ='-Wl,-E  -fstack-protector-strong -L/usr/local/lib'
    libpth=/usr/lib /usr/local/lib /usr/lib/clang/8.0.0/lib /usr/lib
    libs=-lpthread -lgdbm -ldl -lm -lcrypt -lutil -lc
    perllibs=-lpthread -ldl -lm -lcrypt -lutil -lc
    libc=, so=so, useshrplib=false, libperl=libperl.a
    gnulibc_version=''
  Dynamic Linking:
    dlsrc=dl_dlopen.xs, dlext=so, d_dlsymun=undef, ccdlflags=' '
    cccdlflags='-DPIC -fPIC', lddlflags='-shared  -L/usr/local/lib -fstack-protector-strong'


Characteristics of this binary (from libperl): 
  Compile-time options: HAS_TIMES PERLIO_LAYERS PERL_COPY_ON_WRITE
                        PERL_DONT_CREATE_GVSV
                        PERL_HASH_FUNC_ONE_AT_A_TIME_HARD PERL_MALLOC_WRAP
                        PERL_PRESERVE_IVUV USE_LARGE_FILES USE_LOCALE
                        USE_LOCALE_COLLATE USE_LOCALE_CTYPE
                        USE_LOCALE_NUMERIC USE_LOCALE_TIME USE_PERLIO
                        USE_PERL_ATOF
  Locally applied patches:
	Devel::PatchPerl 1.64
  Built under freebsd
  Compiled at Aug  2 2019 03:41:09
  %ENV:
    PERL5LIB="/usr/home/cpan/pit/jail/Fcqu1_FJOo/lib/perl5:/usr/home/cpan/pit/bare/conf/perl-5.24.0/.cpanplus/5.24.0/build/e9SKxsJ32o/Git-Helpers-0.000020/blib/lib:/usr/home/cpan/pit/bare/conf/perl-5.24.0/.cpanplus/5.24.0/build/e9SKxsJ32o/Git-Helpers-0.000020/blib/arch"
    PERL5_CPANPLUS_IS_RUNNING="64274"
    PERL5_CPANPLUS_IS_VERSION="0.9178"
    PERL5_MINISMOKEBOX="0.68"
    PERL5_YACSMOKE_BASE="/usr/home/cpan/pit/bare/conf/perl-5.24.0"
    PERL_EXTUTILS_AUTOINSTALL="--defaultdeps"
    PERL_LOCAL_LIB_ROOT="/usr/home/cpan/pit/jail/Fcqu1_FJOo"
    PERL_MB_OPT="--install_base "/usr/home/cpan/pit/jail/Fcqu1_FJOo""
    PERL_MM_OPT="INSTALL_BASE=/usr/home/cpan/pit/jail/Fcqu1_FJOo"
    PERL_MM_USE_DEFAULT="1"
  @INC:
    /usr/home/cpan/pit/jail/Fcqu1_FJOo/lib/perl5/5.24.0/i386-freebsd
    /usr/home/cpan/pit/jail/Fcqu1_FJOo/lib/perl5/5.24.0
    /usr/home/cpan/pit/jail/Fcqu1_FJOo/lib/perl5/i386-freebsd
    /usr/home/cpan/pit/jail/Fcqu1_FJOo/lib/perl5
    /usr/home/cpan/pit/bare/conf/perl-5.24.0/.cpanplus/5.24.0/build/e9SKxsJ32o/Git-Helpers-0.000020/blib/lib
    /usr/home/cpan/pit/bare/conf/perl-5.24.0/.cpanplus/5.24.0/build/e9SKxsJ32o/Git-Helpers-0.000020/blib/arch
    /usr/home/cpan/pit/bare/perl-5.24.0/lib/site_perl/5.24.0/i386-freebsd
    /usr/home/cpan/pit/bare/perl-5.24.0/lib/site_perl/5.24.0
    /usr/home/cpan/pit/bare/perl-5.24.0/lib/5.24.0/i386-freebsd
    /usr/home/cpan/pit/bare/perl-5.24.0/lib/5.24.0
    .