Back
From: metabase:user:30f0bd62-2aae-11df-837a-5e0a49663a4f
Subject: PASS DateTime-Format-DBI-0.040 v5.12.2 NetBSD
Date: 2010-10-20T03:54:18Z
This distribution has been tested as part of the CPAN Testers
project, supporting the Perl programming language. See
http://wiki.cpantesters.org/ for more information or email
questions to cpan-testers-discuss@perl.org
--
Dear Claus Faerber,
This is a computer-generated report for DateTime-Format-DBI-0.040
on perl 5.12.2, created by CPAN-Reporter-1.1803.
Thank you for uploading your work to CPAN. Congratulations!
All tests were successful.
Sections of this report:
* Tester comments
* Program output
* Prerequisites
* Environment and other context
------------------------------
TESTER COMMENTS
------------------------------
Additional comments from tester:
this report is from an automated smoke testing program
and was not reviewed by a human for accuracy
------------------------------
PROGRAM OUTPUT
------------------------------
Output from './Build test':
t/00basic.t ...... ok
t/10pod.t ........ skipped: Test::Pod 1.00 required for testing POD
t/11pod_cover.t .. skipped: Test::Pod::Coverage required for testing POD coverage
t/withsqlite.t ... skipped: DateTime::Format::SQLite required for real SQLite test
t/withtestdb.t ... skipped: Test::Database required for real database test
All tests successful.
Files=5, Tests=2, 1 wallclock secs ( 0.03 usr 0.06 sys + 0.25 cusr 0.23 csys = 0.57 CPU)
Result: PASS
------------------------------
PREREQUISITES
------------------------------
Prerequisite modules loaded:
requires:
Module Need Have
---------------- ---- ------
DateTime 0.1 0.63
DBI 1.21 1.615
build_requires:
Module Need Have
---------------- ---- ------
Test::More 0 0.94
Test::NoWarnings 0 1.02
configure_requires:
Module Need Have
---------------- ---- ------
Module::Build 0.36 0.3603
------------------------------
ENVIRONMENT AND OTHER CONTEXT
------------------------------
Environment variables:
AUTOMATED_TESTING = 1
PATH = /home/sts/bin:/bin:/sbin:/usr/bin:/usr/sbin:/usr/X11R7/bin:/usr/X11R6/bin:/usr/pkg/bin:/usr/pkg/sbin:/usr/games:/usr/local/bin:/usr/local/sbin
PERL5LIB = /home/sts/cpansmoke/perl-5.12.2/cpan/build/DateTime-0.63-FMd33l/blib/arch:/home/sts/cpansmoke/perl-5.12.2/cpan/build/DateTime-0.63-FMd33l/blib/lib:/home/sts/cpansmoke/perl-5.12.2/cpan/build/DateTime-TimeZone-1.22-dGTqB5/blib/arch:/home/sts/cpansmoke/perl-5.12.2/cpan/build/DateTime-TimeZone-1.22-dGTqB5/blib/lib:/home/sts/cpansmoke/perl-5.12.2/cpan/build/Class-Singleton-1.4-dROYBZ/blib/arch:/home/sts/cpansmoke/perl-5.12.2/cpan/build/Class-Singleton-1.4-dROYBZ/blib/lib:/home/sts/cpansmoke/perl-5.12.2/cpan/build/DateTime-Locale-0.45-Eaz89Q/blib/arch:/home/sts/cpansmoke/perl-5.12.2/cpan/build/DateTime-Locale-0.45-Eaz89Q/blib/lib:/home/sts/cpansmoke/perl-5.12.2/cpan/build/Params-Validate-0.95-Q7cN_t/blib/arch:/home/sts/cpansmoke/perl-5.12.2/cpan/build/Params-Validate-0.95-Q7cN_t/blib/lib:/home/sts/cpansmoke/perl-5.12.2/cpan/build/List-MoreUtils-0.22-m3zmCU/blib/arch:/home/sts/cpansmoke/perl-5.12.2/cpan/build/List-MoreUtils-0.22-m3zmCU/blib/lib
PERL5OPT =
PERL5_CPANPLUS_IS_RUNNING = 6062
PERL5_CPAN_IS_RUNNING = 6062
PERL5_CPAN_IS_RUNNING_IN_RECURSION = 13813,6062
PERL_CR_SMOKER_CURRENT = DateTime-Format-DBI-0.040
PERL_EXTUTILS_AUTOINSTALL = --defaultdeps
PERL_MM_USE_DEFAULT = 1
SHELL = /bin/sh
TERM = screen
TMPDIR = /home/sts/cpansmoke/tmp
Perl special variables (and OS-specific diagnostics, for MSWin32):
$^X = /home/sts/cpansmoke/perl-5.12.2/bin/perl
$UID/$EUID = 1000 / 1000
$GID = 100 100 0
$EGID = 100 100 0
Perl module toolchain versions installed:
Module Have
------------------- -------
CPAN 1.94_56
Cwd 3.31
ExtUtils::CBuilder 0.27
ExtUtils::Command 1.16
ExtUtils::Install 1.55
ExtUtils::MakeMaker 6.56
ExtUtils::Manifest 1.57
ExtUtils::ParseXS 2.21
File::Spec 3.31_01
Module::Build 0.3603
Module::Signature n/a
Test::Harness 3.17
Test::More 0.94
YAML n/a
YAML::Syck 1.15
version 0.82
--
Summary of my perl5 (revision 5 version 12 subversion 2) configuration:
Platform:
osname=netbsd, osvers=5.0.2, archname=i386-netbsd-thread-multi
uname='netbsd cpansmoke2 5.0.2 netbsd 5.0.2 (xen3_domu) #0: sat feb 6 17:51:58 utc 2010 builds@b7.netbsd.org:homebuildsabnetbsd-5-0-2-releasei386201002061851z-objhomebuildsabnetbsd-5-0-2-releasesrcsysarchi386compilexen3_domu i386 '
config_args='-des -Dusethreads -Dprefix=/home/sts/cpansmoke/perl-5.12.2'
hint=recommended, useposix=true, d_sigaction=define
useithreads=define, usemultiplicity=define
useperlio=define, d_sfio=undef, uselargefiles=define, usesocks=undef
use64bitint=undef, use64bitall=undef, uselongdouble=undef
usemymalloc=y, bincompat5005=undef
Compiler:
cc='cc', ccflags ='-fno-strict-aliasing -pipe -fstack-protector -I/usr/pkg/include',
optimize='-O',
cppflags='-fno-strict-aliasing -pipe -fstack-protector -I/usr/pkg/include'
ccversion='', gccversion='4.1.3 20080704 prerelease (NetBSD nb2 20081120)', gccosandvers=''
intsize=4, longsize=4, ptrsize=4, doublesize=8, byteorder=1234
d_longlong=define, longlongsize=8, d_longdbl=define, longdblsize=12
ivtype='long', ivsize=4, nvtype='double', nvsize=8, Off_t='off_t', lseeksize=8
alignbytes=4, prototype=define
Linker and Libraries:
ld='cc', ldflags =' -Wl,-rpath,/usr/pkg/lib -Wl,-rpath,/usr/local/lib -fstack-protector -L/usr/pkg/lib'
libpth=/usr/pkg/lib /lib /usr/lib
libs=-lm -lcrypt -lutil -lc -lposix -lpthread
perllibs=-lm -lcrypt -lutil -lc -lposix -lpthread
libc=/lib/libc.so, so=so, useshrplib=false, libperl=libperl.a
gnulibc_version=''
Dynamic Linking:
dlsrc=dl_dlopen.xs, dlext=so, d_dlsymun=undef, ccdlflags='-Wl,-E '
cccdlflags='-DPIC -fPIC ', lddlflags='--whole-archive -shared -L/usr/pkg/lib -fstack-protector'
Characteristics of this binary (from libperl):
Compile-time options: MULTIPLICITY MYMALLOC PERL_DONT_CREATE_GVSV
PERL_IMPLICIT_CONTEXT USE_ITHREADS USE_LARGE_FILES
USE_PERLIO USE_PERL_ATOF USE_REENTRANT_API
Built under netbsd
Compiled at Oct 20 2010 00:37:51
%ENV:
PERL5LIB="/home/sts/cpansmoke/perl-5.12.2/cpan/build/DateTime-0.63-FMd33l/blib/arch:/home/sts/cpansmoke/perl-5.12.2/cpan/build/DateTime-0.63-FMd33l/blib/lib:/home/sts/cpansmoke/perl-5.12.2/cpan/build/DateTime-TimeZone-1.22-dGTqB5/blib/arch:/home/sts/cpansmoke/perl-5.12.2/cpan/build/DateTime-TimeZone-1.22-dGTqB5/blib/lib:/home/sts/cpansmoke/perl-5.12.2/cpan/build/Class-Singleton-1.4-dROYBZ/blib/arch:/home/sts/cpansmoke/perl-5.12.2/cpan/build/Class-Singleton-1.4-dROYBZ/blib/lib:/home/sts/cpansmoke/perl-5.12.2/cpan/build/DateTime-Locale-0.45-Eaz89Q/blib/arch:/home/sts/cpansmoke/perl-5.12.2/cpan/build/DateTime-Locale-0.45-Eaz89Q/blib/lib:/home/sts/cpansmoke/perl-5.12.2/cpan/build/Params-Validate-0.95-Q7cN_t/blib/arch:/home/sts/cpansmoke/perl-5.12.2/cpan/build/Params-Validate-0.95-Q7cN_t/blib/lib:/home/sts/cpansmoke/perl-5.12.2/cpan/build/List-MoreUtils-0.22-m3zmCU/blib/arch:/home/sts/cpansmoke/perl-5.12.2/cpan/build/List-MoreUtils-0.22-m3zmCU/blib/lib"
PERL5OPT=""
PERL5_CPANPLUS_IS_RUNNING="6062"
PERL5_CPAN_IS_RUNNING="6062"
PERL5_CPAN_IS_RUNNING_IN_RECURSION="13813,6062"
PERL_CR_SMOKER_CURRENT="DateTime-Format-DBI-0.040"
PERL_EXTUTILS_AUTOINSTALL="--defaultdeps"
PERL_MM_USE_DEFAULT="1"
@INC:
/home/sts/cpansmoke/perl-5.12.2/cpan/build/DateTime-0.63-FMd33l/blib/arch
/home/sts/cpansmoke/perl-5.12.2/cpan/build/DateTime-0.63-FMd33l/blib/lib
/home/sts/cpansmoke/perl-5.12.2/cpan/build/DateTime-TimeZone-1.22-dGTqB5/blib/arch
/home/sts/cpansmoke/perl-5.12.2/cpan/build/DateTime-TimeZone-1.22-dGTqB5/blib/lib
/home/sts/cpansmoke/perl-5.12.2/cpan/build/Class-Singleton-1.4-dROYBZ/blib/arch
/home/sts/cpansmoke/perl-5.12.2/cpan/build/Class-Singleton-1.4-dROYBZ/blib/lib
/home/sts/cpansmoke/perl-5.12.2/cpan/build/DateTime-Locale-0.45-Eaz89Q/blib/arch
/home/sts/cpansmoke/perl-5.12.2/cpan/build/DateTime-Locale-0.45-Eaz89Q/blib/lib
/home/sts/cpansmoke/perl-5.12.2/cpan/build/Params-Validate-0.95-Q7cN_t/blib/arch
/home/sts/cpansmoke/perl-5.12.2/cpan/build/Params-Validate-0.95-Q7cN_t/blib/lib
/home/sts/cpansmoke/perl-5.12.2/cpan/build/List-MoreUtils-0.22-m3zmCU/blib/arch
/home/sts/cpansmoke/perl-5.12.2/cpan/build/List-MoreUtils-0.22-m3zmCU/blib/lib
/home/sts/cpansmoke/perl-5.12.2/lib/site_perl/5.12.2/i386-netbsd-thread-multi
/home/sts/cpansmoke/perl-5.12.2/lib/site_perl/5.12.2
/home/sts/cpansmoke/perl-5.12.2/lib/5.12.2/i386-netbsd-thread-multi
/home/sts/cpansmoke/perl-5.12.2/lib/5.12.2
.