Back
From: metabase:user:320bfe00-2aae-11df-837a-5e0a49663a4f
Subject: PASS SWISH-Prog-0.75 v5.21.3 GNU/Linux
Date: 2014-08-02T16:54:48Z
This distribution has been tested as part of the CPAN Testers
project, supporting the Perl programming language. See
http://wiki.cpantesters.org/ for more information or email
questions to cpan-testers-discuss@perl.org
--
Dear Peter Karman,
This is a computer-generated report for SWISH-Prog-0.75
on perl 5.21.3, created by CPAN-Reporter-1.2011.
Thank you for uploading your work to CPAN. Congratulations!
All tests were successful.
Sections of this report:
* Tester comments
* Program output
* Prerequisites
* Environment and other context
------------------------------
TESTER COMMENTS
------------------------------
Additional comments from tester:
this report is from an automated smoke testing program
and was not reviewed by a human for accuracy
------------------------------
PROGRAM OUTPUT
------------------------------
Output from '/usr/bin/make test':
PERL_DL_NONLAZY=1 /tmp/basesmoker-reloperl-ob9u/bin/perl "-MExtUtils::Command::MM" "-MTest::Harness" "-e" "undef *Test::Harness::Switches; test_harness(0, 'inc', 'blib/lib', 'blib/arch')" t/*.t
# testing SWISH::Prog version 0.75
Can't exec "swish-e": No such file or directory at /tmp/loop_over_bdir-5237-Q5zY2y/SWISH-Prog-0.75-BsHLl7/blib/lib/SWISH/Prog/Native/Indexer.pm line 120.
t/00_synopsis.t ........... ok
Can't exec "swish-e": No such file or directory at /tmp/loop_over_bdir-5237-Q5zY2y/SWISH-Prog-0.75-BsHLl7/blib/lib/SWISH/Prog/Native/Indexer.pm line 120.
t/01_fs.t ................. ok
Can't exec "swish-e": No such file or directory at /tmp/loop_over_bdir-5237-Q5zY2y/SWISH-Prog-0.75-BsHLl7/blib/lib/SWISH/Prog/Native/Indexer.pm line 120.
t/02_dbi.t ................ ok
Can't exec "swish-e": No such file or directory at /tmp/loop_over_bdir-5237-Q5zY2y/SWISH-Prog-0.75-BsHLl7/blib/lib/SWISH/Prog/Native/Indexer.pm line 120.
t/03_object.t ............. ok
Can't exec "swish-e": No such file or directory at /tmp/loop_over_bdir-5237-Q5zY2y/SWISH-Prog-0.75-BsHLl7/blib/lib/SWISH/Prog/Native/Indexer.pm line 120.
t/04_mail.t ............... ok
# set TEST_SPIDER env var to test the spider
t/05_spider.t ............. ok
t/06_config.t ............. ok
t/08_meta.t ............... ok
t/10_config.t ............. ok
Can't exec "swish-e": No such file or directory at /tmp/loop_over_bdir-5237-Q5zY2y/SWISH-Prog-0.75-BsHLl7/blib/lib/SWISH/Prog/Native/Indexer.pm line 120.
t/11-leak-test.t .......... ok
Can't exec "swish-e": No such file or directory at /tmp/loop_over_bdir-5237-Q5zY2y/SWISH-Prog-0.75-BsHLl7/blib/lib/SWISH/Prog/Native/Indexer.pm line 120.
t/12-merge.t .............. ok
Can't exec "swish-e": No such file or directory at /tmp/loop_over_bdir-5237-Q5zY2y/SWISH-Prog-0.75-BsHLl7/blib/lib/SWISH/Prog/Native/Indexer.pm line 120.
t/13_mail_fs.t ............ ok
Can't exec "swish-e": No such file or directory at /tmp/loop_over_bdir-5237-Q5zY2y/SWISH-Prog-0.75-BsHLl7/blib/lib/SWISH/Prog/Native/Indexer.pm line 120.
t/14-search.t ............. ok
Can't exec "swish-e": No such file or directory at /tmp/loop_over_bdir-5237-Q5zY2y/SWISH-Prog-0.75-BsHLl7/blib/lib/SWISH/Prog/Native/Indexer.pm line 120.
t/15-index-file-config.t .. ok
t/16-replace-rules.t ...... ok
Unescaped left brace in regex is deprecated, passed through in regex; marked by <-- HERE in m/(\\%(?:\\=)?(\w|\\{ <-- HERE (?:\w|\\[^\w\\{}]|\\\\\\[\\{}])*\\}|\\\W))/ at /home/sand/src/perl/repoperls/installed-perls/perl/v5.21.2-87-g33e493d/165a/lib/site_perl/5.21.3/MP3/Tag.pm line 2611.
# spidering http://localhost:5002
t/17-spider-server.t ...... ok
t/18-utils.t .............. ok
t/pod-coverage.t .......... skipped: set RELEASE_TESTING to test POD
t/pod.t ................... skipped: set RELEASE_TESTING to test POD
All tests successful.
Files=19, Tests=185, 4 wallclock secs ( 0.06 usr 0.02 sys + 3.03 cusr 0.24 csys = 3.35 CPU)
Result: PASS
------------------------------
PREREQUISITES
------------------------------
Prerequisite modules loaded:
requires:
Module Need Have
------------------- -------- --------
Config::General 2.31 2.56
Data::Dump 0 1.22
File::Basename 0 2.85
File::Rules 0.02 0.02
File::Slurp 0 9999.19
File::Temp 0 0.2304
MIME::Types 0 2.04
Path::Class 0 0.33
perl 5.008003 5.021003
Rose::DateTime 0 0.540
Rose::ObjectX::CAF 0 0.03
Scalar::Util 0 1.39
Search::Query 0.17 0.304
Search::Tools 0.82 1.001
SWISH::3 1.000005 1.000010
SWISH::Filter 0.15 0.18
Test::More 0 1.001003
Time::HiRes 0 1.9726
XML::Simple 0 2.20
build_requires:
Module Need Have
------------------- -------- --------
ExtUtils::MakeMaker 6.59 6.98
configure_requires:
Module Need Have
------------------- -------- --------
ExtUtils::MakeMaker 6.59 6.98
------------------------------
ENVIRONMENT AND OTHER CONTEXT
------------------------------
Environment variables:
AUTOMATED_TESTING = 1
LANG = en_US.UTF-8
LANGUAGE = en_US:en
PATH = /usr/lib/ccache:/home/sand/bin:/usr/local/bin:/usr/bin:/bin:/usr/games:/usr/local/perl/bin:/usr/X11/bin:/sbin:/usr/sbin
PERL5LIB = /tmp/loop_over_bdir-5237-Q5zY2y/ProjectBuilder-0.12.2-MVM76L/blib/arch:/tmp/loop_over_bdir-5237-Q5zY2y/ProjectBuilder-0.12.2-MVM76L/blib/lib
PERL5OPT =
PERL5_CPANPLUS_IS_RUNNING = 24129
PERL5_CPAN_IS_RUNNING = 24129
PERL_MM_USE_DEFAULT = 1
SHELL = /usr/bin/zsh
TERM = screen
Perl special variables (and OS-specific diagnostics, for MSWin32):
$^X = /tmp/basesmoker-reloperl-ob9u/bin/perl
$UID/$EUID = 1005 / 1005
$GID = 1005 1005
$EGID = 1005 1005
Perl module toolchain versions installed:
Module Have
------------------- --------
CPAN 2.05
CPAN::Meta 2.142060
Cwd 3.49
ExtUtils::CBuilder 0.280216
ExtUtils::Command 1.18
ExtUtils::Install 1.68
ExtUtils::MakeMaker 6.98
ExtUtils::Manifest 1.64
ExtUtils::ParseXS 3.25
File::Spec 3.49
JSON 2.90
JSON::PP 2.27203
Module::Build 0.4206
Module::Signature 0.73
Parse::CPAN::Meta 1.4414
Test::Harness 3.32
Test::More 1.001003
YAML 0.98
YAML::Syck 1.27
version 0.9908
--
Summary of my perl5 (revision 5 version 21 subversion 3) configuration:
Commit id: 33e493d3ba71689dfaec10efd9847548790cc922
Platform:
osname=linux, osvers=3.14-2-amd64, archname=x86_64-linux
uname='linux k83 3.14-2-amd64 #1 smp debian 3.14.13-2 (2014-07-24) x86_64 gnulinux '
config_args='-Dprefix=/home/sand/src/perl/repoperls/installed-perls/perl/v5.21.2-87-g33e493d/165a -Dmyhostname=k83 -Dinstallusrbinperl=n -Uversiononly -Dusedevel -des -Ui_db -Uuseithreads -Uuselongdouble -DDEBUGGING=-g'
hint=recommended, useposix=true, d_sigaction=define
useithreads=undef, usemultiplicity=undef
use64bitint=define, use64bitall=define, uselongdouble=undef
usemymalloc=n, bincompat5005=undef
Compiler:
cc='cc', ccflags ='-fwrapv -fno-strict-aliasing -pipe -fstack-protector -I/usr/local/include -D_LARGEFILE_SOURCE -D_FILE_OFFSET_BITS=64 -D_FORTIFY_SOURCE=2',
optimize='-O2 -g',
cppflags='-fwrapv -fno-strict-aliasing -pipe -fstack-protector -I/usr/local/include'
ccversion='', gccversion='4.9.1', gccosandvers=''
intsize=4, longsize=8, ptrsize=8, doublesize=8, byteorder=12345678
d_longlong=define, longlongsize=8, d_longdbl=define, longdblsize=16
ivtype='long', ivsize=8, nvtype='double', nvsize=8, Off_t='off_t', lseeksize=8
alignbytes=8, prototype=define
Linker and Libraries:
ld='cc', ldflags =' -fstack-protector -L/usr/local/lib'
libpth=/usr/local/lib /usr/lib/gcc/x86_64-linux-gnu/4.9/include-fixed /usr/include/x86_64-linux-gnu /usr/lib /lib/x86_64-linux-gnu /lib/../lib /usr/lib/x86_64-linux-gnu /usr/lib/../lib /lib
libs=-lnsl -lgdbm -ldb -ldl -lm -lcrypt -lutil -lc -lgdbm_compat
perllibs=-lnsl -ldl -lm -lcrypt -lutil -lc
libc=libc-2.19.so, so=so, useshrplib=false, libperl=libperl.a
gnulibc_version='2.19'
Dynamic Linking:
dlsrc=dl_dlopen.xs, dlext=so, d_dlsymun=undef, ccdlflags='-Wl,-E'
cccdlflags='-fPIC', lddlflags='-shared -O2 -g -L/usr/local/lib -fstack-protector'
Characteristics of this binary (from libperl):
Compile-time options: HAS_TIMES PERLIO_LAYERS PERL_DONT_CREATE_GVSV
PERL_HASH_FUNC_ONE_AT_A_TIME_HARD PERL_MALLOC_WRAP
PERL_NEW_COPY_ON_WRITE PERL_PRESERVE_IVUV
PERL_USE_DEVEL USE_64_BIT_ALL USE_64_BIT_INT
USE_LARGE_FILES USE_LOCALE USE_LOCALE_COLLATE
USE_LOCALE_CTYPE USE_LOCALE_NUMERIC USE_LOCALE_TIME
USE_PERLIO USE_PERL_ATOF
Built under linux
Compiled at Aug 1 2014 19:46:22
%ENV:
PERL5LIB="/tmp/loop_over_bdir-5237-Q5zY2y/ProjectBuilder-0.12.2-MVM76L/blib/arch:/tmp/loop_over_bdir-5237-Q5zY2y/ProjectBuilder-0.12.2-MVM76L/blib/lib"
PERL5OPT=""
PERL5_CPANPLUS_IS_RUNNING="24129"
PERL5_CPAN_IS_RUNNING="24129"
PERL_MM_USE_DEFAULT="1"
@INC:
/tmp/loop_over_bdir-5237-Q5zY2y/ProjectBuilder-0.12.2-MVM76L/blib/arch
/tmp/loop_over_bdir-5237-Q5zY2y/ProjectBuilder-0.12.2-MVM76L/blib/lib
/home/sand/src/perl/repoperls/installed-perls/perl/v5.21.2-87-g33e493d/165a/lib/site_perl/5.21.3/x86_64-linux
/home/sand/src/perl/repoperls/installed-perls/perl/v5.21.2-87-g33e493d/165a/lib/site_perl/5.21.3
/home/sand/src/perl/repoperls/installed-perls/perl/v5.21.2-87-g33e493d/165a/lib/5.21.3/x86_64-linux
/home/sand/src/perl/repoperls/installed-perls/perl/v5.21.2-87-g33e493d/165a/lib/5.21.3
.