Neo4j-Error v0.02 Perl 5 v5.41.3 i86pc-solaris
- Status
- Pass
- From
- Nigel Horne
- Dist
-
Neo4j-Error v0.02
- Platform
- Perl 5 v5.41.3 i86pc-solaris
- Date
- 2024-11-22 16:42:08
- ID
- b6c9d574-a8f0-11ef-a2e7-adcc067dddd3
This distribution has been tested as part of the CPAN Testers
project, supporting the Perl programming language. See
http://wiki.cpantesters.org/ for more information or email
questions to cpan-testers-discuss@perl.org
--
Dear Arne Johannessen,
This is a computer-generated report for Neo4j-Error-0.02
on perl 5.41.3, created by CPAN-Reporter-1.2020.
Thank you for uploading your work to CPAN. Congratulations!
All tests were successful.
Sections of this report:
* Tester comments
* Program output
* Prerequisites
* Environment and other context
------------------------------
TESTER COMMENTS
------------------------------
Additional comments from tester:
this report is from an automated smoke testing program
and was not reviewed by a human for accuracy
------------------------------
PROGRAM OUTPUT
------------------------------
Output from '/usr/bin/make test':
PERL_DL_NONLAZY=1 "/export/home/njh/perl5/perlbrew/perls/perl-5.41.3/bin/perl5.41.3" "-MExtUtils::Command::MM" "-MTest::Harness" "-e" "undef *Test::Harness::Switches; test_harness(0, 'blib/lib', 'blib/arch')" t/*.t
t/constructor.t .. ok
t/internal.t ..... ok
t/network.t ...... ok
t/server.t ....... ok
t/usage.t ........ ok
All tests successful.
Files=5, Tests=28, 1 wallclock secs ( 0.06 usr 0.02 sys + 0.61 cusr 0.19 csys = 0.88 CPU)
Result: PASS
------------------------------
PREREQUISITES
------------------------------
Prerequisite modules loaded:
requires:
Module Need Have
------------------- -------- --------
Devel::StackTrace 1.34 2.05
List::Util 1.33 1.65
parent 0 0.242
perl 5.010000 5.041003
build_requires:
Module Need Have
------------------- -------- --------
ExtUtils::MakeMaker 0 7.70
Test::Exception 0 0.43
Test::More 0.94 1.302204
Test::Warnings 0.010 0.033
configure_requires:
Module Need Have
------------------- -------- --------
ExtUtils::MakeMaker 0 7.70
------------------------------
ENVIRONMENT AND OTHER CONTEXT
------------------------------
Environment variables:
AUTOMATED_TESTING = 1
LANG = en_US.UTF-8
NONINTERACTIVE_TESTING = 1
PATH = /export/home/njh/perl5/perlbrew/bin:/export/home/njh/perl5/perlbrew/perls/perl-5.41.3/bin:/export/home/njh/perl5/perlbrew/bin:/export/home/njh/perl5/perlbrew/perls/perl-5.8.9/bin:/usr/bin:/usr/sbin:/sbin:/usr/gnu/bin
PERL5LIB = /export/home/njh/.cpan/build/Mock-Quick-1.111-0/blib/arch:/export/home/njh/.cpan/build/Mock-Quick-1.111-0/blib/lib:/export/home/njh/.cpan/build/Exporter-Declare-0.114-0/blib/arch:/export/home/njh/.cpan/build/Exporter-Declare-0.114-0/blib/lib:/export/home/njh/.cpan/build/aliased-0.34-0/blib/arch:/export/home/njh/.cpan/build/aliased-0.34-0/blib/lib:/export/home/njh/.cpan/build/Meta-Builder-0.004-0/blib/arch:/export/home/njh/.cpan/build/Meta-Builder-0.004-0/blib/lib:/export/home/njh/.cpan/build/Fennec-Lite-0.004-0/blib/arch:/export/home/njh/.cpan/build/Fennec-Lite-0.004-0/blib/lib
PERL5OPT =
PERL5_CPANPLUS_IS_RUNNING = 24929
PERL5_CPAN_IS_RUNNING = 24929
PERL5_CPAN_IS_RUNNING_IN_RECURSION = 24918,24929
PERLBREW_HOME = /export/home/njh/.perlbrew
PERLBREW_LIB =
PERLBREW_MANPATH = /export/home/njh/perl5/perlbrew/perls/perl-5.41.3/man
PERLBREW_PATH = /export/home/njh/perl5/perlbrew/bin:/export/home/njh/perl5/perlbrew/perls/perl-5.41.3/bin
PERLBREW_PERL = perl-5.41.3
PERLBREW_ROOT = /export/home/njh/perl5/perlbrew
PERLBREW_SHELLRC_VERSION = 0.99
PERLBREW_VERSION = 0.99
PERL_LOCAL_LIB_ROOT =
PERL_MM_USE_DEFAULT = 1
PERL_USE_UNSAFE_INC = 1
SHELL = /bin/bash
TERM = xterm-256color
TMPDIR = /tmp/smoker-Mb0ZB/testwrapper.24921
Perl special variables (and OS-specific diagnostics, for MSWin32):
$^X = /export/home/njh/perl5/perlbrew/perls/perl-5.41.3/bin/perl5.41.3
$UID/$EUID = 101 / 101
$GID = 10 10
$EGID = 10 10
Perl module toolchain versions installed:
Module Have
------------------- --------
CPAN 2.36
CPAN::Meta 2.150010
Cwd 3.92
ExtUtils::CBuilder 0.280240
ExtUtils::Command 7.70
ExtUtils::Install 2.22
ExtUtils::MakeMaker 7.70
ExtUtils::Manifest 1.75
ExtUtils::ParseXS 3.53
File::Spec 3.92
JSON 4.10
JSON::PP 4.16
Module::Build 0.4234
Module::Signature n/a
Parse::CPAN::Meta 2.150010
Test2 1.302204
Test::Harness 3.50
Test::More 1.302204
YAML 1.31
YAML::Syck 1.34
version 0.9930
--
Summary of my perl5 (revision 5 version 41 subversion 3) configuration:
Platform:
osname=solaris
osvers=2.11
archname=i86pc-solaris
uname='sunos njh1 5.11 illumos-06524cf4e4 i86pc i386 i86pc '
config_args='-de -Dprefix=/export/home/njh/perl5/perlbrew/perls/perl-5.41.3 -Dusedevel -Aeval:scriptdir=/export/home/njh/perl5/perlbrew/perls/perl-5.41.3/bin'
hint=recommended
useposix=true
d_sigaction=define
useithreads=undef
usemultiplicity=undef
use64bitint=undef
use64bitall=undef
uselongdouble=undef
usemymalloc=n
default_inc_excludes_dot=define
Compiler:
cc='/usr/bin/gcc'
ccflags ='-fwrapv -fno-strict-aliasing -pipe -fstack-protector-strong -I/usr/gnu/include -D_LARGEFILE_SOURCE -D_FILE_OFFSET_BITS=64 -D_FORTIFY_SOURCE=2'
optimize='-O'
cppflags='-fwrapv -fno-strict-aliasing -pipe -fstack-protector-strong -I/usr/gnu/include'
ccversion=''
gccversion='7.5.0'
gccosandvers=''
intsize=4
longsize=4
ptrsize=4
doublesize=8
byteorder=1234
doublekind=3
d_longlong=define
longlongsize=8
d_longdbl=define
longdblsize=12
longdblkind=3
ivtype='long'
ivsize=4
nvtype='double'
nvsize=8
Off_t='off_t'
lseeksize=8
alignbytes=4
prototype=define
Linker and Libraries:
ld='/usr/bin/gcc'
ldflags =' -fstack-protector-strong -L/usr/gnu/lib '
libpth=/usr/gcc/7/lib /usr/lib /usr/gnu/lib /usr/ccs/lib
libs=-lpthread -lsocket -lnsl -lgdbm -ldb -ldl -lm -lc
perllibs=-lpthread -lsocket -lnsl -ldl -lm -lc
libc=/lib/libc.so
so=so
useshrplib=true
libperl=libperl.so
gnulibc_version=''
Dynamic Linking:
dlsrc=dl_dlopen.xs
dlext=so
d_dlsymun=undef
ccdlflags=' -R /export/home/njh/perl5/perlbrew/perls/perl-5.41.3/lib/5.41.3/i86pc-solaris/CORE'
cccdlflags='-fPIC'
lddlflags='-shared -L/usr/gnu/lib -fstack-protector-strong'
Characteristics of this binary (from libperl):
Compile-time options:
HAS_LONG_DOUBLE
HAS_STRTOLD
HAS_TIMES
PERLIO_LAYERS
PERL_COPY_ON_WRITE
PERL_DONT_CREATE_GVSV
PERL_HASH_FUNC_ZAPHOD32
PERL_HASH_USE_SBOX32
PERL_MALLOC_WRAP
PERL_OP_PARENT
PERL_PRESERVE_IVUV
PERL_USE_DEVEL
PERL_USE_SAFE_PUTENV
USE_LARGE_FILES
USE_LOCALE
USE_LOCALE_COLLATE
USE_LOCALE_CTYPE
USE_LOCALE_NUMERIC
USE_LOCALE_TIME
USE_PERLIO
USE_PERL_ATOF
Built under solaris
Compiled at Sep 3 2024 10:34:34
%ENV:
PERL5LIB="/export/home/njh/.cpan/build/Mock-Quick-1.111-0/blib/arch:/export/home/njh/.cpan/build/Mock-Quick-1.111-0/blib/lib:/export/home/njh/.cpan/build/Exporter-Declare-0.114-0/blib/arch:/export/home/njh/.cpan/build/Exporter-Declare-0.114-0/blib/lib:/export/home/njh/.cpan/build/aliased-0.34-0/blib/arch:/export/home/njh/.cpan/build/aliased-0.34-0/blib/lib:/export/home/njh/.cpan/build/Meta-Builder-0.004-0/blib/arch:/export/home/njh/.cpan/build/Meta-Builder-0.004-0/blib/lib:/export/home/njh/.cpan/build/Fennec-Lite-0.004-0/blib/arch:/export/home/njh/.cpan/build/Fennec-Lite-0.004-0/blib/lib"
PERL5OPT=""
PERL5_CPANPLUS_IS_RUNNING="24929"
PERL5_CPAN_IS_RUNNING="24929"
PERL5_CPAN_IS_RUNNING_IN_RECURSION="24918,24929"
PERLBREW_HOME="/export/home/njh/.perlbrew"
PERLBREW_LIB=""
PERLBREW_MANPATH="/export/home/njh/perl5/perlbrew/perls/perl-5.41.3/man"
PERLBREW_PATH="/export/home/njh/perl5/perlbrew/bin:/export/home/njh/perl5/perlbrew/perls/perl-5.41.3/bin"
PERLBREW_PERL="perl-5.41.3"
PERLBREW_ROOT="/export/home/njh/perl5/perlbrew"
PERLBREW_SHELLRC_VERSION="0.99"
PERLBREW_VERSION="0.99"
PERL_LOCAL_LIB_ROOT=""
PERL_MM_USE_DEFAULT="1"
PERL_USE_UNSAFE_INC="1"
@INC:
/export/home/njh/.cpan/build/Mock-Quick-1.111-0/blib/arch
/export/home/njh/.cpan/build/Mock-Quick-1.111-0/blib/lib
/export/home/njh/.cpan/build/Exporter-Declare-0.114-0/blib/arch
/export/home/njh/.cpan/build/Exporter-Declare-0.114-0/blib/lib
/export/home/njh/.cpan/build/aliased-0.34-0/blib/arch
/export/home/njh/.cpan/build/aliased-0.34-0/blib/lib
/export/home/njh/.cpan/build/Meta-Builder-0.004-0/blib/arch
/export/home/njh/.cpan/build/Meta-Builder-0.004-0/blib/lib
/export/home/njh/.cpan/build/Fennec-Lite-0.004-0/blib/arch
/export/home/njh/.cpan/build/Fennec-Lite-0.004-0/blib/lib
/export/home/njh/perl5/perlbrew/perls/perl-5.41.3/lib/site_perl/5.41.3/i86pc-solaris
/export/home/njh/perl5/perlbrew/perls/perl-5.41.3/lib/site_perl/5.41.3
/export/home/njh/perl5/perlbrew/perls/perl-5.41.3/lib/5.41.3/i86pc-solaris
/export/home/njh/perl5/perlbrew/perls/perl-5.41.3/lib/5.41.3
.