Back
From: metabase:user:31d414ea-2aae-11df-837a-5e0a49663a4f
Subject: PASS Dist-Zilla-Plugin-ChangeStats-Git-0.3.0 v5.18.0 GNU/Linux
Date: 2015-02-18T18:26:54Z
This distribution has been tested as part of the CPAN Testers
project, supporting the Perl programming language.  See
http://wiki.cpantesters.org/ for more information or email
questions to cpan-testers-discuss@perl.org
--
Dear Yanick Champoux,
This is a computer-generated report for Dist-Zilla-Plugin-ChangeStats-Git-0.3.0
on perl 5.18.0, created by CPAN-Reporter-1.2010.
Thank you for uploading your work to CPAN.  Congratulations!
All tests were successful.
Sections of this report:
    * Tester comments
    * Program output
    * Prerequisites
    * Environment and other context
------------------------------
TESTER COMMENTS
------------------------------
Additional comments from tester:
this report is from an automated smoke testing program
and was not reviewed by a human for accuracy
------------------------------
PROGRAM OUTPUT
------------------------------
Output from './Build test':
t/00-compile.t ................ ok
# 
# 
# Generated by Dist::Zilla::Plugin::ReportVersions::Tiny v1.10
# perl: 5.018000 (wanted 5.006) on linux from /home/david/cpantesting/perl-5.18.0/bin/perl
# 
# CPAN::Changes                                 => 0.30       (want 0.17)   
# Dist::Zilla::Role::AfterRelease               => 5.031      (want any version)
# Dist::Zilla::Role::FileMunger                 => 5.031      (want any version)
# Dist::Zilla::Role::Plugin                     => 5.031      (want any version)
# File::Spec                                    => 3.40       (want any version)
# Git::Repository                               => 1.312      (want any version)
# IO::Handle                                    => 1.34       (want any version)
# IPC::Open3                                    => 1.13       (want any version)
# List::Util                                    => 1.41       (want any version)
# Module::Build                                 => 0.4211     (want 0.28)   
# Module::Load                                  => 0.32       (want any version)
# Moose                                         => 2.1403     (want any version)
# Moose::Role                                   => 2.1403     (want any version)
# Moose::Util                                   => 2.1403     (want any version)
# MooseX::Role::Parameterized                   => 1.08       (want any version)
# Path::Tiny                                    => 0.061      (want any version)
# Perl::Version                                 => 1.013      (want any version)
# Test::DZil                                    => 5.031      (want any version)
# Test::More                                    => 1.001014   (want 0.88)   
# strict                                        => 1.07       (want any version)
# warnings                                      => 1.18       (want any version)
# 
# Thanks for using my code.  I hope it works for you.
# If not, please try and include this output in the bug report.
# That will help me reproduce the issue and solve your problem.
# 
t/000-report-versions-tiny.t .. ok
t/basic.t ..................... skipped: coming soon
All tests successful.
Files=3, Tests=4,  5 wallclock secs ( 0.02 usr  0.02 sys +  1.38 cusr  0.13 csys =  1.55 CPU)
Result: PASS
------------------------------
PREREQUISITES
------------------------------
Prerequisite modules loaded:
requires:
    Module                          Need  Have    
    ------------------------------- ----- --------
    CPAN::Changes                   0.17  0.30    
    Dist::Zilla::Role::AfterRelease 0     5.031   
    Dist::Zilla::Role::FileMunger   0     5.031   
    Dist::Zilla::Role::Plugin       0     5.031   
    Git::Repository                 0     1.312   
    List::Util                      0     1.41    
    Module::Load                    0     0.32    
    Moose                           0     2.1403  
    Moose::Role                     0     2.1403  
    Moose::Util                     0     2.1403  
    MooseX::Role::Parameterized     0     1.08    
    Path::Tiny                      0     0.061   
    Perl::Version                   0     1.013   
    strict                          0     1.07    
    warnings                        0     1.18    
build_requires:
    Module                          Need  Have    
    ------------------------------- ----- --------
    File::Spec                      0     3.40    
    IO::Handle                      0     1.34    
    IPC::Open3                      0     1.13    
    Module::Build                   0.28  0.4211  
    perl                            5.006 5.018000
    Test::DZil                      0     5.031   
    Test::More                      0.88  1.001014
configure_requires:
    Module                          Need  Have    
    ------------------------------- ----- --------
    Module::Build                   0.28  0.4211  
------------------------------
ENVIRONMENT AND OTHER CONTEXT
------------------------------
Environment variables:
    AUTOMATED_TESTING = 1
    PATH = /usr/local/bin:/usr/bin:/bin:/usr/games
    PERL = 5.18.0
    PERL5LIB = 
    PERL5OPT = 
    PERL5_CPANPLUS_IS_RUNNING = 24369
    PERL5_CPAN_IS_RUNNING = 24369
    PERLVER = 5.18.0
    PERL_INLINE_DIRECTORY = /home/david/.Inline-5.18.0
    PERL_MM_USE_DEFAULT = 1
    SHELL = /bin/bash
    TERM = screen
Perl special variables (and OS-specific diagnostics, for MSWin32):
    $^X = /home/david/cpantesting/perl-5.18.0/bin/perl
    $UID/$EUID = 1000 / 1000
    $GID = 1000 1000
    $EGID = 1000 1000
Perl module toolchain versions installed:
    Module              Have    
    ------------------- --------
    CPAN                2.00    
    CPAN::Meta          2.143240
    Cwd                 3.40    
    ExtUtils::CBuilder  0.280210
    ExtUtils::Command   1.17    
    ExtUtils::Install   1.59    
    ExtUtils::MakeMaker 7.04    
    ExtUtils::Manifest  1.70    
    ExtUtils::ParseXS   3.24    
    File::Spec          3.40    
    JSON                2.90    
    JSON::PP            2.27203 
    Module::Build       0.4211  
    Module::Signature   n/a     
    Parse::CPAN::Meta   1.4414  
    Test::Harness       3.35    
    Test::More          1.001014
    YAML                1.14    
    YAML::Syck          1.29    
    version             0.9902  
--
Summary of my perl5 (revision 5 version 18 subversion 0) configuration:
   
  Platform:
    osname=linux, osvers=3.2.0-4-amd64, archname=x86_64-linux-thread-multi
    uname='linux pigsty.barnyard.co.uk 3.2.0-4-amd64 #1 smp debian 3.2.35-2 x86_64 gnulinux '
    config_args='-de -Dprefix=/home/david/cpantesting/perl-5.18.0 -Dusethreads -Duse64bitall'
    hint=recommended, useposix=true, d_sigaction=define
    useithreads=define, usemultiplicity=define
    useperlio=define, d_sfio=undef, uselargefiles=define, usesocks=undef
    use64bitint=define, use64bitall=define, uselongdouble=undef
    usemymalloc=n, bincompat5005=undef
  Compiler:
    cc='cc', ccflags ='-D_REENTRANT -D_GNU_SOURCE -fno-strict-aliasing -pipe -fstack-protector -I/usr/local/include -D_LARGEFILE_SOURCE -D_FILE_OFFSET_BITS=64',
    optimize='-O2',
    cppflags='-D_REENTRANT -D_GNU_SOURCE -fno-strict-aliasing -pipe -fstack-protector -I/usr/local/include'
    ccversion='', gccversion='4.1.2 20061115 (prerelease) (Debian 4.1.1-21)', gccosandvers=''
    intsize=4, longsize=8, ptrsize=8, doublesize=8, byteorder=12345678
    d_longlong=define, longlongsize=8, d_longdbl=define, longdblsize=16
    ivtype='long', ivsize=8, nvtype='double', nvsize=8, Off_t='off_t', lseeksize=8
    alignbytes=8, prototype=define
  Linker and Libraries:
    ld='cc', ldflags =' -fstack-protector -L/usr/local/lib'
    libpth=/usr/local/lib /lib /usr/lib /lib64 /usr/lib64
    libs=-lnsl -lgdbm -ldb -ldl -lm -lcrypt -lutil -lpthread -lc -lgdbm_compat
    perllibs=-lnsl -ldl -lm -lcrypt -lutil -lpthread -lc
    libc=/lib/libc-2.3.6.so, so=so, useshrplib=false, libperl=libperl.a
    gnulibc_version='2.3.6'
  Dynamic Linking:
    dlsrc=dl_dlopen.xs, dlext=so, d_dlsymun=undef, ccdlflags='-Wl,-E'
    cccdlflags='-fPIC', lddlflags='-shared -O2 -L/usr/local/lib -fstack-protector'
Characteristics of this binary (from libperl): 
  Compile-time options: HAS_TIMES MULTIPLICITY PERLIO_LAYERS
                        PERL_DONT_CREATE_GVSV
                        PERL_HASH_FUNC_ONE_AT_A_TIME_HARD
                        PERL_IMPLICIT_CONTEXT PERL_MALLOC_WRAP
                        PERL_PRESERVE_IVUV PERL_SAWAMPERSAND USE_64_BIT_ALL
                        USE_64_BIT_INT USE_ITHREADS USE_LARGE_FILES
                        USE_LOCALE USE_LOCALE_COLLATE USE_LOCALE_CTYPE
                        USE_LOCALE_NUMERIC USE_PERLIO USE_PERL_ATOF
                        USE_REENTRANT_API
  Built under linux
  Compiled at May 20 2013 18:28:55
  %ENV:
    PERL="5.18.0"
    PERL5LIB=""
    PERL5OPT=""
    PERL5_CPANPLUS_IS_RUNNING="24369"
    PERL5_CPAN_IS_RUNNING="24369"
    PERLVER="5.18.0"
    PERL_INLINE_DIRECTORY="/home/david/.Inline-5.18.0"
    PERL_MM_USE_DEFAULT="1"
  @INC:
    /home/david/cpantesting/perl-5.18.0/lib/site_perl/5.18.0/x86_64-linux-thread-multi
    /home/david/cpantesting/perl-5.18.0/lib/site_perl/5.18.0
    /home/david/cpantesting/perl-5.18.0/lib/5.18.0/x86_64-linux-thread-multi
    /home/david/cpantesting/perl-5.18.0/lib/5.18.0
    .