Back
From: metabase:user:314402c4-2aae-11df-837a-5e0a49663a4f
Subject: PASS Dist-Zilla-Plugin-Chrome-ExtraPrompt-0.008 v5.20.1 FreeBSD
Date: 2015-04-05T10:58:38Z
This distribution has been tested as part of the CPAN Testers
project, supporting the Perl programming language. See
http://wiki.cpantesters.org/ for more information or email
questions to cpan-testers-discuss@perl.org
--
Dear Karen Etheridge,
This is a computer-generated report for Dist-Zilla-Plugin-Chrome-ExtraPrompt-0.008
on perl 5.20.1, created by CPAN-Reporter-1.2011.
Thank you for uploading your work to CPAN. Congratulations!
All tests were successful.
Sections of this report:
* Tester comments
* Program output
* Prerequisites
* Environment and other context
------------------------------
TESTER COMMENTS
------------------------------
Additional comments from tester:
none provided
------------------------------
PROGRAM OUTPUT
------------------------------
Output from './Build test':
#
# Versions for all modules listed in MYMETA.json (including optional ones):
#
# === Configure Requires ===
#
# Module Want Have
# ------------------- ----- -----
# Module::Build::Tiny 0.039 0.039
#
# === Test Requires ===
#
# Module Want Have
# ----------------------------------------- ----- --------
# Dist::Zilla::Chrome::Test any 5.034
# Dist::Zilla::MVP::Assembler::GlobalConfig any 5.034
# Dist::Zilla::MVP::Reader::Finder any 5.034
# Dist::Zilla::MVP::Section any 5.034
# Dist::Zilla::Role::BeforeBuild any 5.034
# ExtUtils::MakeMaker any 7.04
# File::Spec any 3.48
# Path::Tiny any 0.068
# Test::DZil any 5.034
# Test::Deep any 0.115
# Test::Fatal any 0.014
# Test::More 0.88 1.001014
# Test::Warnings 0.009 0.021
# if any 0.0603
# lib any 0.63
#
# === Test Recommends ===
#
# Module Want Have
# ---------- -------- --------
# CPAN::Meta 2.120900 2.150001
#
# === Runtime Requires ===
#
# Module Want Have
# ------------------------- ---- -------
# Dist::Zilla::Role::Plugin any 5.034
# File::Spec any 3.48
# IPC::Open3 any 1.16
# Moose any 2.1403
# Moose::Role any 2.1403
# POSIX any 1.38_03
# namespace::autoclean any 0.24
# strict any 1.08
# warnings any 1.23
#
# === Other Modules ===
#
# Module Have
# ------------- ----
# Pod::Coverage 0.23
#
t/00-report-prereqs.t .. ok
t/01-basic.t ........... ok
t/02-no-distini.t ...... ok
t/03-repeat-prompt.t ... ok
t/04-error.t ........... ok
t/zzz-check-breaks.t ... ok
All tests successful.
Files=6, Tests=9, 21 wallclock secs ( 0.07 usr 0.02 sys + 13.93 cusr 1.32 csys = 15.34 CPU)
Result: PASS
------------------------------
PREREQUISITES
------------------------------
Prerequisite modules loaded:
requires:
Module Need Have
----------------------------------------- ----- --------
Dist::Zilla::Role::Plugin 0 5.034
File::Spec 0 3.48
IPC::Open3 0 1.16
Moose 0 2.1403
Moose::Role 0 2.1403
namespace::autoclean 0 0.24
perl 5.006 5.020001
POSIX 0 1.38_03
strict 0 1.08
warnings 0 1.23
build_requires:
Module Need Have
----------------------------------------- ----- --------
Dist::Zilla::Chrome::Test 0 5.034
Dist::Zilla::MVP::Assembler::GlobalConfig 0 5.034
Dist::Zilla::MVP::Reader::Finder 0 5.034
Dist::Zilla::MVP::Section 0 5.034
Dist::Zilla::Role::BeforeBuild 0 5.034
ExtUtils::MakeMaker 0 7.04
File::Spec 0 3.48
if 0 0.0603
lib 0 0.63
Path::Tiny 0 0.068
perl 5.006 5.020001
Test::Deep 0 0.115
Test::DZil 0 5.034
Test::Fatal 0 0.014
Test::More 0.88 1.001014
Test::Warnings 0.009 0.021
configure_requires:
Module Need Have
----------------------------------------- ----- --------
Module::Build::Tiny 0.039 0.039
perl 5.006 5.020001
------------------------------
ENVIRONMENT AND OTHER CONTEXT
------------------------------
Environment variables:
DBIC_NO_WARN_BAD_PERL = 1
LC_ALL = de_DE.ISO8859-1
PATH = /usr/local/bin:/usr/bin:/bin:/usr/local/sbin:/usr/sbin:/sbin:/home/cpansand/bin/freebsd10.0:/home/cpansand/bin/sh:/home/cpansand/bin:/usr/games:/home/cpansand/devel:/home/eserte/src/srezic-misc/scripts
PERL5LIB =
PERL5OPT =
PERL5_CPANPLUS_IS_RUNNING = 90750
PERL5_CPAN_IS_RUNNING = 90750
PERL5_CPAN_IS_RUNNING_IN_RECURSION = 90713,90750
PERLDOC = -MPod::Perldoc::ToTextOverstrike
PERL_BATCH = yes
PERL_CPAN_REPORTER_CONFIG = /var/tmp/cpansmoker-1023/H63Cs_IDd7_config.ini
PERL_EXTUTILS_AUTOINSTALL = --defaultdeps
PERL_HTML_DISPLAY_CLASS = HTML::Display::Mozilla
SHELL = /usr/local/bin/zsh
TERM = screen
TMPDIR = /var/tmp/cpansmoker-1023
Perl special variables (and OS-specific diagnostics, for MSWin32):
$^X = /usr/perl5.20.1p/bin/perl5.20.1
$UID/$EUID = 1023 / 1023
$GID = 1023 1023
$EGID = 1023 1023
Perl module toolchain versions installed:
Module Have
------------------- --------
CPAN 2.10
CPAN::Meta 2.150001
Cwd 3.48
ExtUtils::CBuilder 0.280217
ExtUtils::Command 1.18
ExtUtils::Install 1.67
ExtUtils::MakeMaker 7.04
ExtUtils::Manifest 1.70
ExtUtils::ParseXS 3.24
File::Spec 3.48
JSON 2.90
JSON::PP 2.27203
Module::Build 0.4211
Module::Signature n/a
Parse::CPAN::Meta 1.4414
Test::Harness 3.30
Test::More 1.001014
YAML 1.14
YAML::Syck 1.29
version 0.9912
--
Summary of my perl5 (revision 5 version 20 subversion 1) configuration:
Platform:
osname=freebsd, osvers=10.1-release, archname=amd64-freebsd
uname='freebsd cvrsnica-freebsd-101.herceg.de 10.1-release freebsd 10.1-release #0 r274401: tue nov 11 21:02:49 utc 2014 root@releng1.nyi.freebsd.org:usrobjusrsrcsysgeneric amd64 '
config_args='-ds -e -Dprefix=/usr/perl5.20.1p'
hint=recommended, useposix=true, d_sigaction=define
useithreads=undef, usemultiplicity=undef
use64bitint=define, use64bitall=define, uselongdouble=undef
usemymalloc=n, bincompat5005=undef
Compiler:
cc='cc', ccflags ='-DHAS_FPSETMASK -DHAS_FLOATINGPOINT_H -fno-strict-aliasing -pipe -fstack-protector -I/usr/local/include',
optimize='-O',
cppflags='-DHAS_FPSETMASK -DHAS_FLOATINGPOINT_H -fno-strict-aliasing -pipe -fstack-protector -I/usr/local/include'
ccversion='', gccversion='4.2.1 Compatible FreeBSD Clang 3.4.1 (tags/RELEASE_34/dot1-final 208032)', gccosandvers=''
intsize=4, longsize=8, ptrsize=8, doublesize=8, byteorder=12345678
d_longlong=define, longlongsize=8, d_longdbl=define, longdblsize=16
ivtype='long', ivsize=8, nvtype='double', nvsize=8, Off_t='off_t', lseeksize=8
alignbytes=8, prototype=define
Linker and Libraries:
ld='cc', ldflags ='-pthread -Wl,-E -fstack-protector -L/usr/local/lib'
libpth=/usr/lib /usr/local/lib /usr/include/clang/3.4.1 /usr/lib
libs=-lm -lcrypt -lutil -lc
perllibs=-lm -lcrypt -lutil -lc
libc=, so=so, useshrplib=false, libperl=libperl.a
gnulibc_version=''
Dynamic Linking:
dlsrc=dl_dlopen.xs, dlext=so, d_dlsymun=undef, ccdlflags=' '
cccdlflags='-DPIC -fPIC', lddlflags='-shared -L/usr/local/lib -fstack-protector'
Characteristics of this binary (from libperl):
Compile-time options: HAS_TIMES PERLIO_LAYERS PERL_DONT_CREATE_GVSV
PERL_HASH_FUNC_ONE_AT_A_TIME_HARD PERL_MALLOC_WRAP
PERL_NEW_COPY_ON_WRITE PERL_PRESERVE_IVUV
USE_64_BIT_ALL USE_64_BIT_INT USE_LARGE_FILES
USE_LOCALE USE_LOCALE_COLLATE USE_LOCALE_CTYPE
USE_LOCALE_NUMERIC USE_PERLIO USE_PERL_ATOF
Built under freebsd
Compiled at Jan 29 2015 08:45:50
%ENV:
PERL5LIB=""
PERL5OPT=""
PERL5_CPANPLUS_IS_RUNNING="90750"
PERL5_CPAN_IS_RUNNING="90750"
PERL5_CPAN_IS_RUNNING_IN_RECURSION="90713,90750"
PERLDOC="-MPod::Perldoc::ToTextOverstrike"
PERL_BATCH="yes"
PERL_CPAN_REPORTER_CONFIG="/var/tmp/cpansmoker-1023/H63Cs_IDd7_config.ini"
PERL_EXTUTILS_AUTOINSTALL="--defaultdeps"
PERL_HTML_DISPLAY_CLASS="HTML::Display::Mozilla"
@INC:
/usr/perl5.20.1p/lib/site_perl/5.20.1/amd64-freebsd
/usr/perl5.20.1p/lib/site_perl/5.20.1
/usr/perl5.20.1p/lib/5.20.1/amd64-freebsd
/usr/perl5.20.1p/lib/5.20.1
.