Debug-Client v0.31 Perl 5 v5.18.4 amd64-freebsd

Status
Pass
From
Slaven Rezić (SREZIC)
Dist
Debug-Client v0.31
Platform
Perl 5 v5.18.4 amd64-freebsd
Date
2018-01-21 23:56:36
ID
b6e6e7ea-ff06-11e7-943f-9e5a3f5a6b05
This distribution has been tested as part of the CPAN Testers
project, supporting the Perl programming language.  See
http://wiki.cpantesters.org/ for more information or email
questions to cpan-testers-discuss@perl.org


--
Dear Mohammad S Anwar,

This is a computer-generated report for Debug-Client-0.31
on perl 5.18.4, created by CPAN-Reporter-1.2018.

Thank you for uploading your work to CPAN.  Congratulations!
All tests were successful.

Sections of this report:

    * Tester comments
    * Program output
    * Prerequisites
    * Environment and other context

------------------------------
TESTER COMMENTS
------------------------------

Additional comments from tester:

none provided

------------------------------
PROGRAM OUTPUT
------------------------------

Output from '/usr/bin/make test':

PERL_DL_NONLAZY=1 "/usr/perl5.18.4p/bin/perl5.18.4" "-MExtUtils::Command::MM" "-MTest::Harness" "-e" "undef *Test::Harness::Switches; test_harness(0, 'inc', 'blib/lib', 'blib/arch')" t/*.t
t/00-check-deps.t ...... ok
# Prerequisite Report:
#    Version Module               
#   -------- ---------------------
#       1.38 Carp                 
#       5.72 Exporter             
#       7.30 ExtUtils::MakeMaker  
#      1.002 File::HomeDir        
#       3.40 File::Spec           
#       3.40 File::Spec::Functions
#     0.2304 File::Temp           
#       0.39 IO::Socket::IP       
#       1.49 List::Util           
#        2.3 PadWalker            
#       1.14 Term::ReadLine       
#       1.35 Term::ReadLine::Gnu  
#      0.010 Test::CheckDeps      
#       0.50 Test::Class          
#      1.127 Test::Deep           
#   1.302120 Test::More           
#       1.51 Test::Pod            
#       1.10 Test::Pod::Coverage  
#       0.10 Test::Requires       
#    missing Win32                
#    missing Win32::Process       
#       1.33 constant             
#      0.236 parent               
#     0.9918 version              
t/00-report-prereqs.t .. ok
# Info: Testing Debug::Client 0.31
# Info: Perl v5.18.4
t/01-compile.t ......... ok
t/02-exports.t ......... ok
t/03-pod.t ............. skipped: Author tests, not required for installation.
t/04-pod-coverage.t .... skipped: Author tests, not required for installation.
# 
# Info: Perl v5.18.4
# Info: OS freebsd
# Info: Term::ReadLine::Gnu installed
# Info: Using ReadLine implementation -> Term::ReadLine::Gnu
# INFO: $ENV{TERM} -> screen
t/06-term.t ............ ok
t/07-initialize.t ...... ok
t/08-io.t .............. ok
t/10-top_tail.t ........ ok
t/10-top_tail_old.t .... ok
t/11-add.t ............. ok
t/13-return.t .......... ok
t/14-run.t ............. ok
# Info: perl5db version 1.39_11
t/15-run_to_line.t ..... ok
t/16-run_to_sub.t ...... ok
t/17-stepin.t .......... ok
t/18-stepout.t ......... ok
t/19-stepover.t ........ ok
t/20-get_value.t ....... ok
t/21-toggle_trace.t .... ok
t/22-subnames.t ........ ok
t/23-breakpoints.t ..... ok
t/24-y_zero.t .......... ok
t/25-get_v_vars.t ...... ok
t/26-get_x_vars.t ...... ok
t/27-get_p_exp.t ....... ok
t/28-get_h_var.t ....... ok
# Info: ComamandSet = '580'
t/29-options.t ......... ok
t/40-test_1415-old.t ... ok
t/40-test_1415.t ....... ok
t/99-perldb.t .......... ok
# Prerequisite Report:
#    Version Module               
#   -------- ---------------------
#       1.38 Carp                 
#       5.72 Exporter             
#       7.30 ExtUtils::MakeMaker  
#      1.002 File::HomeDir        
#       3.40 File::Spec           
#       3.40 File::Spec::Functions
#     0.2304 File::Temp           
#       0.39 IO::Socket::IP       
#       1.49 List::Util           
#        2.3 PadWalker            
#       1.14 Term::ReadLine       
#       1.35 Term::ReadLine::Gnu  
#      0.010 Test::CheckDeps      
#       0.50 Test::Class          
#      1.127 Test::Deep           
#   1.302120 Test::More           
#       1.51 Test::Pod            
#       1.10 Test::Pod::Coverage  
#       0.10 Test::Requires       
#    missing Win32                
#    missing Win32::Process       
#       1.33 constant             
#      0.236 parent               
#     0.9918 version              
t/report-prereqs.t ..... ok
All tests successful.
Files=33, Tests=182, 61 wallclock secs ( 0.16 usr  0.12 sys +  4.62 cusr  1.93 csys =  6.83 CPU)
Result: PASS

------------------------------
PREREQUISITES
------------------------------

Prerequisite modules loaded:

requires:

    Module              Need     Have    
    ------------------- -------- --------
    Carp                1.3301   1.38    
    constant            1.27     1.33    
    Exporter            5.70     5.72    
    IO::Socket::IP      0.29     0.39    
    PadWalker           1.98     2.3     
    perl                5.010001 5.018004
    Term::ReadLine      1.14     1.14    
    Term::ReadLine::Gnu 1.20     1.35    

build_requires:

    Module              Need     Have    
    ------------------- -------- --------
    ExtUtils::MakeMaker 6.59     7.30    
    File::HomeDir       1        1.002   
    File::Temp          0.2304   0.2304  
    List::Util          1.38     1.49    
    parent              0.228    0.236   
    Test::CheckDeps     0.01     0.010   
    Test::Class         0.42     0.50    
    Test::Deep          0.112    1.127   
    Test::More          1.001003 1.302120
    Test::Requires      0.07     0.10    
    version             0.9908   0.9918  

configure_requires:

    Module              Need     Have    
    ------------------- -------- --------
    ExtUtils::MakeMaker 6.59     7.30    


------------------------------
ENVIRONMENT AND OTHER CONTEXT
------------------------------

Environment variables:

    PATH = /usr/local/bin:/usr/bin:/bin:/usr/local/sbin:/usr/sbin:/sbin:/home/cpansand/bin/freebsd12.0:/home/cpansand/bin/sh:/home/cpansand/bin:/usr/games:/home/cpansand/devel:/home/eserte/src/srezic-misc/scripts
    PERL5LIB = /home/cpansand/.cpan/build/2018012206/Exporter-5.72-c3HzCq/blib/arch:/home/cpansand/.cpan/build/2018012206/Exporter-5.72-c3HzCq/blib/lib:/home/cpansand/.cpan/build/2018012206/Term-ReadLine-1.14-0RXhD4/blib/arch:/home/cpansand/.cpan/build/2018012206/Term-ReadLine-1.14-0RXhD4/blib/lib
    PERL5OPT = 
    PERL5_CPANPLUS_IS_RUNNING = 34283
    PERL5_CPAN_IS_RUNNING = 34283
    PERL5_CPAN_IS_RUNNING_IN_RECURSION = 32564,34283
    PERLDOC = -MPod::Perldoc::ToTextOverstrike
    PERL_BATCH = yes
    PERL_CANARY_STABILITY_NOPROMPT = 1
    PERL_CPAN_REPORTER_CONFIG = /var/tmp/cpansmoker-1023/2018012203/cpanreporter_004_config.ini
    PERL_EXTUTILS_AUTOINSTALL = --defaultdeps
    SHELL = /usr/local/bin/zsh
    TERM = screen
    TMPDIR = /var/tmp/cpansmoker-1023/2018012203

Perl special variables (and OS-specific diagnostics, for MSWin32):

    $^X = /usr/perl5.18.4p/bin/perl5.18.4
    $UID/$EUID = 1023 / 1023
    $GID = 1023 1023
    $EGID = 1023 1023

Perl module toolchain versions installed:

    Module              Have    
    ------------------- --------
    CPAN                2.00    
    CPAN::Meta          2.150010
    Cwd                 3.40    
    ExtUtils::CBuilder  0.280230
    ExtUtils::Command   7.30    
    ExtUtils::Install   2.06    
    ExtUtils::MakeMaker 7.30    
    ExtUtils::Manifest  1.70    
    ExtUtils::ParseXS   3.35    
    File::Spec          3.40    
    JSON                2.97001 
    JSON::PP            2.97001 
    Module::Build       0.4224  
    Module::Signature   0.81    
    Parse::CPAN::Meta   2.150010
    Test::Harness       3.39    
    Test::More          1.302120
    YAML                1.24    
    YAML::Syck          1.30    
    version             0.9918  


--

Summary of my perl5 (revision 5 version 18 subversion 4) configuration:
   
  Platform:
    osname=freebsd, osvers=12.0-current, archname=amd64-freebsd
    uname='freebsd ali1.bbbike.org 12.0-current freebsd 12.0-current #0 bd8385a990e(master)-dirty: fri nov 17 03:13:11 utc 2017 root@ali1.bbbike.org:usrobjhomeprojectsfreebsdamd64.amd64sysgeneric-nodebug amd64 '
    config_args='-ds -e -Dprefix=/usr/perl5.18.4p -Dcf_email=srezic@cpan.org -Doptimize=-O2 -pipe'
    hint=recommended, useposix=true, d_sigaction=define
    useithreads=undef, usemultiplicity=undef
    useperlio=define, d_sfio=undef, uselargefiles=define, usesocks=undef
    use64bitint=define, use64bitall=define, uselongdouble=undef
    usemymalloc=n, bincompat5005=undef
  Compiler:
    cc='cc', ccflags ='-DHAS_FPSETMASK -DHAS_FLOATINGPOINT_H -fno-strict-aliasing -pipe -fstack-protector -I/usr/local/include',
    optimize='-O2 -pipe',
    cppflags='-DHAS_FPSETMASK -DHAS_FLOATINGPOINT_H -fno-strict-aliasing -pipe -fstack-protector -I/usr/local/include'
    ccversion='', gccversion='4.2.1 Compatible FreeBSD Clang 5.0.0 (tags/RELEASE_500/final 312559)', gccosandvers=''
    intsize=4, longsize=8, ptrsize=8, doublesize=8, byteorder=12345678
    d_longlong=define, longlongsize=8, d_longdbl=define, longdblsize=16
    ivtype='long', ivsize=8, nvtype='double', nvsize=8, Off_t='off_t', lseeksize=8
    alignbytes=8, prototype=define
  Linker and Libraries:
    ld='cc', ldflags ='-pthread -Wl,-E  -fstack-protector -L/usr/local/lib'
    libpth=/usr/lib /usr/local/lib
    libs=-lgdbm -lm -lcrypt -lutil -lc
    perllibs=-lm -lcrypt -lutil -lc
    libc=, so=so, useshrplib=false, libperl=libperl.a
    gnulibc_version=''
  Dynamic Linking:
    dlsrc=dl_dlopen.xs, dlext=so, d_dlsymun=undef, ccdlflags=' '
    cccdlflags='-DPIC -fPIC', lddlflags='-shared  -L/usr/local/lib -fstack-protector'


Characteristics of this binary (from libperl): 
  Compile-time options: HAS_TIMES PERLIO_LAYERS PERL_DONT_CREATE_GVSV
                        PERL_HASH_FUNC_ONE_AT_A_TIME_HARD PERL_MALLOC_WRAP
                        PERL_PRESERVE_IVUV PERL_SAWAMPERSAND USE_64_BIT_ALL
                        USE_64_BIT_INT USE_LARGE_FILES USE_LOCALE
                        USE_LOCALE_COLLATE USE_LOCALE_CTYPE
                        USE_LOCALE_NUMERIC USE_PERLIO USE_PERL_ATOF
  Built under freebsd
  Compiled at Nov 17 2017 06:44:20
  %ENV:
    PERL5LIB="/home/cpansand/.cpan/build/2018012206/Exporter-5.72-c3HzCq/blib/arch:/home/cpansand/.cpan/build/2018012206/Exporter-5.72-c3HzCq/blib/lib:/home/cpansand/.cpan/build/2018012206/Term-ReadLine-1.14-0RXhD4/blib/arch:/home/cpansand/.cpan/build/2018012206/Term-ReadLine-1.14-0RXhD4/blib/lib"
    PERL5OPT=""
    PERL5_CPANPLUS_IS_RUNNING="34283"
    PERL5_CPAN_IS_RUNNING="34283"
    PERL5_CPAN_IS_RUNNING_IN_RECURSION="32564,34283"
    PERLDOC="-MPod::Perldoc::ToTextOverstrike"
    PERL_BATCH="yes"
    PERL_CANARY_STABILITY_NOPROMPT="1"
    PERL_CPAN_REPORTER_CONFIG="/var/tmp/cpansmoker-1023/2018012203/cpanreporter_004_config.ini"
    PERL_EXTUTILS_AUTOINSTALL="--defaultdeps"
  @INC:
    /home/cpansand/.cpan/build/2018012206/Exporter-5.72-c3HzCq/blib/arch
    /home/cpansand/.cpan/build/2018012206/Exporter-5.72-c3HzCq/blib/lib
    /home/cpansand/.cpan/build/2018012206/Term-ReadLine-1.14-0RXhD4/blib/arch
    /home/cpansand/.cpan/build/2018012206/Term-ReadLine-1.14-0RXhD4/blib/lib
    /usr/perl5.18.4p/lib/site_perl/5.18.4/amd64-freebsd
    /usr/perl5.18.4p/lib/site_perl/5.18.4
    /usr/perl5.18.4p/lib/5.18.4/amd64-freebsd
    /usr/perl5.18.4p/lib/5.18.4
    .