Mail-ListDetector v1.04 Perl 5 v5.24.0 x86_64-linux

Status
Pass
From
Slaven Rezić (SREZIC)
Dist
Mail-ListDetector v1.04
Platform
Perl 5 v5.24.0 x86_64-linux
Date
2018-03-03 21:27:45
ID
b70ad1a8-1f29-11e8-bc22-9a2d934317f3
This distribution has been tested as part of the CPAN Testers
project, supporting the Perl programming language.  See
http://wiki.cpantesters.org/ for more information or email
questions to cpan-testers-discuss@perl.org


--
Dear Michael Stevens,

This is a computer-generated report for Mail-ListDetector-1.04
on perl 5.24.0, created by CPAN-Reporter-1.2018.

Thank you for uploading your work to CPAN.  Congratulations!
All tests were successful.

Sections of this report:

    * Tester comments
    * Program output
    * Prerequisites
    * Environment and other context

------------------------------
TESTER COMMENTS
------------------------------

Additional comments from tester:

none provided

------------------------------
PROGRAM OUTPUT
------------------------------

Output from '/usr/bin/make test':

PERL_DL_NONLAZY=1 "/opt/perl-5.24.0/bin/perl" "-MExtUtils::Command::MM" "-MTest::Harness" "-e" "undef *Test::Harness::Switches; test_harness(0, 'blib/lib', 'blib/arch')" t/*.t
t/01_require.t ............... ok
t/02_regular_mail.t .......... ok
t/03_mailman.t ............... ok
t/04_ezmlm.t ................. ok
t/05_smartlist.t ............. ok
t/06_majordomo.t ............. ok
t/07_sympa.t ................. ok
t/08_listar.t ................ ok
t/09_yahoogroups.t ........... ok
t/10_mailman_dot.t ........... ok
t/12_ecartis.t ............... ok
t/13_fml.t ................... ok
t/14_communigatepro.t ........ ok
t/15_listbox.t ............... ok
t/16_fml_announce.t .......... ok
t/17_listserv.t .............. ok
t/18_listserv.t .............. ok
t/19_communigate.t ........... ok
t/20_communigatepro.t ........ ok
t/21_rfc2919.t ............... ok
t/22_listserv.t .............. ok
t/23_autoshare.t ............. ok
t/24_autoshare.t ............. ok
t/25_letterrip.t ............. ok
t/26_letterrip.t ............. ok
t/27_liststar.t .............. ok
t/28_liststar.t .............. ok
t/29_liststar.t .............. ok
t/30_liststar.t .............. ok
t/31_lyris.t ................. ok
t/32_lyris.t ................. ok
t/33_lyris.t ................. ok
t/34_lyris.t ................. ok
t/35_lyris.t ................. ok
t/36_lyris.t ................. ok
t/37_impossible_majordomo.t .. ok
t/38_majordomo.t ............. ok
t/39_googlegroups.t .......... ok
t/40_onelist.t ............... ok
t/41_pod.t ................... ok
t/42_pod_coverage.t .......... ok
All tests successful.
Files=41, Tests=240, 24 wallclock secs ( 0.08 usr  0.13 sys + 19.34 cusr  3.47 csys = 23.02 CPU)
Result: PASS

------------------------------
PREREQUISITES
------------------------------

Prerequisite modules loaded:

requires:

    Module              Need  Have    
    ------------------- ----- --------
    Carp                0     1.40    
    Email::Abstract     3.001 3.008   
    Email::Valid        0.182 1.202   
    Mail::Internet      2.04  2.20    
    Test::More          0.08  1.302125
    URI                 1.1   1.73    

build_requires:

    Module              Need  Have    
    ------------------- ----- --------
    ExtUtils::MakeMaker 0     7.32    

configure_requires:

    Module              Need  Have    
    ------------------- ----- --------
    ExtUtils::MakeMaker 0     7.32    


------------------------------
ENVIRONMENT AND OTHER CONTEXT
------------------------------

Environment variables:

    LANG = en_US.UTF-8
    PATH = /usr/local/bin:/usr/bin:/bin:/usr/local/sbin:/usr/sbin:/sbin:/home/cpansand/bin/linux-gnu:/home/cpansand/bin/sh:/home/cpansand/bin:/usr/games:/home/cpansand/devel:/home/eserte/src/srezic-misc/scripts
    PERL5LIB = /home/cpansand/.cpan/build/2018030318/Class-DBI-v3.0.17-0/blib/arch:/home/cpansand/.cpan/build/2018030318/Class-DBI-v3.0.17-0/blib/lib:/home/cpansand/.cpan/build/2018030318/UNIVERSAL-moniker-0.08-0/blib/arch:/home/cpansand/.cpan/build/2018030318/UNIVERSAL-moniker-0.08-0/blib/lib:/home/cpansand/.cpan/build/2018030318/Ima-DBI-0.35-0/blib/arch:/home/cpansand/.cpan/build/2018030318/Ima-DBI-0.35-0/blib/lib:/home/cpansand/.cpan/build/2018030318/DBIx-ContextualFetch-1.03-0/blib/arch:/home/cpansand/.cpan/build/2018030318/DBIx-ContextualFetch-1.03-0/blib/lib
    PERL5OPT = 
    PERL5_CPANPLUS_IS_RUNNING = 23447
    PERL5_CPAN_IS_RUNNING = 23447
    PERL5_CPAN_IS_RUNNING_IN_RECURSION = 13017,23447
    PERLDOC = -MPod::Perldoc::ToTextOverstrike
    PERL_BATCH = yes
    PERL_CANARY_STABILITY_NOPROMPT = 1
    PERL_CPAN_REPORTER_CONFIG = /var/tmp/cpansmoker-1023/2018030318/cpanreporter_000_config.ini
    PERL_EXTUTILS_AUTOINSTALL = --defaultdeps
    SHELL = /usr/bin/zsh
    TERM = screen
    TMPDIR = /var/tmp/cpansmoker-1023/2018030318

Perl special variables (and OS-specific diagnostics, for MSWin32):

    $^X = /opt/perl-5.24.0/bin/perl
    $UID/$EUID = 1023 / 1023
    $GID = 1023 1023
    $EGID = 1023 1023

Perl module toolchain versions installed:

    Module              Have    
    ------------------- --------
    CPAN                2.16    
    CPAN::Meta          2.150010
    Cwd                 3.63    
    ExtUtils::CBuilder  0.280230
    ExtUtils::Command   7.32    
    ExtUtils::Install   2.06    
    ExtUtils::MakeMaker 7.32    
    ExtUtils::Manifest  1.70    
    ExtUtils::ParseXS   3.31    
    File::Spec          3.63    
    JSON                2.97001 
    JSON::PP            2.95    
    Module::Build       0.4224  
    Module::Signature   0.81    
    Parse::CPAN::Meta   2.150010
    Test::Harness       3.41    
    Test::More          1.302125
    YAML                1.24    
    YAML::Syck          1.30    
    version             0.9916  


--

Summary of my perl5 (revision 5 version 24 subversion 0) configuration:
   
  Platform:
    osname=linux, osvers=4.4.0-81-generic, archname=x86_64-linux
    uname='linux ubuntu16 4.4.0-81-generic #104-ubuntu smp wed jun 14 08:17:06 utc 2017 x86_64 x86_64 x86_64 gnulinux '
    config_args='-ds -e -Dprefix=/opt/perl-5.24.0 -Dcf_email=srezic@cpan.org'
    hint=recommended, useposix=true, d_sigaction=define
    useithreads=undef, usemultiplicity=undef
    use64bitint=define, use64bitall=define, uselongdouble=undef
    usemymalloc=n, bincompat5005=undef
  Compiler:
    cc='cc', ccflags ='-fwrapv -fno-strict-aliasing -pipe -fstack-protector-strong -I/usr/local/include -D_LARGEFILE_SOURCE -D_FILE_OFFSET_BITS=64',
    optimize='-O2',
    cppflags='-fwrapv -fno-strict-aliasing -pipe -fstack-protector-strong -I/usr/local/include'
    ccversion='', gccversion='5.4.0 20160609', gccosandvers=''
    intsize=4, longsize=8, ptrsize=8, doublesize=8, byteorder=12345678, doublekind=3
    d_longlong=define, longlongsize=8, d_longdbl=define, longdblsize=16, longdblkind=3
    ivtype='long', ivsize=8, nvtype='double', nvsize=8, Off_t='off_t', lseeksize=8
    alignbytes=8, prototype=define
  Linker and Libraries:
    ld='cc', ldflags =' -fstack-protector-strong -L/usr/local/lib'
    libpth=/usr/local/lib /usr/lib/gcc/x86_64-linux-gnu/5/include-fixed /usr/include/x86_64-linux-gnu /usr/lib /lib/x86_64-linux-gnu /lib/../lib /usr/lib/x86_64-linux-gnu /usr/lib/../lib /lib
    libs=-lpthread -lnsl -lgdbm -ldb -ldl -lm -lcrypt -lutil -lc -lgdbm_compat
    perllibs=-lpthread -lnsl -ldl -lm -lcrypt -lutil -lc
    libc=libc-2.23.so, so=so, useshrplib=false, libperl=libperl.a
    gnulibc_version='2.23'
  Dynamic Linking:
    dlsrc=dl_dlopen.xs, dlext=so, d_dlsymun=undef, ccdlflags='-Wl,-E'
    cccdlflags='-fPIC', lddlflags='-shared -O2 -L/usr/local/lib -fstack-protector-strong'


Characteristics of this binary (from libperl): 
  Compile-time options: HAS_TIMES PERLIO_LAYERS PERL_COPY_ON_WRITE
                        PERL_DONT_CREATE_GVSV
                        PERL_HASH_FUNC_ONE_AT_A_TIME_HARD PERL_MALLOC_WRAP
                        PERL_PRESERVE_IVUV USE_64_BIT_ALL USE_64_BIT_INT
                        USE_LARGE_FILES USE_LOCALE USE_LOCALE_COLLATE
                        USE_LOCALE_CTYPE USE_LOCALE_NUMERIC USE_LOCALE_TIME
                        USE_PERLIO USE_PERL_ATOF
  Built under linux
  Compiled at Jun 21 2017 18:22:24
  %ENV:
    PERL5LIB="/home/cpansand/.cpan/build/2018030318/Class-DBI-v3.0.17-0/blib/arch:/home/cpansand/.cpan/build/2018030318/Class-DBI-v3.0.17-0/blib/lib:/home/cpansand/.cpan/build/2018030318/UNIVERSAL-moniker-0.08-0/blib/arch:/home/cpansand/.cpan/build/2018030318/UNIVERSAL-moniker-0.08-0/blib/lib:/home/cpansand/.cpan/build/2018030318/Ima-DBI-0.35-0/blib/arch:/home/cpansand/.cpan/build/2018030318/Ima-DBI-0.35-0/blib/lib:/home/cpansand/.cpan/build/2018030318/DBIx-ContextualFetch-1.03-0/blib/arch:/home/cpansand/.cpan/build/2018030318/DBIx-ContextualFetch-1.03-0/blib/lib"
    PERL5OPT=""
    PERL5_CPANPLUS_IS_RUNNING="23447"
    PERL5_CPAN_IS_RUNNING="23447"
    PERL5_CPAN_IS_RUNNING_IN_RECURSION="13017,23447"
    PERLDOC="-MPod::Perldoc::ToTextOverstrike"
    PERL_BATCH="yes"
    PERL_CANARY_STABILITY_NOPROMPT="1"
    PERL_CPAN_REPORTER_CONFIG="/var/tmp/cpansmoker-1023/2018030318/cpanreporter_000_config.ini"
    PERL_EXTUTILS_AUTOINSTALL="--defaultdeps"
  @INC:
    /home/cpansand/.cpan/build/2018030318/Class-DBI-v3.0.17-0/blib/arch
    /home/cpansand/.cpan/build/2018030318/Class-DBI-v3.0.17-0/blib/lib
    /home/cpansand/.cpan/build/2018030318/UNIVERSAL-moniker-0.08-0/blib/arch
    /home/cpansand/.cpan/build/2018030318/UNIVERSAL-moniker-0.08-0/blib/lib
    /home/cpansand/.cpan/build/2018030318/Ima-DBI-0.35-0/blib/arch
    /home/cpansand/.cpan/build/2018030318/Ima-DBI-0.35-0/blib/lib
    /home/cpansand/.cpan/build/2018030318/DBIx-ContextualFetch-1.03-0/blib/arch
    /home/cpansand/.cpan/build/2018030318/DBIx-ContextualFetch-1.03-0/blib/lib
    /opt/perl-5.24.0/lib/site_perl/5.24.0/x86_64-linux
    /opt/perl-5.24.0/lib/site_perl/5.24.0
    /opt/perl-5.24.0/lib/5.24.0/x86_64-linux
    /opt/perl-5.24.0/lib/5.24.0
    .