Test-Settings v0.003 Perl 5 v5.28.1 amd64-netbsd-thread-multi

Status
Pass
From
Nigel Horne
Dist
Test-Settings v0.003
Platform
Perl 5 v5.28.1 amd64-netbsd-thread-multi
Date
2019-03-19 23:42:53
ID
b72461c4-4aa0-11e9-9751-1d7a62b887d7
This distribution has been tested as part of the CPAN Testers
project, supporting the Perl programming language.  See
http://wiki.cpantesters.org/ for more information or email
questions to cpan-testers-discuss@perl.org


--
Dear Matthew Horsfall (alh),

This is a computer-generated report for Test-Settings-0.003
on perl 5.28.1, created by CPAN-Reporter-1.2018.

Thank you for uploading your work to CPAN.  Congratulations!
All tests were successful.

Sections of this report:

    * Tester comments
    * Program output
    * Prerequisites
    * Environment and other context

------------------------------
TESTER COMMENTS
------------------------------

Additional comments from tester:

this report is from an automated smoke testing program
and was not reviewed by a human for accuracy

------------------------------
PROGRAM OUTPUT
------------------------------

Output from '/usr/bin/make test':

PERL_DL_NONLAZY=1 "/home/njh/perl5/perlbrew/perls/perl-5.28.1-thread/bin/perl5.28.1" "-MExtUtils::Command::MM" "-MTest::Harness" "-e" "undef *Test::Harness::Switches; test_harness(0, 'blib/lib', 'blib/arch')" t/*.t
t/00_env.t .............. ok
t/01_cmd.t .............. ok
t/release-pod-syntax.t .. skipped: these tests are for release candidate testing
All tests successful.
Files=3, Tests=47,  4 wallclock secs ( 0.09 usr  0.01 sys +  2.25 cusr  1.27 csys =  3.62 CPU)
Result: PASS

------------------------------
PREREQUISITES
------------------------------

Prerequisite modules loaded:

build_requires:

    Module              Need Have    
    ------------------- ---- --------
    Test::More          0.88 1.302141

configure_requires:

    Module              Need Have    
    ------------------- ---- --------
    ExtUtils::MakeMaker 6.30 7.34    


------------------------------
ENVIRONMENT AND OTHER CONTEXT
------------------------------

Environment variables:

    AUTOMATED_TESTING = 1
    NONINTERACTIVE_TESTING = 1
    PATH = /home/njh/perl5/perlbrew/bin:/home/njh/perl5/perlbrew/perls/perl-5.28.1-thread/bin:/home/njh/src/njh/smoker/bin:/usr/bin:/bin:/usr/pkg/bin:/usr/local/bin
    PERL5LIB = /home/njh/.cpan/build/String-ShellQuote-1.04-10/blib/arch:/home/njh/.cpan/build/String-ShellQuote-1.04-10/blib/lib:/home/njh/.cpan/build/List-Flatten-0.01-10/blib/arch:/home/njh/.cpan/build/List-Flatten-0.01-10/blib/lib:/home/njh/.cpan/build/DateTime-1.50-10/blib/arch:/home/njh/.cpan/build/DateTime-1.50-10/blib/lib:/home/njh/.cpan/build/DateTime-TimeZone-2.23-10/blib/arch:/home/njh/.cpan/build/DateTime-TimeZone-2.23-10/blib/lib:/home/njh/.cpan/build/Class-Singleton-1.5-10/blib/arch:/home/njh/.cpan/build/Class-Singleton-1.5-10/blib/lib:/home/njh/.cpan/build/DateTime-Locale-1.23-10/blib/arch:/home/njh/.cpan/build/DateTime-Locale-1.23-10/blib/lib:/home/njh/.cpan/build/Test-File-ShareDir-1.001002-10/blib/arch:/home/njh/.cpan/build/Test-File-ShareDir-1.001002-10/blib/lib:/home/njh/.cpan/build/Params-ValidationCompiler-0.30-10/blib/arch:/home/njh/.cpan/build/Params-ValidationCompiler-0.30-10/blib/lib:/home/njh/.cpan/build/Test2-Plugin-NoWarnings-0.06-10/blib/arch:/home/njh/.cpan/build/Test2-Plugin-NoWarnings-0.06-10/blib/lib:/home/njh/.cpan/build/IPC-Run3-0.048-10/blib/arch:/home/njh/.cpan/build/IPC-Run3-0.048-10/blib/lib:/home/njh/.cpan/build/Specio-0.43-10/blib/arch:/home/njh/.cpan/build/Specio-0.43-10/blib/lib
    PERL5OPT = 
    PERL5_CPANPLUS_IS_RUNNING = 7765
    PERL5_CPAN_IS_RUNNING = 7765
    PERLBREW_HOME = /home/njh/.perlbrew
    PERLBREW_MANPATH = /home/njh/perl5/perlbrew/perls/perl-5.28.1-thread/man
    PERLBREW_PATH = /home/njh/perl5/perlbrew/bin:/home/njh/perl5/perlbrew/perls/perl-5.28.1-thread/bin
    PERLBREW_PERL = perl-5.28.1-thread
    PERLBREW_ROOT = /home/njh/perl5/perlbrew
    PERLBREW_SHELLRC_VERSION = 0.82
    PERLBREW_VERSION = 0.82
    PERL_MM_USE_DEFAULT = 1
    PERL_USE_UNSAFE_INC = 1
    SHELL = /bin/sh
    TMPDIR = /tmp/testwrapper.24732

Perl special variables (and OS-specific diagnostics, for MSWin32):

    $^X = /home/njh/perl5/perlbrew/perls/perl-5.28.1-thread/bin/perl5.28.1
    $UID/$EUID = 1000 / 1000
    $GID = 100 100 0
    $EGID = 100 100 0

Perl module toolchain versions installed:

    Module              Have    
    ------------------- --------
    CPAN                2.22    
    CPAN::Meta          2.150010
    Cwd                 3.75    
    ExtUtils::CBuilder  0.280230
    ExtUtils::Command   7.34    
    ExtUtils::Install   2.14    
    ExtUtils::MakeMaker 7.34    
    ExtUtils::Manifest  1.70    
    ExtUtils::ParseXS   3.39    
    File::Spec          3.75    
    JSON                4.00    
    JSON::PP            2.97001 
    Module::Build       0.4224  
    Module::Signature   n/a     
    Parse::CPAN::Meta   2.150010
    Test::Harness       3.42    
    Test::More          1.302141
    YAML                1.27    
    YAML::Syck          1.31    
    version             0.9923  


--

Summary of my perl5 (revision 5 version 28 subversion 1) configuration:
   
  Platform:
    osname=netbsd
    osvers=7.1.2
    archname=amd64-netbsd-thread-multi
    uname='netbsd vultr2.bandsman.co.uk 7.1.2 netbsd 7.1.2 (generic.201803151611z) amd64 '
    config_args='-de -Dprefix=/home/njh/perl5/perlbrew/perls/perl-5.28.1-thread -Dusedevel -Dusethreads -Accflags=-O2 -W -Wformat=2 -Wswitch -Wshadow -Wwrite-strings -Wuninitialized -Wall -pipe -fomit-frame-pointer -pedantic -D_FORTIFY_SOURCE=2 -Wpointer-arith -Wstrict-prototypes -fstack-protector -Wstack-protector -Wextra -Wbad-function-cast -Wcast-align -Wcast-qual -Wdisabled-optimization -Wendif-labels -Wfloat-equal -Wformat-nonliteral -Winline -Wmissing-declarations -Wmissing-prototypes -Wnested-externs -Wpointer-arith -Wundef -Wformat-security -ftree-vectorize -mmmx -msse -mfpmath=sse -msse2 -msse3 -msse4.1 -msse4.2 -mtune=native -Aeval:scriptdir=/home/njh/perl5/perlbrew/perls/perl-5.28.1-thread/bin'
    hint=recommended
    useposix=true
    d_sigaction=define
    useithreads=define
    usemultiplicity=define
    use64bitint=define
    use64bitall=define
    uselongdouble=undef
    usemymalloc=n
    default_inc_excludes_dot=define
    bincompat5005=undef
  Compiler:
    cc='cc'
    ccflags ='-O2 -W -Wformat=2 -Wswitch -Wshadow -Wwrite-strings -Wuninitialized -Wall -pipe -fomit-frame-pointer -pedantic -D_FORTIFY_SOURCE=2 -Wpointer-arith -Wstrict-prototypes -fstack-protector -Wstack-protector -Wextra -Wbad-function-cast -Wcast-align -Wcast-qual -Wdisabled-optimization -Wendif-labels -Wfloat-equal -Wformat-nonliteral -Winline -Wmissing-declarations -Wmissing-prototypes -Wnested-externs -Wpointer-arith -Wundef -Wformat-security -ftree-vectorize -mmmx -msse -mfpmath=sse -msse2 -msse3 -msse4.1 -msse4.2 -mtune=native -fwrapv -fno-strict-aliasing -I/usr/pkg/include'
    optimize='-O'
    cppflags='-O2 -W -Wformat=2 -Wswitch -Wshadow -Wwrite-strings -Wuninitialized -Wall -pipe -fomit-frame-pointer -pedantic -D_FORTIFY_SOURCE=2 -Wpointer-arith -Wstrict-prototypes -fstack-protector -Wstack-protector -Wextra -Wbad-function-cast -Wcast-align -Wcast-qual -Wdisabled-optimization -Wendif-labels -Wfloat-equal -Wformat-nonliteral -Winline -Wmissing-declarations -Wmissing-prototypes -Wnested-externs -Wpointer-arith -Wundef -Wformat-security -ftree-vectorize -mmmx -msse -mfpmath=sse -msse2 -msse3 -msse4.1 -msse4.2 -mtune=native -fwrapv -fno-strict-aliasing -I/usr/pkg/include'
    ccversion=''
    gccversion='4.8.5'
    gccosandvers=''
    intsize=4
    longsize=8
    ptrsize=8
    doublesize=8
    byteorder=12345678
    doublekind=3
    d_longlong=define
    longlongsize=8
    d_longdbl=define
    longdblsize=16
    longdblkind=3
    ivtype='long'
    ivsize=8
    nvtype='double'
    nvsize=8
    Off_t='off_t'
    lseeksize=8
    alignbytes=8
    prototype=define
  Linker and Libraries:
    ld='cc'
    ldflags =' -Wl,-rpath,/usr/pkg/lib -Wl,-rpath,/usr/local/lib -fstack-protector -L/usr/pkg/lib'
    libpth=/usr/include/gcc-4.8 /usr/lib /usr/pkg/lib /lib
    libs=-lpthread -lm -lcrypt -lutil -lc -lposix
    perllibs=-lpthread -lm -lcrypt -lutil -lc -lposix
    libc=/lib/libc.so
    so=so
    useshrplib=false
    libperl=libperl.a
    gnulibc_version=''
  Dynamic Linking:
    dlsrc=dl_dlopen.xs
    dlext=so
    d_dlsymun=undef
    ccdlflags='-Wl,-E '
    cccdlflags='-DPIC -fPIC '
    lddlflags='-shared  -L/usr/pkg/lib -fstack-protector'


Characteristics of this binary (from libperl): 
  Compile-time options:
    HAS_TIMES
    MULTIPLICITY
    PERLIO_LAYERS
    PERL_COPY_ON_WRITE
    PERL_DONT_CREATE_GVSV
    PERL_IMPLICIT_CONTEXT
    PERL_MALLOC_WRAP
    PERL_OP_PARENT
    PERL_PRESERVE_IVUV
    PERL_USE_DEVEL
    USE_64_BIT_ALL
    USE_64_BIT_INT
    USE_ITHREADS
    USE_LARGE_FILES
    USE_LOCALE
    USE_LOCALE_COLLATE
    USE_LOCALE_CTYPE
    USE_LOCALE_NUMERIC
    USE_LOCALE_TIME
    USE_PERLIO
    USE_PERL_ATOF
    USE_REENTRANT_API
  Locally applied patches:
    Devel::PatchPerl 1.48
  Built under netbsd
  Compiled at Dec  3 2018 15:12:01
  %ENV:
    PERL5LIB="/home/njh/.cpan/build/String-ShellQuote-1.04-10/blib/arch:/home/njh/.cpan/build/String-ShellQuote-1.04-10/blib/lib:/home/njh/.cpan/build/List-Flatten-0.01-10/blib/arch:/home/njh/.cpan/build/List-Flatten-0.01-10/blib/lib:/home/njh/.cpan/build/DateTime-1.50-10/blib/arch:/home/njh/.cpan/build/DateTime-1.50-10/blib/lib:/home/njh/.cpan/build/DateTime-TimeZone-2.23-10/blib/arch:/home/njh/.cpan/build/DateTime-TimeZone-2.23-10/blib/lib:/home/njh/.cpan/build/Class-Singleton-1.5-10/blib/arch:/home/njh/.cpan/build/Class-Singleton-1.5-10/blib/lib:/home/njh/.cpan/build/DateTime-Locale-1.23-10/blib/arch:/home/njh/.cpan/build/DateTime-Locale-1.23-10/blib/lib:/home/njh/.cpan/build/Test-File-ShareDir-1.001002-10/blib/arch:/home/njh/.cpan/build/Test-File-ShareDir-1.001002-10/blib/lib:/home/njh/.cpan/build/Params-ValidationCompiler-0.30-10/blib/arch:/home/njh/.cpan/build/Params-ValidationCompiler-0.30-10/blib/lib:/home/njh/.cpan/build/Test2-Plugin-NoWarnings-0.06-10/blib/arch:/home/njh/.cpan/build/Test2-Plugin-NoWarnings-0.06-10/blib/lib:/home/njh/.cpan/build/IPC-Run3-0.048-10/blib/arch:/home/njh/.cpan/build/IPC-Run3-0.048-10/blib/lib:/home/njh/.cpan/build/Specio-0.43-10/blib/arch:/home/njh/.cpan/build/Specio-0.43-10/blib/lib"
    PERL5OPT=""
    PERL5_CPANPLUS_IS_RUNNING="7765"
    PERL5_CPAN_IS_RUNNING="7765"
    PERLBREW_HOME="/home/njh/.perlbrew"
    PERLBREW_MANPATH="/home/njh/perl5/perlbrew/perls/perl-5.28.1-thread/man"
    PERLBREW_PATH="/home/njh/perl5/perlbrew/bin:/home/njh/perl5/perlbrew/perls/perl-5.28.1-thread/bin"
    PERLBREW_PERL="perl-5.28.1-thread"
    PERLBREW_ROOT="/home/njh/perl5/perlbrew"
    PERLBREW_SHELLRC_VERSION="0.82"
    PERLBREW_VERSION="0.82"
    PERL_MM_USE_DEFAULT="1"
    PERL_USE_UNSAFE_INC="1"
  @INC:
    /home/njh/.cpan/build/String-ShellQuote-1.04-10/blib/arch
    /home/njh/.cpan/build/String-ShellQuote-1.04-10/blib/lib
    /home/njh/.cpan/build/List-Flatten-0.01-10/blib/arch
    /home/njh/.cpan/build/List-Flatten-0.01-10/blib/lib
    /home/njh/.cpan/build/DateTime-1.50-10/blib/arch
    /home/njh/.cpan/build/DateTime-1.50-10/blib/lib
    /home/njh/.cpan/build/DateTime-TimeZone-2.23-10/blib/arch
    /home/njh/.cpan/build/DateTime-TimeZone-2.23-10/blib/lib
    /home/njh/.cpan/build/Class-Singleton-1.5-10/blib/arch
    /home/njh/.cpan/build/Class-Singleton-1.5-10/blib/lib
    /home/njh/.cpan/build/DateTime-Locale-1.23-10/blib/arch
    /home/njh/.cpan/build/DateTime-Locale-1.23-10/blib/lib
    /home/njh/.cpan/build/Test-File-ShareDir-1.001002-10/blib/arch
    /home/njh/.cpan/build/Test-File-ShareDir-1.001002-10/blib/lib
    /home/njh/.cpan/build/Params-ValidationCompiler-0.30-10/blib/arch
    /home/njh/.cpan/build/Params-ValidationCompiler-0.30-10/blib/lib
    /home/njh/.cpan/build/Test2-Plugin-NoWarnings-0.06-10/blib/arch
    /home/njh/.cpan/build/Test2-Plugin-NoWarnings-0.06-10/blib/lib
    /home/njh/.cpan/build/IPC-Run3-0.048-10/blib/arch
    /home/njh/.cpan/build/IPC-Run3-0.048-10/blib/lib
    /home/njh/.cpan/build/Specio-0.43-10/blib/arch
    /home/njh/.cpan/build/Specio-0.43-10/blib/lib
    /home/njh/perl5/perlbrew/perls/perl-5.28.1-thread/lib/site_perl/5.28.1/amd64-netbsd-thread-multi
    /home/njh/perl5/perlbrew/perls/perl-5.28.1-thread/lib/site_perl/5.28.1
    /home/njh/perl5/perlbrew/perls/perl-5.28.1-thread/lib/5.28.1/amd64-netbsd-thread-multi
    /home/njh/perl5/perlbrew/perls/perl-5.28.1-thread/lib/5.28.1
    .