Devel-Declare-Parser v0.016 Perl 5 v5.8.9 x86_64-linux
- Status
- Pass
- From
- Andreas J. König (ANDK)
- Dist
-
Devel-Declare-Parser v0.016
- Platform
- Perl 5 v5.8.9 x86_64-linux
- Date
- 2010-07-06 02:46:45
- ID
- b738b3d6-88a8-11df-b56b-1f6c01ce9048
This distribution has been tested as part of the CPAN Testers
project, supporting the Perl programming language. See
http://wiki.cpantesters.org/ for more information or email
questions to cpan-testers-discuss@perl.org
--
Dear Chad Granum,
This is a computer-generated report for Devel-Declare-Parser-0.016
on perl 5.8.9, created by CPAN-Reporter-1.1711.
Thank you for uploading your work to CPAN. Congratulations!
All tests were successful.
Sections of this report:
* Tester comments
* Program output
* Prerequisites
* Environment and other context
------------------------------
TESTER COMMENTS
------------------------------
Additional comments from tester:
this report is from an automated smoke testing program
and was not reviewed by a human for accuracy
------------------------------
PROGRAM OUTPUT
------------------------------
Output from './Build test':
t/Codeblock.t .. ok
t/Method.t ..... ok
t/Parser.t ..... ok
t/Parsers.t .... ok
t/Sublike.t .... ok
All tests successful.
Files=5, Tests=70, 0 wallclock secs ( 0.04 usr 0.01 sys + 0.23 cusr 0.02 csys = 0.30 CPU)
Result: PASS
------------------------------
PREREQUISITES
------------------------------
Prerequisite modules loaded:
requires:
Module Need Have
--------------------------- ----- --------
B::Compiling 0.02 0.02
B::Hooks::EndOfScope 0.08 0.08
Carp 0 1.10
Devel::BeginLift 0 0.001002
Devel::Declare 0.006 0.006000
Scalar::Util 0 1.23
Test::Exception::LessClever 0 0.004
Test::Simple 0.88 0.94
configure_requires:
Module Need Have
--------------------------- ----- --------
Module::Build 0.36 0.3607
------------------------------
ENVIRONMENT AND OTHER CONTEXT
------------------------------
Environment variables:
AUTOMATED_TESTING = 1
LANG = en_US.UTF-8
PATH = /home/sand/bin:/usr/local/bin:/usr/bin:/bin:/usr/bin/X11:/usr/games:/usr/local/perl/bin:/usr/X11/bin:/sbin:/usr/sbin
PERL5LIB =
PERL5OPT =
PERL5_CPANPLUS_IS_RUNNING = 29997
PERL5_CPAN_IS_RUNNING = 29997
PERL_MM_USE_DEFAULT = 1
SHELL = /usr/bin/zsh
TERM = screen
Perl special variables (and OS-specific diagnostics, for MSWin32):
$^X = /usr/local/perl-5.8.9/bin/perl
$UID/$EUID = 1001 / 1001
$GID = 1001 1001
$EGID = 1001 1001
Perl module toolchain versions installed:
Module Have
------------------- -------
CPAN 1.94_53
Cwd 3.31
ExtUtils::CBuilder 0.27
ExtUtils::Command 1.16
ExtUtils::Install 1.54
ExtUtils::MakeMaker 6.56
ExtUtils::Manifest 1.58
ExtUtils::ParseXS 2.2206
File::Spec 3.31
Module::Build 0.3607
Module::Signature 0.61
Test::Harness 3.21
Test::More 0.94
YAML 0.70
YAML::Syck 1.07
version 0.82
--
Summary of my perl5 (revision 5 version 8 subversion 9) configuration:
Platform:
osname=linux, osvers=2.6.26-1-amd64, archname=x86_64-linux
uname='linux k81 2.6.26-1-amd64 #1 smp sat jan 10 17:57:00 utc 2009 x86_64 gnulinux '
config_args='-Dprefix=/usr/local/perl-5.8.9 -des -Ui_db'
hint=recommended, useposix=true, d_sigaction=define
usethreads=undef use5005threads=undef useithreads=undef usemultiplicity=undef
useperlio=define d_sfio=undef uselargefiles=define usesocks=undef
use64bitint=define use64bitall=define uselongdouble=undef
usemymalloc=n, bincompat5005=undef
Compiler:
cc='cc', ccflags ='-fno-strict-aliasing -pipe -I/usr/local/include -D_LARGEFILE_SOURCE -D_FILE_OFFSET_BITS=64',
optimize='-O2',
cppflags='-fno-strict-aliasing -pipe -I/usr/local/include'
ccversion='', gccversion='4.3.2', gccosandvers=''
intsize=4, longsize=8, ptrsize=8, doublesize=8, byteorder=12345678
d_longlong=define, longlongsize=8, d_longdbl=define, longdblsize=16
ivtype='long', ivsize=8, nvtype='double', nvsize=8, Off_t='off_t', lseeksize=8
alignbytes=8, prototype=define
Linker and Libraries:
ld='cc', ldflags =' -L/usr/local/lib'
libpth=/usr/local/lib /lib /usr/lib /lib64 /usr/lib64
libs=-lnsl -lgdbm -ldb -ldl -lm -lcrypt -lutil -lc
perllibs=-lnsl -ldl -lm -lcrypt -lutil -lc
libc=/lib/libc-2.7.so, so=so, useshrplib=false, libperl=libperl.a
gnulibc_version='2.7'
Dynamic Linking:
dlsrc=dl_dlopen.xs, dlext=so, d_dlsymun=undef, ccdlflags='-Wl,-E'
cccdlflags='-fPIC', lddlflags='-shared -O2 -L/usr/local/lib'
Characteristics of this binary (from libperl):
Compile-time options: PERL_MALLOC_WRAP USE_64_BIT_ALL USE_64_BIT_INT
USE_FAST_STDIO USE_LARGE_FILES USE_PERLIO
Built under linux
Compiled at May 17 2009 07:12:37
%ENV:
PERL5LIB=""
PERL5OPT=""
PERL5_CPANPLUS_IS_RUNNING="29997"
PERL5_CPAN_IS_RUNNING="29997"
PERL_MM_USE_DEFAULT="1"
@INC:
/usr/local/perl-5.8.9/lib/5.8.9/x86_64-linux
/usr/local/perl-5.8.9/lib/5.8.9
/usr/local/perl-5.8.9/lib/site_perl/5.8.9/x86_64-linux
/usr/local/perl-5.8.9/lib/site_perl/5.8.9
.