Chart vv2.403.9 Perl 5 v5.18.3 x86_64-linux-thread-multi-ld

Status
Pass
From
Andreas J. König (ANDK)
Dist
Chart vv2.403.9
Platform
Perl 5 v5.18.3 x86_64-linux-thread-multi-ld
Date
2022-11-30 02:07:17
ID
b744d6e8-7053-11ed-8288-434c1259f48f
This distribution has been tested as part of the CPAN Testers
project, supporting the Perl programming language.  See
http://wiki.cpantesters.org/ for more information or email
questions to cpan-testers-discuss@perl.org


--
Dear Herbert Breunung,

This is a computer-generated report for Chart-v2.403.9
on perl 5.18.3, created by CPAN-Reporter-1.2018.

Thank you for uploading your work to CPAN.  Congratulations!
All tests were successful.

Sections of this report:

    * Tester comments
    * Program output
    * Prerequisites
    * Environment and other context

------------------------------
TESTER COMMENTS
------------------------------

Additional comments from tester:

this report is from an automated smoke testing program
and was not reviewed by a human for accuracy

------------------------------
PROGRAM OUTPUT
------------------------------

Output from '/usr/bin/make test':

PERL_DL_NONLAZY=1 "/home/sand/src/perl/repoperls/installed-perls/host/k93msid/v5.18.3/8854/bin/perl" "-MExtUtils::Command::MM" "-MTest::Harness" "-e" "undef *Test::Harness::Switches; test_harness(0, 'blib/lib', 'blib/arch')" t/*.t
t/bars.t ........... ok
t/bars_10.t ........ ok
Subroutine main::tmpnam redefined at /home/sand/src/perl/repoperls/installed-perls/host/k93msid/v5.18.3/8854/lib/site_perl/5.18.3/Exporter.pm line 66.
 at t/bars_11.t line 7.
t/bars_11.t ........ ok
Subroutine main::tmpnam redefined at /home/sand/src/perl/repoperls/installed-perls/host/k93msid/v5.18.3/8854/lib/site_perl/5.18.3/Exporter.pm line 66.
 at t/bars_12.t line 7.
t/bars_12.t ........ ok
t/bars_2.t ......... ok
t/bars_3.t ......... ok
t/bars_4.t ......... ok
t/bars_5.t ......... ok
t/bars_6.t ......... ok
Subroutine main::tmpnam redefined at /home/sand/src/perl/repoperls/installed-perls/host/k93msid/v5.18.3/8854/lib/site_perl/5.18.3/Exporter.pm line 66.
 at t/bars_7.t line 7.
t/bars_7.t ......... ok
Subroutine main::tmpnam redefined at /home/sand/src/perl/repoperls/installed-perls/host/k93msid/v5.18.3/8854/lib/site_perl/5.18.3/Exporter.pm line 66.
 at t/bars_8.t line 7.
t/bars_8.t ......... ok
Subroutine main::tmpnam redefined at /home/sand/src/perl/repoperls/installed-perls/host/k93msid/v5.18.3/8854/lib/site_perl/5.18.3/Exporter.pm line 66.
 at t/bars_9.t line 7.
t/bars_9.t ......... ok
t/composite.t ...... ok
t/composite_1.t .... ok
t/composite_2.t .... ok
t/composite_3.t .... ok
t/composite_4.t .... ok
t/composite_5.t .... ok
t/composite_6.t .... ok
t/composite_7.t .... ok
t/composite_8.t .... ok
t/composite_f.t .... ok
t/direction_1.t .... ok
t/direction_2.t .... ok
t/direction_3.t .... ok
t/direction_4.t .... ok
t/error_1.t ........ ok
t/error_2.t ........ ok
t/f_ticks.t ........ ok
t/f_ticks_1.t ...... ok
t/hbars_1.t ........ ok
t/hbars_2.t ........ ok
t/hbars_3.t ........ ok
t/hbars_4.t ........ ok
t/Humidity.t ....... ok
t/lines.t .......... ok
t/lines_1.t ........ ok
t/lines_2.t ........ ok
t/lines_3.t ........ ok
t/lines_4.t ........ ok
t/lines_5.t ........ ok
t/lines_6.t ........ ok
t/lines_7.t ........ ok
t/lines_8.t ........ ok
t/lines_9.t ........ ok
t/linespoints.t .... ok
t/linespoints_1.t .. ok
t/linespoints_2.t .. ok
t/linespoints_3.t .. ok
t/linespoints_4.t .. ok
t/linespoints_5.t .. ok
t/linespoints_6.t .. ok
t/linespoints_7.t .. ok
t/mapbars.t ........ ok
t/mapcomp.t ........ ok
t/Math_1_over_x.t .. ok
t/mountain.t ....... ok
t/mountain_2.t ..... ok
t/mountain_3.t ..... ok
t/mountain_4.t ..... ok
t/pareto_1.t ....... ok
t/pareto_2.t ....... ok
t/pareto_3.t ....... ok
t/pie_1.t .......... ok
t/pie_10.t ......... ok
t/pie_11.t ......... ok
t/pie_2.t .......... ok
t/pie_3.t .......... ok
t/pie_4.t .......... ok
t/pie_5.t .......... ok
t/pie_6.t .......... ok
t/pie_7.t .......... ok
t/pie_8.t .......... ok
t/pie_9.t .......... ok
t/points.t ......... ok
t/points_100.t ..... ok
t/points_2.t ....... ok
t/points_3.t ....... ok
t/points_4.t ....... ok
t/points_5.t ....... ok
t/scalarImage.t .... ok
t/split_1.t ........ ok
t/split_2.t ........ ok
t/stackedbars.t .... ok
t/stackedbars_2.t .. ok
t/stackedbars_3.t .. ok
t/stackedbars_4.t .. ok
All tests successful.
Files=87, Tests=89, 13 wallclock secs ( 0.18 usr  0.49 sys +  6.99 cusr  3.33 csys = 10.99 CPU)
Result: PASS

------------------------------
PREREQUISITES
------------------------------

Prerequisite modules loaded:

requires:

    Module                   Need     Have    
    ------------------------ -------- --------
    Carp                     1.35     1.50    
    GD                       2        2.76    
    Graphics::Toolkit::Color 1        1.00    
    perl                     5.012000 5.018003

build_requires:

    Module                   Need     Have    
    ------------------------ -------- --------
    ExtUtils::MakeMaker      0        7.64    
    File::Temp               0.19     0.2311  
    Test::More               1.3      1.302191
    Test::Warn               0.30     0.36    

configure_requires:

    Module                   Need     Have    
    ------------------------ -------- --------
    ExtUtils::MakeMaker      0        7.64    


------------------------------
ENVIRONMENT AND OTHER CONTEXT
------------------------------

Environment variables:

    AUTOMATED_TESTING = 1
    LANG = en_US.UTF-8
    LANGUAGE = en_US:en
    PATH = /home/sand/bin:/usr/local/bin:/usr/bin:/bin:/usr/games:/usr/local/perl/bin:/usr/X11/bin:/sbin:/usr/sbin
    PERL5LIB = 
    PERL5OPT = 
    PERL5_CPANPLUS_IS_RUNNING = 1701425
    PERL5_CPAN_IS_RUNNING = 1701425
    PERL_CANARY_STABILITY_NOPROMPT = 1
    PERL_MM_USE_DEFAULT = 1
    PERL_USE_UNSAFE_INC = 1
    SHELL = /usr/bin/zsh
    TERM = screen

Perl special variables (and OS-specific diagnostics, for MSWin32):

    $^X = /home/sand/src/perl/repoperls/installed-perls/host/k93msid/v5.18.3/8854/bin/perl
    $UID/$EUID = 1005 / 1005
    $GID = 1005 1005
    $EGID = 1005 1005

Perl module toolchain versions installed:

    Module              Have    
    ------------------- --------
    CPAN                2.29    
    CPAN::Meta          2.150010
    Cwd                 3.75    
    ExtUtils::CBuilder  0.280231
    ExtUtils::Command   7.64    
    ExtUtils::Install   2.06    
    ExtUtils::MakeMaker 7.64    
    ExtUtils::Manifest  1.70    
    ExtUtils::ParseXS   3.44    
    File::Spec          3.75    
    JSON                4.07    
    JSON::PP            4.12    
    Module::Build       0.4229  
    Module::Signature   0.83    
    Parse::CPAN::Meta   2.150010
    Test::Harness       3.42    
    Test::More          1.302191
    YAML                1.29    
    YAML::Syck          1.31    
    version             0.9924  


--

Summary of my perl5 (revision 5 version 18 subversion 3) configuration:
  Derived from: ed6569dd9dfe73242c5e0338bf5b07ce6b6fdfcd
  Platform:
    osname=linux, osvers=5.3.0-2-amd64, archname=x86_64-linux-thread-multi-ld
    uname='linux k93msid 5.3.0-2-amd64 #1 smp debian 5.3.9-3 (2019-11-19) x86_64 gnulinux '
    config_args='-Dprefix=/home/sand/src/perl/repoperls/installed-perls/host/k93msid/v5.18.3/8854 -Dmyhostname=k93msid -Dinstallusrbinperl=n -Uversiononly -Dusedevel -des -Ui_db -Dlibswanted=cl pthread socket inet nsl gdbm dbm malloc dl ld sun m crypt sec util c cposix posix ucb BSD gdbm_compat -Duseithreads -Duselongdouble -DEBUGGING=-g'
    hint=recommended, useposix=true, d_sigaction=define
    useithreads=define, usemultiplicity=define
    useperlio=define, d_sfio=undef, uselargefiles=define, usesocks=undef
    use64bitint=define, use64bitall=define, uselongdouble=define
    usemymalloc=n, bincompat5005=undef
  Compiler:
    cc='cc', ccflags ='-D_REENTRANT -D_GNU_SOURCE -fwrapv -fno-strict-aliasing -pipe -fstack-protector -I/usr/local/include -D_LARGEFILE_SOURCE -D_FILE_OFFSET_BITS=64',
    optimize='-O2 -g',
    cppflags='-D_REENTRANT -D_GNU_SOURCE -fwrapv -fno-strict-aliasing -pipe -fstack-protector -I/usr/local/include'
    ccversion='', gccversion='9.2.1 20191109', gccosandvers=''
    intsize=4, longsize=8, ptrsize=8, doublesize=8, byteorder=12345678
    d_longlong=define, longlongsize=8, d_longdbl=define, longdblsize=16
    ivtype='long', ivsize=8, nvtype='long double', nvsize=16, Off_t='off_t', lseeksize=8
    alignbytes=16, prototype=define
  Linker and Libraries:
    ld='cc', ldflags =' -fstack-protector -L/usr/local/lib'
    libpth=/usr/local/lib /lib/x86_64-linux-gnu /lib/../lib /usr/lib/x86_64-linux-gnu /usr/lib/../lib /lib /usr/lib
    libs=-lpthread -lnsl -ldl -lm -lcrypt -lutil -lc
    perllibs=-lpthread -lnsl -ldl -lm -lcrypt -lutil -lc
    libc=libc-2.29.so, so=so, useshrplib=false, libperl=libperl.a
    gnulibc_version='2.29'
  Dynamic Linking:
    dlsrc=dl_dlopen.xs, dlext=so, d_dlsymun=undef, ccdlflags='-Wl,-E'
    cccdlflags='-fPIC', lddlflags='-shared -O2 -g -L/usr/local/lib -fstack-protector'


Characteristics of this binary (from libperl): 
  Compile-time options: HAS_TIMES MULTIPLICITY PERLIO_LAYERS
                        PERL_DONT_CREATE_GVSV
                        PERL_HASH_FUNC_ONE_AT_A_TIME_HARD
                        PERL_IMPLICIT_CONTEXT PERL_MALLOC_WRAP
                        PERL_PRESERVE_IVUV PERL_SAWAMPERSAND PERL_USE_DEVEL
                        USE_64_BIT_ALL USE_64_BIT_INT USE_ITHREADS
                        USE_LARGE_FILES USE_LOCALE USE_LOCALE_COLLATE
                        USE_LOCALE_CTYPE USE_LOCALE_NUMERIC USE_LONG_DOUBLE
                        USE_PERLIO USE_PERL_ATOF USE_REENTRANT_API
  Locally applied patches:
	uncommitted-changes
  Built under linux
  Compiled at Dec 24 2019 07:50:28
  %ENV:
    PERL5LIB=""
    PERL5OPT=""
    PERL5_CPANPLUS_IS_RUNNING="1701425"
    PERL5_CPAN_IS_RUNNING="1701425"
    PERL_CANARY_STABILITY_NOPROMPT="1"
    PERL_MM_USE_DEFAULT="1"
    PERL_USE_UNSAFE_INC="1"
  @INC:
    /home/sand/src/perl/repoperls/installed-perls/host/k93msid/v5.18.3/8854/lib/site_perl/5.18.3/x86_64-linux-thread-multi-ld
    /home/sand/src/perl/repoperls/installed-perls/host/k93msid/v5.18.3/8854/lib/site_perl/5.18.3
    /home/sand/src/perl/repoperls/installed-perls/host/k93msid/v5.18.3/8854/lib/5.18.3/x86_64-linux-thread-multi-ld
    /home/sand/src/perl/repoperls/installed-perls/host/k93msid/v5.18.3/8854/lib/5.18.3
    .