Catalyst-Authentication-Credential-HTTP v1.018 Perl 5 v5.31.4 x86_64-linux-ld
- Status
- Pass
- From
- Andreas J. König (ANDK)
- Dist
-
Catalyst-Authentication-Credential-HTTP v1.018
- Platform
- Perl 5 v5.31.4 x86_64-linux-ld
- Date
- 2019-09-09 07:30:37
- ID
- b7831d16-d2d3-11e9-aa1d-4d6f3a2c8f88
This distribution has been tested as part of the CPAN Testers
project, supporting the Perl programming language. See
http://wiki.cpantesters.org/ for more information or email
questions to cpan-testers-discuss@perl.org
--
Dear Karen Etheridge,
This is a computer-generated report for Catalyst-Authentication-Credential-HTTP-1.018
on perl 5.31.4, created by CPAN-Reporter-1.2018.
Thank you for uploading your work to CPAN. Congratulations!
All tests were successful.
Sections of this report:
* Tester comments
* Program output
* Prerequisites
* Environment and other context
------------------------------
TESTER COMMENTS
------------------------------
Additional comments from tester:
this report is from an automated smoke testing program
and was not reviewed by a human for accuracy
------------------------------
PROGRAM OUTPUT
------------------------------
Output from './Build test':
#
# Versions for all modules listed in MYMETA.json (including optional ones):
#
# === Configure Requires ===
#
# Module Want Have
# ------------------- ----- -----
# Module::Build::Tiny 0.034 0.039
#
# === Test Requires ===
#
# Module Want Have
# ------------------------- ---- ----------
# Catalyst::Controller any undef
# File::Spec any 3.78
# FindBin any 1.51
# HTTP::Headers any 6.18
# HTTP::Request any 6.18
# Module::Metadata any 1.000036
# Test::Exception any 0.43
# Test::MockObject any 1.20180705
# Test::MockObject::Extends any 1.20180705
# Test::More any 1.302168
# Test::Needs any 0.002006
# lib any 0.65
#
# === Test Recommends ===
#
# Module Want Have
# ---------- -------- --------
# CPAN::Meta 2.120900 2.150010
#
# === Runtime Requires ===
#
# Module Want Have
# ---------------------------------------------- ------- --------
# Catalyst any 5.90124
# Catalyst::Authentication::Credential::Password any undef
# Catalyst::Plugin::Authentication 0.10005 0.10023
# Class::Accessor::Fast any 0.51
# Data::UUID 0.11 1.224
# Digest::MD5 any 2.55
# String::Escape any 2010.002
# URI::Escape any 3.31
# base any 2.27
# strict any 1.11
# warnings any 1.45
#
# === Other Modules ===
#
# Module Have
# ------------- ----
# JSON::PP 4.04
# Pod::Coverage 0.23
# Sub::Name 0.21
# YAML 1.29
# autodie 2.29
#
t/00-report-prereqs.t ....... ok
# Catalyst 5.90124
# Catalyst::Plugin::Authentication 0.10023
# Catalyst::Authentication::Credential::HTTP 1.018
t/00use.t ................... ok
t/basic.t ................... ok
t/live_app.t ................ ok
t/live_app_digest.t ......... skipped: Need Catalyst::Plugin::Cache
t/live_app_digest_dotnet.t .. skipped: Need Catalyst::Plugin::Cache
All tests successful.
Files=6, Tests=45, 3 wallclock secs ( 0.03 usr 0.04 sys + 2.15 cusr 0.34 csys = 2.56 CPU)
Result: PASS
------------------------------
PREREQUISITES
------------------------------
Prerequisite modules loaded:
requires:
Module Need Have
---------------------------------------------- ------- ----------
base 0 2.27
Catalyst 0 5.90124
Catalyst::Authentication::Credential::Password 0 0
Catalyst::Plugin::Authentication 0.10005 0.10023
Class::Accessor::Fast 0 0.51
Data::UUID 0.11 1.224
Digest::MD5 0 2.55
perl 5.006 5.031004
strict 0 1.11
String::Escape 0 2010.002
URI::Escape 0 3.31
warnings 0 1.45
build_requires:
Module Need Have
---------------------------------------------- ------- ----------
Catalyst::Controller 0 0
File::Spec 0 3.78
FindBin 0 1.51
HTTP::Headers 0 6.18
HTTP::Request 0 6.18
lib 0 0.65
Module::Metadata 0 1.000036
perl 5.006 5.031004
Test::Exception 0 0.43
Test::MockObject 0 1.20180705
Test::MockObject::Extends 0 1.20180705
Test::More 0 1.302168
Test::Needs 0 0.002006
configure_requires:
Module Need Have
---------------------------------------------- ------- ----------
Module::Build::Tiny 0.034 0.039
perl 5.006 5.031004
------------------------------
ENVIRONMENT AND OTHER CONTEXT
------------------------------
Environment variables:
AUTOMATED_TESTING = 1
LANG = en_US.UTF-8
PATH = /home/sand/bin:/usr/local/bin:/usr/bin:/bin:/usr/games:/usr/local/perl/bin:/usr/X11/bin:/sbin:/usr/sbin
PERL = /tmp/basesmoker-reloperl-87ze/bin/perl
PERL5LIB =
PERL5OPT =
PERL5_CPANPLUS_IS_RUNNING = 4201
PERL5_CPAN_IS_RUNNING = 4201
PERL_CANARY_STABILITY_NOPROMPT = 1
PERL_MM_USE_DEFAULT = 1
PERL_USE_UNSAFE_INC = 1
SHELL = /usr/bin/zsh
TERM = screen
Perl special variables (and OS-specific diagnostics, for MSWin32):
$^X = /tmp/basesmoker-reloperl-87ze/bin/perl
$UID/$EUID = 1005 / 1005
$GID = 1005 1005
$EGID = 1005 1005
Perl module toolchain versions installed:
Module Have
------------------- --------
CPAN 2.27
CPAN::Meta 2.150010
Cwd 3.78
ExtUtils::CBuilder 0.280232
ExtUtils::Command 7.36
ExtUtils::Install 2.14
ExtUtils::MakeMaker 7.36
ExtUtils::Manifest 1.72
ExtUtils::ParseXS 3.40
File::Spec 3.78
JSON 4.02
JSON::PP 4.04
Module::Build 0.4229
Module::Signature 0.83
Parse::CPAN::Meta 2.150010
Test::Harness 3.42
Test::More 1.302168
YAML 1.29
YAML::Syck 1.31
version 0.9924
--
Summary of my perl5 (revision 5 version 31 subversion 4) configuration:
Commit id: 17a1e9ac2917a0f8cdb3bf899724e07190e3d8ec
Platform:
osname=linux
osvers=4.18.0-2-amd64
archname=x86_64-linux-ld
uname='linux k93msid 4.18.0-2-amd64 #1 smp debian 4.18.10-2 (2018-10-07) x86_64 gnulinux '
config_args='-Dprefix=/home/sand/src/perl/repoperls/installed-perls/host/k93msid/v5.31.3-126-g17a1e9ac29/ea6b -Dmyhostname=k93msid -Dinstallusrbinperl=n -Uversiononly -Dusedevel -des -Ui_db -Dlibswanted=cl pthread socket inet nsl gdbm dbm malloc dl ld sun m crypt sec util c cposix posix ucb BSD gdbm_compat -Uuseithreads -Duselongdouble -DEBUGGING=none'
hint=recommended
useposix=true
d_sigaction=define
useithreads=undef
usemultiplicity=undef
use64bitint=define
use64bitall=define
uselongdouble=define
usemymalloc=n
default_inc_excludes_dot=define
bincompat5005=undef
Compiler:
cc='cc'
ccflags ='-fwrapv -fno-strict-aliasing -pipe -fstack-protector-strong -I/usr/local/include -D_LARGEFILE_SOURCE -D_FILE_OFFSET_BITS=64 -D_FORTIFY_SOURCE=2'
optimize='-O2'
cppflags='-fwrapv -fno-strict-aliasing -pipe -fstack-protector-strong -I/usr/local/include'
ccversion=''
gccversion='8.2.0'
gccosandvers=''
intsize=4
longsize=8
ptrsize=8
doublesize=8
byteorder=12345678
doublekind=3
d_longlong=define
longlongsize=8
d_longdbl=define
longdblsize=16
longdblkind=3
ivtype='long'
ivsize=8
nvtype='long double'
nvsize=16
Off_t='off_t'
lseeksize=8
alignbytes=16
prototype=define
Linker and Libraries:
ld='cc'
ldflags =' -fstack-protector-strong -L/usr/local/lib'
libpth=/usr/local/lib /usr/lib/gcc/x86_64-linux-gnu/8/include-fixed /usr/include/x86_64-linux-gnu /usr/lib /lib/x86_64-linux-gnu /lib/../lib /usr/lib/x86_64-linux-gnu /usr/lib/../lib /lib
libs=-lpthread -lnsl -ldl -lm -lcrypt -lutil -lc
perllibs=-lpthread -lnsl -ldl -lm -lcrypt -lutil -lc
libc=libc-2.27.so
so=so
useshrplib=false
libperl=libperl.a
gnulibc_version='2.27'
Dynamic Linking:
dlsrc=dl_dlopen.xs
dlext=so
d_dlsymun=undef
ccdlflags='-Wl,-E'
cccdlflags='-fPIC'
lddlflags='-shared -O2 -L/usr/local/lib -fstack-protector-strong'
Characteristics of this binary (from libperl):
Compile-time options:
HAS_TIMES
PERLIO_LAYERS
PERL_COPY_ON_WRITE
PERL_DONT_CREATE_GVSV
PERL_MALLOC_WRAP
PERL_OP_PARENT
PERL_PRESERVE_IVUV
PERL_USE_DEVEL
USE_64_BIT_ALL
USE_64_BIT_INT
USE_LARGE_FILES
USE_LOCALE
USE_LOCALE_COLLATE
USE_LOCALE_CTYPE
USE_LOCALE_NUMERIC
USE_LOCALE_TIME
USE_LONG_DOUBLE
USE_PERLIO
USE_PERL_ATOF
Built under linux
Compiled at Sep 9 2019 00:06:02
%ENV:
PERL="/tmp/basesmoker-reloperl-87ze/bin/perl"
PERL5LIB=""
PERL5OPT=""
PERL5_CPANPLUS_IS_RUNNING="4201"
PERL5_CPAN_IS_RUNNING="4201"
PERL_CANARY_STABILITY_NOPROMPT="1"
PERL_MM_USE_DEFAULT="1"
PERL_USE_UNSAFE_INC="1"
@INC:
/home/sand/src/perl/repoperls/installed-perls/host/k93msid/v5.31.3-126-g17a1e9ac29/ea6b/lib/site_perl/5.31.4/x86_64-linux-ld
/home/sand/src/perl/repoperls/installed-perls/host/k93msid/v5.31.3-126-g17a1e9ac29/ea6b/lib/site_perl/5.31.4
/home/sand/src/perl/repoperls/installed-perls/host/k93msid/v5.31.3-126-g17a1e9ac29/ea6b/lib/5.31.4/x86_64-linux-ld
/home/sand/src/perl/repoperls/installed-perls/host/k93msid/v5.31.3-126-g17a1e9ac29/ea6b/lib/5.31.4
.