Report for Cache-CacheFactory-1.10

Back
From: metabase:user:30977d10-2aae-11df-837a-5e0a49663a4f
Subject: PASS Cache-CacheFactory-1.10 v5.13.5 GNU/Linux
Date: 2010-10-19T16:34:17Z

This distribution has been tested as part of the CPAN Testers
project, supporting the Perl programming language.  See
http://wiki.cpantesters.org/ for more information or email
questions to cpan-testers-discuss@perl.org


--
Dear Sam Graham,

This is a computer-generated report for Cache-CacheFactory-1.10
on perl 5.13.5, created by CPAN-Reporter-1.1803.

Thank you for uploading your work to CPAN.  Congratulations!
All tests were successful.

Sections of this report:

    * Tester comments
    * Program output
    * Prerequisites
    * Environment and other context

------------------------------
TESTER COMMENTS
------------------------------

Additional comments from tester:

this report is from an automated smoke testing program
and was not reviewed by a human for accuracy

------------------------------
PROGRAM OUTPUT
------------------------------

Output from './Build test':

# Testing Cache::CacheFactory 1.10, Perl 5.013005, /home/stro/perl/perl5135th/bin/perl
t/00-load.t ................................ ok
t/10-namespace.t ........................... ok
t/20-storage.t ............................. ok
t/30-size-hack-with-devel-size.t ........... ok
t/31-size-hack-force-missing-devel-size.t .. ok
t/40-expiry-lastmodified.t ................. ok
t/40-expiry-size.t ......................... ok
t/40-expiry-time.t ......................... ok
t/50-deep-clone.t .......................... ok
t/80-export.t .............................. ok
t/90-pod.t ................................. ok
t/99-pod-coverage.t ........................ ok
All tests successful.
Files=12, Tests=247,  6 wallclock secs ( 0.04 usr  0.10 sys +  1.02 cusr  0.41 csys =  1.57 CPU)
Result: PASS

------------------------------
PREREQUISITES
------------------------------

Prerequisite modules loaded:

requires:

    Module           Need  Have   
    ---------------- ----- -------
    Cache::BaseCache 0     0      
    Cache::Cache     1     1.06   
    Cache::Object    0     0      
    Carp             0     1.18   
    Class::Factory   0     1.06   
    Scalar::Util     0     1.23   
    Storable         1.014 2.22   

build_requires:

    Module           Need  Have   
    ---------------- ----- -------
    Module::Build    0.07  0.3607 
    Test::More       0     0.97_01

configure_requires:

    Module           Need  Have   
    ---------------- ----- -------
    Module::Build    0.36  0.3607 


------------------------------
ENVIRONMENT AND OTHER CONTEXT
------------------------------

Environment variables:

    AUTOMATED_TESTING = 1
    LANG = en_US.UTF-8
    PATH = /usr/local/bin:/usr/bin:/bin:/usr/games
    PERL5LIB = /home/stro/cpan/build/5.13.5-th/Class-Factory-1.06-JzR_5B/blib/arch:/home/stro/cpan/build/5.13.5-th/Class-Factory-1.06-JzR_5B/blib/lib:/home/stro/cpan/build/5.13.5-th/Text-Xslate-0.2012-Skk9rl/blib/arch:/home/stro/cpan/build/5.13.5-th/Text-Xslate-0.2012-Skk9rl/blib/lib
    PERL5OPT = 
    PERL5_CPANPLUS_IS_RUNNING = 11317
    PERL5_CPAN_IS_RUNNING = 11317
    PERL5_CPAN_IS_RUNNING_IN_RECURSION = 11211,11317
    PERL_CR_SMOKER_CURRENT = Task-Template-Benchmark-1.00_05
    PERL_EXTUTILS_AUTOINSTALL = --defaultdeps
    PERL_MM_USE_DEFAULT = 1
    SHELL = /bin/bash
    TERM = xterm

Perl special variables (and OS-specific diagnostics, for MSWin32):

    $^X = /home/stro/perl/perl5135th/bin/perl
    $UID/$EUID = 1000 / 1000
    $GID = 1000 20 24 25 29 44 46 1000
    $EGID = 1000 20 24 25 29 44 46 1000

Perl module toolchain versions installed:

    Module              Have   
    ------------------- -------
    CPAN                1.94_57
    Cwd                 3.31   
    ExtUtils::CBuilder  0.2703 
    ExtUtils::Command   1.16   
    ExtUtils::Install   1.55   
    ExtUtils::MakeMaker 6.57_05
    ExtUtils::Manifest  1.58   
    ExtUtils::ParseXS   2.2207 
    File::Spec          3.31   
    Module::Build       0.3607 
    Module::Signature   n/a    
    Test::Harness       3.22   
    Test::More          0.97_01
    YAML                0.72   
    YAML::Syck          1.15   
    version             0.82   


--

Summary of my perl5 (revision 5 version 13 subversion 5) configuration:
   
  Platform:
    osname=linux, osvers=2.6.26-2-686, archname=i686-linux-thread-multi
    uname='linux debian5 2.6.26-2-686 #1 smp mon jun 21 05:58:44 utc 2010 i686 gnulinux '
    config_args=''
    hint=recommended, useposix=true, d_sigaction=define
    useithreads=define, usemultiplicity=define
    useperlio=define, d_sfio=undef, uselargefiles=define, usesocks=undef
    use64bitint=undef, use64bitall=undef, uselongdouble=undef
    usemymalloc=n, bincompat5005=undef
  Compiler:
    cc='cc', ccflags ='-D_REENTRANT -D_GNU_SOURCE -fno-strict-aliasing -pipe -fstack-protector -I/usr/local/include -D_LARGEFILE_SOURCE -D_FILE_OFFSET_BITS=64',
    optimize='-O2',
    cppflags='-D_REENTRANT -D_GNU_SOURCE -fno-strict-aliasing -pipe -fstack-protector -I/usr/local/include'
    ccversion='', gccversion='4.3.2', gccosandvers=''
    intsize=4, longsize=4, ptrsize=4, doublesize=8, byteorder=1234
    d_longlong=define, longlongsize=8, d_longdbl=define, longdblsize=12
    ivtype='long', ivsize=4, nvtype='double', nvsize=8, Off_t='off_t', lseeksize=8
    alignbytes=4, prototype=define
  Linker and Libraries:
    ld='cc', ldflags =' -fstack-protector -L/usr/local/lib'
    libpth=/usr/local/lib /lib /usr/lib
    libs=-lnsl -ldb -ldl -lm -lcrypt -lutil -lpthread -lc
    perllibs=-lnsl -ldl -lm -lcrypt -lutil -lpthread -lc
    libc=/lib/libc-2.7.so, so=so, useshrplib=false, libperl=libperl.a
    gnulibc_version='2.7'
  Dynamic Linking:
    dlsrc=dl_dlopen.xs, dlext=so, d_dlsymun=undef, ccdlflags='-Wl,-E'
    cccdlflags='-fPIC', lddlflags='-shared -O2 -L/usr/local/lib -fstack-protector'


Characteristics of this binary (from libperl): 
  Compile-time options: MULTIPLICITY PERL_DONT_CREATE_GVSV
                        PERL_IMPLICIT_CONTEXT PERL_MALLOC_WRAP USE_ITHREADS
                        USE_LARGE_FILES USE_PERLIO USE_PERL_ATOF
                        USE_REENTRANT_API
  Built under linux
  Compiled at Sep 20 2010 16:33:23
  %ENV:
    PERL5LIB="/home/stro/cpan/build/5.13.5-th/Class-Factory-1.06-JzR_5B/blib/arch:/home/stro/cpan/build/5.13.5-th/Class-Factory-1.06-JzR_5B/blib/lib:/home/stro/cpan/build/5.13.5-th/Text-Xslate-0.2012-Skk9rl/blib/arch:/home/stro/cpan/build/5.13.5-th/Text-Xslate-0.2012-Skk9rl/blib/lib"
    PERL5OPT=""
    PERL5_CPANPLUS_IS_RUNNING="11317"
    PERL5_CPAN_IS_RUNNING="11317"
    PERL5_CPAN_IS_RUNNING_IN_RECURSION="11211,11317"
    PERL_CR_SMOKER_CURRENT="Task-Template-Benchmark-1.00_05"
    PERL_EXTUTILS_AUTOINSTALL="--defaultdeps"
    PERL_MM_USE_DEFAULT="1"
  @INC:
    /home/stro/cpan/build/5.13.5-th/Class-Factory-1.06-JzR_5B/blib/arch
    /home/stro/cpan/build/5.13.5-th/Class-Factory-1.06-JzR_5B/blib/lib
    /home/stro/cpan/build/5.13.5-th/Text-Xslate-0.2012-Skk9rl/blib/arch
    /home/stro/cpan/build/5.13.5-th/Text-Xslate-0.2012-Skk9rl/blib/lib
    /home/stro/perl/perl5135th/lib/site_perl/5.13.5/i686-linux-thread-multi
    /home/stro/perl/perl5135th/lib/site_perl/5.13.5
    /home/stro/perl/perl5135th/lib/5.13.5/i686-linux-thread-multi
    /home/stro/perl/perl5135th/lib/5.13.5
    .