utf8-all v0.024 Perl 5 v5.26.1 x86_64-linux
- Status
- Pass
- From
- Andreas J. König (ANDK)
- Dist
-
utf8-all v0.024
- Platform
- Perl 5 v5.26.1 x86_64-linux
- Date
- 2018-01-05 08:30:42
- ID
- b7c247a2-f1f2-11e7-9c35-bf9a68f0f5c6
This distribution has been tested as part of the CPAN Testers
project, supporting the Perl programming language. See
http://wiki.cpantesters.org/ for more information or email
questions to cpan-testers-discuss@perl.org
--
Dear Hayo Baan,
This is a computer-generated report for utf8-all-0.024
on perl 5.26.1, created by CPAN-Reporter-1.2018.
Thank you for uploading your work to CPAN. Congratulations!
All tests were successful.
Sections of this report:
* Tester comments
* Program output
* Prerequisites
* Environment and other context
------------------------------
TESTER COMMENTS
------------------------------
Additional comments from tester:
this report is from an automated smoke testing program
and was not reviewed by a human for accuracy
------------------------------
PROGRAM OUTPUT
------------------------------
Output from '/usr/bin/make test':
PERL_DL_NONLAZY=1 "/home/sand/src/perl/repoperls/installed-perls/host/k93stretch/v5.26.1/751e/bin/perl" "-MExtUtils::Command::MM" "-MTest::Harness" "-e" "undef *Test::Harness::Switches; test_harness(0, 'blib/lib', 'blib/arch')" t/*.t
t/00-compile.t ....... ok
t/ARGV.t ............. ok
t/ARGV_nonmain.t ..... ok
t/ARGV_twice.t ....... ok
t/autodie.t .......... ok
t/charnames.t ........ ok
t/FATAL_utf8.t ....... ok
t/fc.t ............... ok
t/force_global.t ..... ok
t/glob.t ............. ok
t/global_nonmain.t ... ok
t/lexical-again.t .... ok
t/lexical.t .......... ok
t/no_global.t ........ ok
t/open.t ............. ok
t/readdir.t .......... ok
t/readlink.t ......... ok
t/readpipe.t ......... ok
t/threads.t .......... skipped: Requires threads
t/unicode_eval.t ..... ok
t/unicode_strings.t .. ok
t/utf8.t ............. ok
t/utf8_check.t ....... ok
All tests successful.
Files=23, Tests=121, 6 wallclock secs ( 0.07 usr 0.10 sys + 1.84 cusr 0.48 csys = 2.49 CPU)
Result: PASS
------------------------------
PREREQUISITES
------------------------------
Prerequisite modules loaded:
requires:
Module Need Have
------------------- ----- --------
Carp 0 1.42
charnames 0 1.45
Encode 0 2.88
feature 0 1.47
Import::Into 0 1.002005
open 0 1.11
parent 0 0.236
perl 5.010 5.026001
PerlIO::utf8_strict 0 0.007
strict 0 1.11
Symbol 0 1.08
utf8 0 1.19
warnings 0 1.37
build_requires:
Module Need Have
------------------- ----- --------
autodie 0 2.29
blib 1.01 1.06
constant 0 1.33
ExtUtils::MakeMaker 0 7.30
File::Spec 0 3.67
IO::Handle 0 1.36
IPC::Open3 0 1.20
PerlIO 0 1.10
Test::Exception 0 0.43
Test::Fatal 0 0.014
Test::More 0.96 1.302106
Test::Warn 0 0.32
! threads 0 broken
threads::shared 0 1.56
version 0.77 0.9917
configure_requires:
Module Need Have
------------------- ----- --------
ExtUtils::MakeMaker 0 7.30
perl 5.010 5.026001
------------------------------
ENVIRONMENT AND OTHER CONTEXT
------------------------------
Environment variables:
AUTOMATED_TESTING = 1
LANG = C
PATH = /home/sand/bin:/usr/local/bin:/usr/bin:/bin:/usr/games:/usr/local/perl/bin:/usr/X11/bin:/sbin:/usr/sbin
PERL5LIB = /tmp/loop_over_bdir-1520-OuNTxR/Test-Warn-0.32-0/blib/arch:/tmp/loop_over_bdir-1520-OuNTxR/Test-Warn-0.32-0/blib/lib:/tmp/loop_over_bdir-1520-OuNTxR/PerlIO-utf8_strict-0.007-0/blib/arch:/tmp/loop_over_bdir-1520-OuNTxR/PerlIO-utf8_strict-0.007-0/blib/lib:/tmp/loop_over_bdir-1520-OuNTxR/Test-Exception-0.43-0/blib/arch:/tmp/loop_over_bdir-1520-OuNTxR/Test-Exception-0.43-0/blib/lib:/tmp/loop_over_bdir-1520-OuNTxR/Sub-Uplevel-0.2800-0/blib/arch:/tmp/loop_over_bdir-1520-OuNTxR/Sub-Uplevel-0.2800-0/blib/lib:/tmp/loop_over_bdir-1520-OuNTxR/Import-Into-1.002005-0/blib/arch:/tmp/loop_over_bdir-1520-OuNTxR/Import-Into-1.002005-0/blib/lib:/tmp/loop_over_bdir-1520-OuNTxR/Module-Runtime-0.016-0/blib/arch:/tmp/loop_over_bdir-1520-OuNTxR/Module-Runtime-0.016-0/blib/lib
PERL5OPT =
PERL5_CPANPLUS_IS_RUNNING = 25415
PERL5_CPAN_IS_RUNNING = 25415
PERL_CANARY_STABILITY_NOPROMPT = 1
PERL_MM_USE_DEFAULT = 1
PERL_USE_UNSAFE_INC = 1
SHELL = /usr/bin/zsh
TERM = screen
Perl special variables (and OS-specific diagnostics, for MSWin32):
$^X = /home/sand/src/perl/repoperls/installed-perls/host/k93stretch/v5.26.1/751e/bin/perl
$UID/$EUID = 1005 / 1005
$GID = 1005 1005
$EGID = 1005 1005
Perl module toolchain versions installed:
Module Have
------------------- ----------
CPAN 2.18
CPAN::Meta 2.150010
Cwd 3.67
ExtUtils::CBuilder 0.280226
ExtUtils::Command 7.30
ExtUtils::Install 2.06
ExtUtils::MakeMaker 7.30
ExtUtils::Manifest 1.70
ExtUtils::ParseXS 3.34
File::Spec 3.67
JSON 2.94
JSON::PP 2.27400_02
Module::Build 0.4224
Module::Signature 0.81
Parse::CPAN::Meta 2.150010
Test::Harness 3.39
Test::More 1.302106
YAML 1.23
YAML::Syck 1.30
version 0.9917
--
Summary of my perl5 (revision 5 version 26 subversion 1) configuration:
Commit id: 714a461a2ab3017f19ea0f7bbb4934b2309d3aa8
Platform:
osname=linux
osvers=4.9.0-3-amd64
archname=x86_64-linux
uname='linux k93stretch 4.9.0-3-amd64 #1 smp debian 4.9.30-2+deb9u5 (2017-09-19) x86_64 gnulinux '
config_args='-Dprefix=/home/sand/src/perl/repoperls/installed-perls/host/k93stretch/v5.26.1/751e -Dmyhostname=k93stretch -Dinstallusrbinperl=n -Uversiononly -Dusedevel -des -Ui_db -Dlibswanted=cl pthread socket inet nsl gdbm dbm malloc dl ld sun m crypt sec util c cposix posix ucb BSD gdbm_compat -Uuseithreads -Uuselongdouble -DDEBUGGING=-g'
hint=recommended
useposix=true
d_sigaction=define
useithreads=undef
usemultiplicity=undef
use64bitint=define
use64bitall=define
uselongdouble=undef
usemymalloc=n
default_inc_excludes_dot=define
bincompat5005=undef
Compiler:
cc='cc'
ccflags ='-fwrapv -fno-strict-aliasing -pipe -fstack-protector-strong -I/usr/local/include -D_LARGEFILE_SOURCE -D_FILE_OFFSET_BITS=64 -D_FORTIFY_SOURCE=2'
optimize='-O2 -g'
cppflags='-fwrapv -fno-strict-aliasing -pipe -fstack-protector-strong -I/usr/local/include'
ccversion=''
gccversion='6.3.0 20170516'
gccosandvers=''
intsize=4
longsize=8
ptrsize=8
doublesize=8
byteorder=12345678
doublekind=3
d_longlong=define
longlongsize=8
d_longdbl=define
longdblsize=16
longdblkind=3
ivtype='long'
ivsize=8
nvtype='double'
nvsize=8
Off_t='off_t'
lseeksize=8
alignbytes=8
prototype=define
Linker and Libraries:
ld='cc'
ldflags =' -fstack-protector-strong -L/usr/local/lib'
libpth=/usr/local/lib /usr/lib/gcc/x86_64-linux-gnu/6/include-fixed /usr/include/x86_64-linux-gnu /usr/lib /lib/x86_64-linux-gnu /lib/../lib /usr/lib/x86_64-linux-gnu /usr/lib/../lib /lib
libs=-lpthread -lnsl -ldl -lm -lcrypt -lutil -lc
perllibs=-lpthread -lnsl -ldl -lm -lcrypt -lutil -lc
libc=libc-2.24.so
so=so
useshrplib=false
libperl=libperl.a
gnulibc_version='2.24'
Dynamic Linking:
dlsrc=dl_dlopen.xs
dlext=so
d_dlsymun=undef
ccdlflags='-Wl,-E'
cccdlflags='-fPIC'
lddlflags='-shared -O2 -g -L/usr/local/lib -fstack-protector-strong'
Characteristics of this binary (from libperl):
Compile-time options:
HAS_TIMES
PERLIO_LAYERS
PERL_COPY_ON_WRITE
PERL_DONT_CREATE_GVSV
PERL_MALLOC_WRAP
PERL_OP_PARENT
PERL_PRESERVE_IVUV
PERL_USE_DEVEL
USE_64_BIT_ALL
USE_64_BIT_INT
USE_LARGE_FILES
USE_LOCALE
USE_LOCALE_COLLATE
USE_LOCALE_CTYPE
USE_LOCALE_NUMERIC
USE_LOCALE_TIME
USE_PERLIO
USE_PERL_ATOF
Built under linux
Compiled at Sep 29 2017 06:11:27
%ENV:
PERL5LIB="/tmp/loop_over_bdir-1520-OuNTxR/Test-Warn-0.32-0/blib/arch:/tmp/loop_over_bdir-1520-OuNTxR/Test-Warn-0.32-0/blib/lib:/tmp/loop_over_bdir-1520-OuNTxR/PerlIO-utf8_strict-0.007-0/blib/arch:/tmp/loop_over_bdir-1520-OuNTxR/PerlIO-utf8_strict-0.007-0/blib/lib:/tmp/loop_over_bdir-1520-OuNTxR/Test-Exception-0.43-0/blib/arch:/tmp/loop_over_bdir-1520-OuNTxR/Test-Exception-0.43-0/blib/lib:/tmp/loop_over_bdir-1520-OuNTxR/Sub-Uplevel-0.2800-0/blib/arch:/tmp/loop_over_bdir-1520-OuNTxR/Sub-Uplevel-0.2800-0/blib/lib:/tmp/loop_over_bdir-1520-OuNTxR/Import-Into-1.002005-0/blib/arch:/tmp/loop_over_bdir-1520-OuNTxR/Import-Into-1.002005-0/blib/lib:/tmp/loop_over_bdir-1520-OuNTxR/Module-Runtime-0.016-0/blib/arch:/tmp/loop_over_bdir-1520-OuNTxR/Module-Runtime-0.016-0/blib/lib"
PERL5OPT=""
PERL5_CPANPLUS_IS_RUNNING="25415"
PERL5_CPAN_IS_RUNNING="25415"
PERL_CANARY_STABILITY_NOPROMPT="1"
PERL_MM_USE_DEFAULT="1"
PERL_USE_UNSAFE_INC="1"
@INC:
/tmp/loop_over_bdir-1520-OuNTxR/Test-Warn-0.32-0/blib/arch
/tmp/loop_over_bdir-1520-OuNTxR/Test-Warn-0.32-0/blib/lib
/tmp/loop_over_bdir-1520-OuNTxR/PerlIO-utf8_strict-0.007-0/blib/arch
/tmp/loop_over_bdir-1520-OuNTxR/PerlIO-utf8_strict-0.007-0/blib/lib
/tmp/loop_over_bdir-1520-OuNTxR/Test-Exception-0.43-0/blib/arch
/tmp/loop_over_bdir-1520-OuNTxR/Test-Exception-0.43-0/blib/lib
/tmp/loop_over_bdir-1520-OuNTxR/Sub-Uplevel-0.2800-0/blib/arch
/tmp/loop_over_bdir-1520-OuNTxR/Sub-Uplevel-0.2800-0/blib/lib
/tmp/loop_over_bdir-1520-OuNTxR/Import-Into-1.002005-0/blib/arch
/tmp/loop_over_bdir-1520-OuNTxR/Import-Into-1.002005-0/blib/lib
/tmp/loop_over_bdir-1520-OuNTxR/Module-Runtime-0.016-0/blib/arch
/tmp/loop_over_bdir-1520-OuNTxR/Module-Runtime-0.016-0/blib/lib
/home/sand/src/perl/repoperls/installed-perls/host/k93stretch/v5.26.1/751e/lib/site_perl/5.26.1/x86_64-linux
/home/sand/src/perl/repoperls/installed-perls/host/k93stretch/v5.26.1/751e/lib/site_perl/5.26.1
/home/sand/src/perl/repoperls/installed-perls/host/k93stretch/v5.26.1/751e/lib/5.26.1/x86_64-linux
/home/sand/src/perl/repoperls/installed-perls/host/k93stretch/v5.26.1/751e/lib/5.26.1
.