Report for Tapper-Remote-4.0.1

Back
From: metabase:user:d2c9f356-b46f-11df-9a90-20a83c0b7757
Subject: PASS Tapper-Remote-4.0.1 v5.12.4 SunOS/Solaris
Date: 2012-05-17T11:09:06Z

This distribution has been tested as part of the CPAN Testers
project, supporting the Perl programming language.  See
http://wiki.cpantesters.org/ for more information or email
questions to cpan-testers-discuss@perl.org


--
Dear AMD OSRC (AMD Operating System Research Center),

This is a computer-generated report for Tapper-Remote-4.0.1
on perl 5.12.4, created by CPAN-Reporter-1.2006.

Thank you for uploading your work to CPAN.  Congratulations!
All tests were successful.

Sections of this report:

    * Tester comments
    * Program output
    * Prerequisites
    * Environment and other context

------------------------------
TESTER COMMENTS
------------------------------

Additional comments from tester:

this report is from an automated smoke testing program
and was not reviewed by a human for accuracy

------------------------------
PROGRAM OUTPUT
------------------------------

Output from '/usr/local/bin/make test':

PERL_DL_NONLAZY=1 /export/home/cpant3/perl5/bin/perl5.12.4 "-MExtUtils::Command::MM" "-e" "test_harness(0, 'blib/lib', 'blib/arch')" t/*.t
t/00-load.t ................... ok
t/release-eol.t ............... skipped: these tests are for release candidate testing
t/release-no-tabs.t ........... skipped: these tests are for release candidate testing
t/release-pod-coverage.t ...... skipped: these tests are for release candidate testing
t/release-pod-syntax.t ........ skipped: these tests are for release candidate testing
t/tapper-remote-config-prc.t .. ok
readline() on closed filehandle $FH at /export/home/cpant3/.cpan/build/Tapper-Remote-4.0.1-2JOADV/blib/lib/Tapper/Remote/Config.pm line 28.
Use of uninitialized value $cmd_line in pattern match (m//) at /export/home/cpant3/.cpan/build/Tapper-Remote-4.0.1-2JOADV/blib/lib/Tapper/Remote/Config.pm line 30.
Use of uninitialized value $cmd_line in pattern match (m//) at /export/home/cpant3/.cpan/build/Tapper-Remote-4.0.1-2JOADV/blib/lib/Tapper/Remote/Config.pm line 33.
t/tapper-remote-config.t ...... ok
t/tapper-remote-net.t ......... ok
All tests successful.
Files=8, Tests=12,  3 wallclock secs ( 0.04 usr  0.02 sys +  1.19 cusr  0.18 csys =  1.43 CPU)
Result: PASS

------------------------------
PREREQUISITES
------------------------------

Prerequisite modules loaded:

requires:

    Module              Need Have  
    ------------------- ---- ------
    Getopt::Long        0    2.38  
    IO::Socket::INET    0    1.31  
    Moose               0    2.0602
    Moose::Role         0    2.0602
    Net::TFTP           0    0.19  
    Socket              0    2.001 
    strict              0    1.04  
    Sys::Hostname       0    1.11  
    Tapper::Base        0    4.1.2 
    URI::Escape         0    3.31  
    warnings            0    1.09  
    YAML::Syck          0    1.20  

build_requires:

    Module              Need Have  
    ------------------- ---- ------
    Log::Log4perl       0    1.36  
    POSIX               0    1.19  
    Test::MockModule    0    0.05  
    Test::More          0    0.98  

configure_requires:

    Module              Need Have  
    ------------------- ---- ------
    ExtUtils::MakeMaker 6.30 6.62  


------------------------------
ENVIRONMENT AND OTHER CONTEXT
------------------------------

Environment variables:

    AUTOMATED_TESTING = 1
    LANG = C
    LD_LIBRARY_PATH = /usr/local/lib:
    PATH = /export/home/cpant3/perl5/bin:/usr/local/bin:/usr/bin
    PERL5LIB = /export/home/cpant3/.cpan/build/Net-TFTP-0.19-tlRYZk/blib/arch:/export/home/cpant3/.cpan/build/Net-TFTP-0.19-tlRYZk/blib/lib:/export/home/cpant3/.cpan/build/Tapper-Base-4.1.2-bmMzVe/blib/arch:/export/home/cpant3/.cpan/build/Tapper-Base-4.1.2-bmMzVe/blib/lib:/export/home/cpant3/.cpan/build/LockFile-Simple-0.207-UIrskU/blib/arch:/export/home/cpant3/.cpan/build/LockFile-Simple-0.207-UIrskU/blib/lib:/export/home/cpant3/.cpan/build/MooseX-Log-Log4perl-0.45-pfARdT/blib/arch:/export/home/cpant3/.cpan/build/MooseX-Log-Log4perl-0.45-pfARdT/blib/lib
    PERL5OPT = 
    PERL5_CPANPLUS_IS_RUNNING = 18527
    PERL5_CPAN_IS_RUNNING = 18527
    PERL5_CPAN_IS_RUNNING_IN_RECURSION = 23560,18527
    PERL_CR_SMOKER_CURRENT = Tapper-SimNow-4.0.1
    PERL_EXTUTILS_AUTOINSTALL = --defaultdeps
    PERL_MM_USE_DEFAULT = 1
    SHELL = /usr/bin/bash
    TERM = xterm

Perl special variables (and OS-specific diagnostics, for MSWin32):

    $^X = /export/home/cpant3/perl5/bin/perl5.12.4
    $UID/$EUID = 103 / 103
    $GID = 1 1
    $EGID = 1 1

Perl module toolchain versions installed:

    Module              Have    
    ------------------- --------
    CPAN                1.9800  
    CPAN::Meta          2.120921
    Cwd                 3.33    
    ExtUtils::CBuilder  0.280205
    ExtUtils::Command   1.17    
    ExtUtils::Install   1.55    
    ExtUtils::MakeMaker 6.62    
    ExtUtils::Manifest  1.60    
    ExtUtils::ParseXS   3.15    
    File::Spec          3.33    
    JSON                2.53    
    JSON::PP            2.27200 
    Module::Build       0.40    
    Module::Signature   n/a     
    Parse::CPAN::Meta   1.4404  
    Test::Harness       3.23    
    Test::More          0.98    
    YAML                0.81    
    YAML::Syck          1.20    
    version             0.99    


--

Summary of my perl5 (revision 5 version 12 subversion 4) configuration:
   
  Platform:
    osname=solaris, osvers=2.10, archname=i86pc-solaris-64int
    uname='sunos vmrz0046 5.10 generic_141445-09 i86pc i386 i86pc solaris '
    config_args='-Dcc=gcc -Dprefix=~/perl5 -Duse64bitint -Dusedevel -d'
    hint=recommended, useposix=true, d_sigaction=define
    useithreads=undef, usemultiplicity=undef
    useperlio=define, d_sfio=undef, uselargefiles=define, usesocks=undef
    use64bitint=define, use64bitall=undef, uselongdouble=undef
    usemymalloc=n, bincompat5005=undef
  Compiler:
    cc='gcc', ccflags ='-DPTR_IS_LONG -fno-strict-aliasing -pipe -I/usr/local/include -D_LARGEFILE_SOURCE -D_FILE_OFFSET_BITS=64 -DPERL_USE_SAFE_PUTENV',
    optimize='-O',
    cppflags='-DPTR_IS_LONG -fno-strict-aliasing -pipe -I/usr/local/include'
    ccversion='', gccversion='3.4.6', gccosandvers='solaris2.10'
    intsize=4, longsize=4, ptrsize=4, doublesize=8, byteorder=12345678
    d_longlong=define, longlongsize=8, d_longdbl=define, longdblsize=12
    ivtype='long long', ivsize=8, nvtype='double', nvsize=8, Off_t='off_t', lseeksize=8
    alignbytes=4, prototype=define
  Linker and Libraries:
    ld='gcc', ldflags =' -L/usr/local/lib '
    libpth=/usr/local/lib /usr/lib /usr/ccs/lib
    libs=-lsocket -lnsl -lgdbm -ldl -lm -lc
    perllibs=-lsocket -lnsl -ldl -lm -lc
    libc=/lib/libc.so, so=so, useshrplib=false, libperl=libperl.a
    gnulibc_version=''
  Dynamic Linking:
    dlsrc=dl_dlopen.xs, dlext=so, d_dlsymun=undef, ccdlflags=' '
    cccdlflags='-fPIC', lddlflags='-G -L/usr/local/lib'


Characteristics of this binary (from libperl): 
  Compile-time options: PERL_DONT_CREATE_GVSV PERL_MALLOC_WRAP PERL_USE_DEVEL
                        PERL_USE_SAFE_PUTENV USE_64_BIT_INT USE_LARGE_FILES
                        USE_PERLIO USE_PERL_ATOF
  Built under solaris
  Compiled at Jun 21 2011 15:53:50
  %ENV:
    PERL5LIB="/export/home/cpant3/.cpan/build/Net-TFTP-0.19-tlRYZk/blib/arch:/export/home/cpant3/.cpan/build/Net-TFTP-0.19-tlRYZk/blib/lib:/export/home/cpant3/.cpan/build/Tapper-Base-4.1.2-bmMzVe/blib/arch:/export/home/cpant3/.cpan/build/Tapper-Base-4.1.2-bmMzVe/blib/lib:/export/home/cpant3/.cpan/build/LockFile-Simple-0.207-UIrskU/blib/arch:/export/home/cpant3/.cpan/build/LockFile-Simple-0.207-UIrskU/blib/lib:/export/home/cpant3/.cpan/build/MooseX-Log-Log4perl-0.45-pfARdT/blib/arch:/export/home/cpant3/.cpan/build/MooseX-Log-Log4perl-0.45-pfARdT/blib/lib"
    PERL5OPT=""
    PERL5_CPANPLUS_IS_RUNNING="18527"
    PERL5_CPAN_IS_RUNNING="18527"
    PERL5_CPAN_IS_RUNNING_IN_RECURSION="23560,18527"
    PERL_CR_SMOKER_CURRENT="Tapper-SimNow-4.0.1"
    PERL_EXTUTILS_AUTOINSTALL="--defaultdeps"
    PERL_MM_USE_DEFAULT="1"
  @INC:
    /export/home/cpant3/.cpan/build/Net-TFTP-0.19-tlRYZk/blib/arch
    /export/home/cpant3/.cpan/build/Net-TFTP-0.19-tlRYZk/blib/lib
    /export/home/cpant3/.cpan/build/Tapper-Base-4.1.2-bmMzVe/blib/arch
    /export/home/cpant3/.cpan/build/Tapper-Base-4.1.2-bmMzVe/blib/lib
    /export/home/cpant3/.cpan/build/LockFile-Simple-0.207-UIrskU/blib/arch
    /export/home/cpant3/.cpan/build/LockFile-Simple-0.207-UIrskU/blib/lib
    /export/home/cpant3/.cpan/build/MooseX-Log-Log4perl-0.45-pfARdT/blib/arch
    /export/home/cpant3/.cpan/build/MooseX-Log-Log4perl-0.45-pfARdT/blib/lib
    /export/home/cpant3/perl5/lib/site_perl/5.12.4/i86pc-solaris-64int
    /export/home/cpant3/perl5/lib/site_perl/5.12.4
    /export/home/cpant3/perl5/lib/5.12.4/i86pc-solaris-64int
    /export/home/cpant3/perl5/lib/5.12.4
    /export/home/cpant3/perl5/lib/site_perl
    .