HTTP-Session2 v1.10 Perl 5 v5.18.4 amd64-freebsd

Status
Pass
From
Slaven Rezić (SREZIC)
Dist
HTTP-Session2 v1.10
Platform
Perl 5 v5.18.4 amd64-freebsd
Date
2018-01-26 06:32:45
ID
b7eda91c-0262-11e8-86cd-f76f6ee1ca60
This distribution has been tested as part of the CPAN Testers
project, supporting the Perl programming language.  See
http://wiki.cpantesters.org/ for more information or email
questions to cpan-testers-discuss@perl.org


--
Dear Author,

This is a computer-generated report for HTTP-Session2-1.10
on perl 5.18.4, created by CPAN-Reporter-1.2018.

Thank you for uploading your work to CPAN.  Congratulations!
All tests were successful.

Sections of this report:

    * Tester comments
    * Program output
    * Prerequisites
    * Environment and other context

------------------------------
TESTER COMMENTS
------------------------------

Additional comments from tester:

none provided

------------------------------
PROGRAM OUTPUT
------------------------------

Output from './Build test':

t/00_compile.t .............. ok
Secret string too short at /home/cpansand/.cpan/build/2018012612/HTTP-Session2-1.10-jv0uGP/blib/lib/HTTP/Session2/Base.pm line 79.
	HTTP::Session2::Base::__ANON__(HTTP::Session2::ServerStore=HASH(0x42e2deb8), "s3cret") called at t/01_server_side.t line 23
	main::__ANON__("client -> server: request without cookie", CODE(0x42e2d300)) called at t/01_server_side.t line 25
	main::__ANON__() called at /usr/perl5.18.4p/lib/site_perl/5.18.4/Test/Builder.pm line 337
	eval {...} called at /usr/perl5.18.4p/lib/site_perl/5.18.4/Test/Builder.pm line 337
	Test::Builder::subtest(Test::Builder=HASH(0x412f8de0), "First request", CODE(0x42dece58)) called at /usr/perl5.18.4p/lib/site_perl/5.18.4/Test/More.pm line 807
	Test::More::subtest("First request", CODE(0x42dece58)) called at t/01_server_side.t line 11
	main::scenario("First request", CODE(0x42dece58)) called at t/01_server_side.t line 31
Secret string too short at /home/cpansand/.cpan/build/2018012612/HTTP-Session2-1.10-jv0uGP/blib/lib/HTTP/Session2/Base.pm line 79.
	HTTP::Session2::Base::__ANON__(HTTP::Session2::ServerStore=HASH(0x42e31168), "s3cret") called at t/01_server_side.t line 40
	main::__ANON__("client -> server: request without cookie", CODE(0x42e2f138)) called at t/01_server_side.t line 42
	main::__ANON__() called at /usr/perl5.18.4p/lib/site_perl/5.18.4/Test/Builder.pm line 337
	eval {...} called at /usr/perl5.18.4p/lib/site_perl/5.18.4/Test/Builder.pm line 337
	Test::Builder::subtest(Test::Builder=HASH(0x412f8de0), "Store something without login", CODE(0x42e0d720)) called at /usr/perl5.18.4p/lib/site_perl/5.18.4/Test/More.pm line 807
	Test::More::subtest("Store something without login", CODE(0x42e0d720)) called at t/01_server_side.t line 11
	main::scenario("Store something without login", CODE(0x42e0d720)) called at t/01_server_side.t line 58
Secret string too short at /home/cpansand/.cpan/build/2018012612/HTTP-Session2-1.10-jv0uGP/blib/lib/HTTP/Session2/Base.pm line 79.
	HTTP::Session2::Base::__ANON__(HTTP::Session2::ServerStore=HASH(0x42955480), "s3cret") called at t/01_server_side.t line 70
	main::__ANON__("client -> server: request without cookie", CODE(0x42e2dea0)) called at t/01_server_side.t line 72
	main::__ANON__() called at /usr/perl5.18.4p/lib/site_perl/5.18.4/Test/Builder.pm line 337
	eval {...} called at /usr/perl5.18.4p/lib/site_perl/5.18.4/Test/Builder.pm line 337
	Test::Builder::subtest(Test::Builder=HASH(0x412f8de0), "Login", CODE(0x42e0dc00)) called at /usr/perl5.18.4p/lib/site_perl/5.18.4/Test/More.pm line 807
	Test::More::subtest("Login", CODE(0x42e0dc00)) called at t/01_server_side.t line 11
	main::scenario("Login", CODE(0x42e0dc00)) called at t/01_server_side.t line 96
Secret string too short at /home/cpansand/.cpan/build/2018012612/HTTP-Session2-1.10-jv0uGP/blib/lib/HTTP/Session2/Base.pm line 79.
	HTTP::Session2::Base::__ANON__(HTTP::Session2::ServerStore=HASH(0x42959780), "s3cret") called at t/01_server_side.t line 108
	main::__ANON__("client -> server: request without cookie", CODE(0x42e313d8)) called at t/01_server_side.t line 110
	main::__ANON__() called at /usr/perl5.18.4p/lib/site_perl/5.18.4/Test/Builder.pm line 337
	eval {...} called at /usr/perl5.18.4p/lib/site_perl/5.18.4/Test/Builder.pm line 337
	Test::Builder::subtest(Test::Builder=HASH(0x412f8de0), "In a login session", CODE(0x42e10570)) called at /usr/perl5.18.4p/lib/site_perl/5.18.4/Test/More.pm line 807
	Test::More::subtest("In a login session", CODE(0x42e10570)) called at t/01_server_side.t line 11
	main::scenario("In a login session", CODE(0x42e10570)) called at t/01_server_side.t line 124
Secret string too short at /home/cpansand/.cpan/build/2018012612/HTTP-Session2-1.10-jv0uGP/blib/lib/HTTP/Session2/Base.pm line 79.
	HTTP::Session2::Base::__ANON__(HTTP::Session2::ServerStore=HASH(0x42454f00), "s3cret") called at t/01_server_side.t line 136
	main::__ANON__("client -> server: request without cookie", CODE(0x42955288)) called at t/01_server_side.t line 138
	main::__ANON__() called at /usr/perl5.18.4p/lib/site_perl/5.18.4/Test/Builder.pm line 337
	eval {...} called at /usr/perl5.18.4p/lib/site_perl/5.18.4/Test/Builder.pm line 337
	Test::Builder::subtest(Test::Builder=HASH(0x412f8de0), "Invalid session id", CODE(0x42e10e58)) called at /usr/perl5.18.4p/lib/site_perl/5.18.4/Test/More.pm line 807
	Test::More::subtest("Invalid session id", CODE(0x42e10e58)) called at t/01_server_side.t line 11
	main::scenario("Invalid session id", CODE(0x42e10e58)) called at t/01_server_side.t line 153
Secret string too short at /home/cpansand/.cpan/build/2018012612/HTTP-Session2-1.10-jv0uGP/blib/lib/HTTP/Session2/Base.pm line 79.
	HTTP::Session2::Base::__ANON__(HTTP::Session2::ServerStore=HASH(0x42df94f8), "s3cret") called at t/01_server_side.t line 160
	main::__ANON__("client -> server: request without cookie", CODE(0x42959ac8)) called at t/01_server_side.t line 167
	main::__ANON__() called at /usr/perl5.18.4p/lib/site_perl/5.18.4/Test/Builder.pm line 337
	eval {...} called at /usr/perl5.18.4p/lib/site_perl/5.18.4/Test/Builder.pm line 337
	Test::Builder::subtest(Test::Builder=HASH(0x412f8de0), "Logout", CODE(0x42e2a4c8)) called at /usr/perl5.18.4p/lib/site_perl/5.18.4/Test/More.pm line 807
	Test::More::subtest("Logout", CODE(0x42e2a4c8)) called at t/01_server_side.t line 11
	main::scenario("Logout", CODE(0x42e2a4c8)) called at t/01_server_side.t line 182
t/01_server_side.t .......... ok
Secret string too short at /home/cpansand/.cpan/build/2018012612/HTTP-Session2-1.10-jv0uGP/blib/lib/HTTP/Session2/Base.pm line 79.
	HTTP::Session2::Base::__ANON__(HTTP::Session2::ClientStore=HASH(0x43061ab0), "s3cret") called at t/02_client_side.t line 17
	main::__ANON__("client -> server: request without cookie", CODE(0x4305dee8)) called at t/02_client_side.t line 22
	main::__ANON__() called at /usr/perl5.18.4p/lib/site_perl/5.18.4/Test/Builder.pm line 337
	eval {...} called at /usr/perl5.18.4p/lib/site_perl/5.18.4/Test/Builder.pm line 337
	Test::Builder::subtest(Test::Builder=HASH(0x412f8e10), "First request", CODE(0x4303e4f8)) called at /usr/perl5.18.4p/lib/site_perl/5.18.4/Test/More.pm line 807
	Test::More::subtest("First request", CODE(0x4303e4f8)) called at t/02_client_side.t line 9
	main::scenario("First request", CODE(0x4303e4f8)) called at t/02_client_side.t line 28
Secret string too short at /home/cpansand/.cpan/build/2018012612/HTTP-Session2-1.10-jv0uGP/blib/lib/HTTP/Session2/Base.pm line 79.
	HTTP::Session2::Base::__ANON__(HTTP::Session2::ClientStore=HASH(0x43086048), "s3cret") called at t/02_client_side.t line 33
	main::__ANON__("client -> server: request without cookie", CODE(0x43061ae0)) called at t/02_client_side.t line 38
	main::__ANON__() called at /usr/perl5.18.4p/lib/site_perl/5.18.4/Test/Builder.pm line 337
	eval {...} called at /usr/perl5.18.4p/lib/site_perl/5.18.4/Test/Builder.pm line 337
	Test::Builder::subtest(Test::Builder=HASH(0x412f8e10), "Store something without login", CODE(0x4303f090)) called at /usr/perl5.18.4p/lib/site_perl/5.18.4/Test/More.pm line 807
	Test::More::subtest("Store something without login", CODE(0x4303f090)) called at t/02_client_side.t line 9
	main::scenario("Store something without login", CODE(0x4303f090)) called at t/02_client_side.t line 54
Do not use HTTP::Session2::ClientStore. Use HTTP::Session2::ServerStore or HTTP::Session2::ClientStore2 instead. at /home/cpansand/.cpan/build/2018012612/HTTP-Session2-1.10-jv0uGP/blib/lib/HTTP/Session2/ClientStore.pm line 25.
Secret string too short at /home/cpansand/.cpan/build/2018012612/HTTP-Session2-1.10-jv0uGP/blib/lib/HTTP/Session2/Base.pm line 79.
	HTTP::Session2::Base::__ANON__(HTTP::Session2::ClientStore=HASH(0x43087cf0), "s3cret") called at t/02_client_side.t line 60
	main::__ANON__("client -> server: request without cookie", CODE(0x4305db28)) called at t/02_client_side.t line 66
	main::__ANON__() called at /usr/perl5.18.4p/lib/site_perl/5.18.4/Test/Builder.pm line 337
	eval {...} called at /usr/perl5.18.4p/lib/site_perl/5.18.4/Test/Builder.pm line 337
	Test::Builder::subtest(Test::Builder=HASH(0x412f8e10), "Login", CODE(0x4303f480)) called at /usr/perl5.18.4p/lib/site_perl/5.18.4/Test/More.pm line 807
	Test::More::subtest("Login", CODE(0x4303f480)) called at t/02_client_side.t line 9
	main::scenario("Login", CODE(0x4303f480)) called at t/02_client_side.t line 86
Do not use HTTP::Session2::ClientStore. Use HTTP::Session2::ServerStore or HTTP::Session2::ClientStore2 instead. at /home/cpansand/.cpan/build/2018012612/HTTP-Session2-1.10-jv0uGP/blib/lib/HTTP/Session2/ClientStore.pm line 35.
Do not use HTTP::Session2::ClientStore. Use HTTP::Session2::ServerStore or HTTP::Session2::ClientStore2 instead. at /home/cpansand/.cpan/build/2018012612/HTTP-Session2-1.10-jv0uGP/blib/lib/HTTP/Session2/ClientStore.pm line 25.
Secret string too short at /home/cpansand/.cpan/build/2018012612/HTTP-Session2-1.10-jv0uGP/blib/lib/HTTP/Session2/Base.pm line 79.
	HTTP::Session2::Base::__ANON__(HTTP::Session2::ClientStore=HASH(0x4308cca8), "s3cret") called at t/02_client_side.t line 92
	main::__ANON__("client -> server: request without cookie", CODE(0x430862d0)) called at t/02_client_side.t line 98
	main::__ANON__() called at /usr/perl5.18.4p/lib/site_perl/5.18.4/Test/Builder.pm line 337
	eval {...} called at /usr/perl5.18.4p/lib/site_perl/5.18.4/Test/Builder.pm line 337
	Test::Builder::subtest(Test::Builder=HASH(0x412f8e10), "In a login session", CODE(0x4303fc00)) called at /usr/perl5.18.4p/lib/site_perl/5.18.4/Test/More.pm line 807
	Test::More::subtest("In a login session", CODE(0x4303fc00)) called at t/02_client_side.t line 9
	main::scenario("In a login session", CODE(0x4303fc00)) called at t/02_client_side.t line 107
Do not use HTTP::Session2::ClientStore. Use HTTP::Session2::ServerStore or HTTP::Session2::ClientStore2 instead. at /home/cpansand/.cpan/build/2018012612/HTTP-Session2-1.10-jv0uGP/blib/lib/HTTP/Session2/ClientStore.pm line 35.
Do not use HTTP::Session2::ClientStore. Use HTTP::Session2::ServerStore or HTTP::Session2::ClientStore2 instead. at /home/cpansand/.cpan/build/2018012612/HTTP-Session2-1.10-jv0uGP/blib/lib/HTTP/Session2/ClientStore.pm line 25.
Secret string too short at /home/cpansand/.cpan/build/2018012612/HTTP-Session2-1.10-jv0uGP/blib/lib/HTTP/Session2/Base.pm line 79.
	HTTP::Session2::Base::__ANON__(HTTP::Session2::ClientStore=HASH(0x4308de10), "s3cret") called at t/02_client_side.t line 112
	main::__ANON__("client -> server: request without cookie", CODE(0x43063d80)) called at t/02_client_side.t line 118
	main::__ANON__() called at /usr/perl5.18.4p/lib/site_perl/5.18.4/Test/Builder.pm line 337
	eval {...} called at /usr/perl5.18.4p/lib/site_perl/5.18.4/Test/Builder.pm line 337
	Test::Builder::subtest(Test::Builder=HASH(0x412f8e10), "Logout", CODE(0x4305d300)) called at /usr/perl5.18.4p/lib/site_perl/5.18.4/Test/More.pm line 807
	Test::More::subtest("Logout", CODE(0x4305d300)) called at t/02_client_side.t line 9
	main::scenario("Logout", CODE(0x4305d300)) called at t/02_client_side.t line 131
t/02_client_side.t .......... ok
Secret string too short at /home/cpansand/.cpan/build/2018012612/HTTP-Session2-1.10-jv0uGP/blib/lib/HTTP/Session2/Base.pm line 79.
	HTTP::Session2::Base::__ANON__(HTTP::Session2::ServerStore=HASH(0x4489cf48), "s3cret") called at t/03_mech.t line 121
	main::server_session(HASH(0x4489cb10)) called at t/03_mech.t line 17
	main::__ANON__(HASH(0x4489cb10)) called at /usr/perl5.18.4p/lib/site_perl/5.18.4/Test/WWW/Mechanize/PSGI.pm line 43
	Test::WWW::Mechanize::PSGI::try {...} () called at /usr/perl5.18.4p/lib/site_perl/5.18.4/Try/Tiny.pm line 102
	eval {...} called at /usr/perl5.18.4p/lib/site_perl/5.18.4/Try/Tiny.pm line 93
	Try::Tiny::try(CODE(0x4489ca98), Try::Tiny::Catch=REF(0x424b4360)) called at /usr/perl5.18.4p/lib/site_perl/5.18.4/Test/WWW/Mechanize/PSGI.pm line 50
	Test::WWW::Mechanize::PSGI::simple_request(Test::WWW::Mechanize::PSGI=HASH(0x412f46f0), HTTP::Request=HASH(0x445ead08), undef, undef) called at /usr/perl5.18.4p/lib/site_perl/5.18.4/LWP/UserAgent.pm line 297
	LWP::UserAgent::request(Test::WWW::Mechanize::PSGI=HASH(0x412f46f0), HTTP::Request=HASH(0x445ead08)) called at /usr/perl5.18.4p/lib/site_perl/5.18.4/WWW/Mechanize.pm line 1413
	WWW::Mechanize::_make_request(Test::WWW::Mechanize::PSGI=HASH(0x412f46f0), HTTP::Request=HASH(0x445ead08)) called at /usr/perl5.18.4p/lib/site_perl/5.18.4/WWW/Mechanize.pm line 1253
	WWW::Mechanize::request(Test::WWW::Mechanize::PSGI=HASH(0x412f46f0), HTTP::Request=HASH(0x445ead08)) called at /usr/perl5.18.4p/lib/site_perl/5.18.4/LWP/UserAgent.pm line 435
	LWP::UserAgent::get(Test::WWW::Mechanize::PSGI=HASH(0x412f46f0), "/") called at /usr/perl5.18.4p/lib/site_perl/5.18.4/WWW/Mechanize.pm line 117
	WWW::Mechanize::get(Test::WWW::Mechanize::PSGI=HASH(0x412f46f0), "/") called at /usr/perl5.18.4p/lib/site_perl/5.18.4/Test/WWW/Mechanize.pm line 160
	Test::WWW::Mechanize::get_ok(Test::WWW::Mechanize::PSGI=HASH(0x412f46f0), "/") called at t/03_mech.t line 74
Secret string too short at /home/cpansand/.cpan/build/2018012612/HTTP-Session2-1.10-jv0uGP/blib/lib/HTTP/Session2/Base.pm line 79.
	HTTP::Session2::Base::__ANON__(HTTP::Session2::ServerStore=HASH(0x448aaf48), "s3cret") called at t/03_mech.t line 121
	main::server_session(HASH(0x448aaa68)) called at t/03_mech.t line 17
	main::__ANON__(HASH(0x448aaa68)) called at /usr/perl5.18.4p/lib/site_perl/5.18.4/Test/WWW/Mechanize/PSGI.pm line 43
	Test::WWW::Mechanize::PSGI::try {...} () called at /usr/perl5.18.4p/lib/site_perl/5.18.4/Try/Tiny.pm line 102
	eval {...} called at /usr/perl5.18.4p/lib/site_perl/5.18.4/Try/Tiny.pm line 93
	Try::Tiny::try(CODE(0x448aab70), Try::Tiny::Catch=REF(0x4489cdf8)) called at /usr/perl5.18.4p/lib/site_perl/5.18.4/Test/WWW/Mechanize/PSGI.pm line 50
	Test::WWW::Mechanize::PSGI::simple_request(Test::WWW::Mechanize::PSGI=HASH(0x412f46f0), HTTP::Request=HASH(0x448aa798), undef, undef) called at /usr/perl5.18.4p/lib/site_perl/5.18.4/LWP/UserAgent.pm line 297
	LWP::UserAgent::request(Test::WWW::Mechanize::PSGI=HASH(0x412f46f0), HTTP::Request=HASH(0x448aa798)) called at /usr/perl5.18.4p/lib/site_perl/5.18.4/WWW/Mechanize.pm line 1413
	WWW::Mechanize::_make_request(Test::WWW::Mechanize::PSGI=HASH(0x412f46f0), HTTP::Request=HASH(0x448aa798)) called at /usr/perl5.18.4p/lib/site_perl/5.18.4/WWW/Mechanize.pm line 1253
	WWW::Mechanize::request(Test::WWW::Mechanize::PSGI=HASH(0x412f46f0), HTTP::Request=HASH(0x448aa798)) called at /usr/perl5.18.4p/lib/site_perl/5.18.4/LWP/UserAgent.pm line 478
	LWP::UserAgent::post(Test::WWW::Mechanize::PSGI=HASH(0x412f46f0), "/wishlist?foo", HASH(0x43825240)) called at /usr/perl5.18.4p/lib/site_perl/5.18.4/Test/WWW/Mechanize.pm line 237
	Test::WWW::Mechanize::post_ok(Test::WWW::Mechanize::PSGI=HASH(0x412f46f0), "/wishlist?foo") called at t/03_mech.t line 75
Secret string too short at /home/cpansand/.cpan/build/2018012612/HTTP-Session2-1.10-jv0uGP/blib/lib/HTTP/Session2/Base.pm line 79.
	HTTP::Session2::Base::__ANON__(HTTP::Session2::ServerStore=HASH(0x448ae840), "s3cret") called at t/03_mech.t line 121
	main::server_session(HASH(0x448aaf78)) called at t/03_mech.t line 17
	main::__ANON__(HASH(0x448aaf78)) called at /usr/perl5.18.4p/lib/site_perl/5.18.4/Test/WWW/Mechanize/PSGI.pm line 43
	Test::WWW::Mechanize::PSGI::try {...} () called at /usr/perl5.18.4p/lib/site_perl/5.18.4/Try/Tiny.pm line 102
	eval {...} called at /usr/perl5.18.4p/lib/site_perl/5.18.4/Try/Tiny.pm line 93
	Try::Tiny::try(CODE(0x448aa2b8), Try::Tiny::Catch=REF(0x448aae28)) called at /usr/perl5.18.4p/lib/site_perl/5.18.4/Test/WWW/Mechanize/PSGI.pm line 50
	Test::WWW::Mechanize::PSGI::simple_request(Test::WWW::Mechanize::PSGI=HASH(0x412f46f0), HTTP::Request=HASH(0x448aaaf8), undef, undef) called at /usr/perl5.18.4p/lib/site_perl/5.18.4/LWP/UserAgent.pm line 297
	LWP::UserAgent::request(Test::WWW::Mechanize::PSGI=HASH(0x412f46f0), HTTP::Request=HASH(0x448aaaf8)) called at /usr/perl5.18.4p/lib/site_perl/5.18.4/WWW/Mechanize.pm line 1413
	WWW::Mechanize::_make_request(Test::WWW::Mechanize::PSGI=HASH(0x412f46f0), HTTP::Request=HASH(0x448aaaf8)) called at /usr/perl5.18.4p/lib/site_perl/5.18.4/WWW/Mechanize.pm line 1253
	WWW::Mechanize::request(Test::WWW::Mechanize::PSGI=HASH(0x412f46f0), HTTP::Request=HASH(0x448aaaf8)) called at /usr/perl5.18.4p/lib/site_perl/5.18.4/LWP/UserAgent.pm line 435
	LWP::UserAgent::get(Test::WWW::Mechanize::PSGI=HASH(0x412f46f0), "http://localhost/wishlist") called at /usr/perl5.18.4p/lib/site_perl/5.18.4/WWW/Mechanize.pm line 117
	WWW::Mechanize::get(Test::WWW::Mechanize::PSGI=HASH(0x412f46f0), "/wishlist") called at /usr/perl5.18.4p/lib/site_perl/5.18.4/Test/WWW/Mechanize.pm line 160
	Test::WWW::Mechanize::get_ok(Test::WWW::Mechanize::PSGI=HASH(0x412f46f0), "/wishlist") called at t/03_mech.t line 76
Secret string too short at /home/cpansand/.cpan/build/2018012612/HTTP-Session2-1.10-jv0uGP/blib/lib/HTTP/Session2/Base.pm line 79.
	HTTP::Session2::Base::__ANON__(HTTP::Session2::ServerStore=HASH(0x448aea68), "s3cret") called at t/03_mech.t line 121
	main::server_session(HASH(0x448aa5d0)) called at t/03_mech.t line 17
	main::__ANON__(HASH(0x448aa5d0)) called at /usr/perl5.18.4p/lib/site_perl/5.18.4/Test/WWW/Mechanize/PSGI.pm line 43
	Test::WWW::Mechanize::PSGI::try {...} () called at /usr/perl5.18.4p/lib/site_perl/5.18.4/Try/Tiny.pm line 102
	eval {...} called at /usr/perl5.18.4p/lib/site_perl/5.18.4/Try/Tiny.pm line 93
	Try::Tiny::try(CODE(0x448ae5d0), Try::Tiny::Catch=REF(0x448ae690)) called at /usr/perl5.18.4p/lib/site_perl/5.18.4/Test/WWW/Mechanize/PSGI.pm line 50
	Test::WWW::Mechanize::PSGI::simple_request(Test::WWW::Mechanize::PSGI=HASH(0x412f46f0), HTTP::Request=HASH(0x448aedb0), undef, undef) called at /usr/perl5.18.4p/lib/site_perl/5.18.4/LWP/UserAgent.pm line 297
	LWP::UserAgent::request(Test::WWW::Mechanize::PSGI=HASH(0x412f46f0), HTTP::Request=HASH(0x448aedb0)) called at /usr/perl5.18.4p/lib/site_perl/5.18.4/WWW/Mechanize.pm line 1413
	WWW::Mechanize::_make_request(Test::WWW::Mechanize::PSGI=HASH(0x412f46f0), HTTP::Request=HASH(0x448aedb0)) called at /usr/perl5.18.4p/lib/site_perl/5.18.4/WWW/Mechanize.pm line 1253
	WWW::Mechanize::request(Test::WWW::Mechanize::PSGI=HASH(0x412f46f0), HTTP::Request=HASH(0x448aedb0)) called at /usr/perl5.18.4p/lib/site_perl/5.18.4/LWP/UserAgent.pm line 478
	LWP::UserAgent::post(Test::WWW::Mechanize::PSGI=HASH(0x412f46f0), "/wishlist?bar") called at t/03_mech.t line 78
Secret string too short at /home/cpansand/.cpan/build/2018012612/HTTP-Session2-1.10-jv0uGP/blib/lib/HTTP/Session2/Base.pm line 79.
	HTTP::Session2::Base::__ANON__(HTTP::Session2::ServerStore=HASH(0x448ae798), "s3cret") called at t/03_mech.t line 121
	main::server_session(HASH(0x448aefa8)) called at t/03_mech.t line 17
	main::__ANON__(HASH(0x448aefa8)) called at /usr/perl5.18.4p/lib/site_perl/5.18.4/Test/WWW/Mechanize/PSGI.pm line 43
	Test::WWW::Mechanize::PSGI::try {...} () called at /usr/perl5.18.4p/lib/site_perl/5.18.4/Try/Tiny.pm line 102
	eval {...} called at /usr/perl5.18.4p/lib/site_perl/5.18.4/Try/Tiny.pm line 93
	Try::Tiny::try(CODE(0x448aec18), Try::Tiny::Catch=REF(0x448ae9a8)) called at /usr/perl5.18.4p/lib/site_perl/5.18.4/Test/WWW/Mechanize/PSGI.pm line 50
	Test::WWW::Mechanize::PSGI::simple_request(Test::WWW::Mechanize::PSGI=HASH(0x412f46f0), HTTP::Request=HASH(0x448aacd8), undef, undef) called at /usr/perl5.18.4p/lib/site_perl/5.18.4/LWP/UserAgent.pm line 297
	LWP::UserAgent::request(Test::WWW::Mechanize::PSGI=HASH(0x412f46f0), HTTP::Request=HASH(0x448aacd8)) called at /usr/perl5.18.4p/lib/site_perl/5.18.4/WWW/Mechanize.pm line 1413
	WWW::Mechanize::_make_request(Test::WWW::Mechanize::PSGI=HASH(0x412f46f0), HTTP::Request=HASH(0x448aacd8)) called at /usr/perl5.18.4p/lib/site_perl/5.18.4/WWW/Mechanize.pm line 1253
	WWW::Mechanize::request(Test::WWW::Mechanize::PSGI=HASH(0x412f46f0), HTTP::Request=HASH(0x448aacd8)) called at /usr/perl5.18.4p/lib/site_perl/5.18.4/LWP/UserAgent.pm line 478
	LWP::UserAgent::post(Test::WWW::Mechanize::PSGI=HASH(0x412f46f0), "/wishlist?bar", HASH(0x43825240)) called at /usr/perl5.18.4p/lib/site_perl/5.18.4/Test/WWW/Mechanize.pm line 237
	Test::WWW::Mechanize::post_ok(Test::WWW::Mechanize::PSGI=HASH(0x412f46f0), "/wishlist?bar") called at t/03_mech.t line 81
Secret string too short at /home/cpansand/.cpan/build/2018012612/HTTP-Session2-1.10-jv0uGP/blib/lib/HTTP/Session2/Base.pm line 79.
	HTTP::Session2::Base::__ANON__(HTTP::Session2::ServerStore=HASH(0x448aebb8), "s3cret") called at t/03_mech.t line 121
	main::server_session(HASH(0x44ac84b0)) called at t/03_mech.t line 17
	main::__ANON__(HASH(0x44ac84b0)) called at /usr/perl5.18.4p/lib/site_perl/5.18.4/Test/WWW/Mechanize/PSGI.pm line 43
	Test::WWW::Mechanize::PSGI::try {...} () called at /usr/perl5.18.4p/lib/site_perl/5.18.4/Try/Tiny.pm line 102
	eval {...} called at /usr/perl5.18.4p/lib/site_perl/5.18.4/Try/Tiny.pm line 93
	Try::Tiny::try(CODE(0x448aebe8), Try::Tiny::Catch=REF(0x448ae7e0)) called at /usr/perl5.18.4p/lib/site_perl/5.18.4/Test/WWW/Mechanize/PSGI.pm line 50
	Test::WWW::Mechanize::PSGI::simple_request(Test::WWW::Mechanize::PSGI=HASH(0x412f46f0), HTTP::Request=HASH(0x44ac8300), undef, undef) called at /usr/perl5.18.4p/lib/site_perl/5.18.4/LWP/UserAgent.pm line 297
	LWP::UserAgent::request(Test::WWW::Mechanize::PSGI=HASH(0x412f46f0), HTTP::Request=HASH(0x44ac8300)) called at /usr/perl5.18.4p/lib/site_perl/5.18.4/WWW/Mechanize.pm line 1413
	WWW::Mechanize::_make_request(Test::WWW::Mechanize::PSGI=HASH(0x412f46f0), HTTP::Request=HASH(0x44ac8300)) called at /usr/perl5.18.4p/lib/site_perl/5.18.4/WWW/Mechanize.pm line 1253
	WWW::Mechanize::request(Test::WWW::Mechanize::PSGI=HASH(0x412f46f0), HTTP::Request=HASH(0x44ac8300)) called at /usr/perl5.18.4p/lib/site_perl/5.18.4/LWP/UserAgent.pm line 435
	LWP::UserAgent::get(Test::WWW::Mechanize::PSGI=HASH(0x412f46f0), "http://localhost/wishlist") called at /usr/perl5.18.4p/lib/site_perl/5.18.4/WWW/Mechanize.pm line 117
	WWW::Mechanize::get(Test::WWW::Mechanize::PSGI=HASH(0x412f46f0), "/wishlist") called at /usr/perl5.18.4p/lib/site_perl/5.18.4/Test/WWW/Mechanize.pm line 160
	Test::WWW::Mechanize::get_ok(Test::WWW::Mechanize::PSGI=HASH(0x412f46f0), "/wishlist") called at t/03_mech.t line 82
Secret string too short at /home/cpansand/.cpan/build/2018012612/HTTP-Session2-1.10-jv0uGP/blib/lib/HTTP/Session2/Base.pm line 79.
	HTTP::Session2::Base::__ANON__(HTTP::Session2::ServerStore=HASH(0x44ac8d20), "s3cret") called at t/03_mech.t line 121
	main::server_session(HASH(0x44ac8ca8)) called at t/03_mech.t line 17
	main::__ANON__(HASH(0x44ac8ca8)) called at /usr/perl5.18.4p/lib/site_perl/5.18.4/Test/WWW/Mechanize/PSGI.pm line 43
	Test::WWW::Mechanize::PSGI::try {...} () called at /usr/perl5.18.4p/lib/site_perl/5.18.4/Try/Tiny.pm line 102
	eval {...} called at /usr/perl5.18.4p/lib/site_perl/5.18.4/Try/Tiny.pm line 93
	Try::Tiny::try(CODE(0x44ac8630), Try::Tiny::Catch=REF(0x44ac8288)) called at /usr/perl5.18.4p/lib/site_perl/5.18.4/Test/WWW/Mechanize/PSGI.pm line 50
	Test::WWW::Mechanize::PSGI::simple_request(Test::WWW::Mechanize::PSGI=HASH(0x412f46f0), HTTP::Request=HASH(0x44ac8498), undef, undef) called at /usr/perl5.18.4p/lib/site_perl/5.18.4/LWP/UserAgent.pm line 297
	LWP::UserAgent::request(Test::WWW::Mechanize::PSGI=HASH(0x412f46f0), HTTP::Request=HASH(0x44ac8498)) called at /usr/perl5.18.4p/lib/site_perl/5.18.4/WWW/Mechanize.pm line 1413
	WWW::Mechanize::_make_request(Test::WWW::Mechanize::PSGI=HASH(0x412f46f0), HTTP::Request=HASH(0x44ac8498)) called at /usr/perl5.18.4p/lib/site_perl/5.18.4/WWW/Mechanize.pm line 1253
	WWW::Mechanize::request(Test::WWW::Mechanize::PSGI=HASH(0x412f46f0), HTTP::Request=HASH(0x44ac8498)) called at /usr/perl5.18.4p/lib/site_perl/5.18.4/LWP/UserAgent.pm line 478
	LWP::UserAgent::post(Test::WWW::Mechanize::PSGI=HASH(0x412f46f0), "/account/login?john", HASH(0x43825240)) called at /usr/perl5.18.4p/lib/site_perl/5.18.4/Test/WWW/Mechanize.pm line 237
	Test::WWW::Mechanize::post_ok(Test::WWW::Mechanize::PSGI=HASH(0x412f46f0), "/account/login?john") called at t/03_mech.t line 84
Secret string too short at /home/cpansand/.cpan/build/2018012612/HTTP-Session2-1.10-jv0uGP/blib/lib/HTTP/Session2/Base.pm line 79.
	HTTP::Session2::Base::__ANON__(HTTP::Session2::ServerStore=HASH(0x44ac8d98), "s3cret") called at t/03_mech.t line 121
	main::server_session(HASH(0x44585a80)) called at t/03_mech.t line 17
	main::__ANON__(HASH(0x44585a80)) called at /usr/perl5.18.4p/lib/site_perl/5.18.4/Test/WWW/Mechanize/PSGI.pm line 43
	Test::WWW::Mechanize::PSGI::try {...} () called at /usr/perl5.18.4p/lib/site_perl/5.18.4/Try/Tiny.pm line 102
	eval {...} called at /usr/perl5.18.4p/lib/site_perl/5.18.4/Try/Tiny.pm line 93
	Try::Tiny::try(CODE(0x448aeab0), Try::Tiny::Catch=REF(0x44ac89d8)) called at /usr/perl5.18.4p/lib/site_perl/5.18.4/Test/WWW/Mechanize/PSGI.pm line 50
	Test::WWW::Mechanize::PSGI::simple_request(Test::WWW::Mechanize::PSGI=HASH(0x412f46f0), HTTP::Request=HASH(0x44ac8b40), undef, undef) called at /usr/perl5.18.4p/lib/site_perl/5.18.4/LWP/UserAgent.pm line 297
	LWP::UserAgent::request(Test::WWW::Mechanize::PSGI=HASH(0x412f46f0), HTTP::Request=HASH(0x44ac8b40)) called at /usr/perl5.18.4p/lib/site_perl/5.18.4/WWW/Mechanize.pm line 1413
	WWW::Mechanize::_make_request(Test::WWW::Mechanize::PSGI=HASH(0x412f46f0), HTTP::Request=HASH(0x44ac8b40)) called at /usr/perl5.18.4p/lib/site_perl/5.18.4/WWW/Mechanize.pm line 1253
	WWW::Mechanize::request(Test::WWW::Mechanize::PSGI=HASH(0x412f46f0), HTTP::Request=HASH(0x44ac8b40)) called at /usr/perl5.18.4p/lib/site_perl/5.18.4/LWP/UserAgent.pm line 435
	LWP::UserAgent::get(Test::WWW::Mechanize::PSGI=HASH(0x412f46f0), "http://localhost/wishlist") called at /usr/perl5.18.4p/lib/site_perl/5.18.4/WWW/Mechanize.pm line 117
	WWW::Mechanize::get(Test::WWW::Mechanize::PSGI=HASH(0x412f46f0), "/wishlist") called at /usr/perl5.18.4p/lib/site_perl/5.18.4/Test/WWW/Mechanize.pm line 160
	Test::WWW::Mechanize::get_ok(Test::WWW::Mechanize::PSGI=HASH(0x412f46f0), "/wishlist", "Wishlist is still available") called at t/03_mech.t line 85
Secret string too short at /home/cpansand/.cpan/build/2018012612/HTTP-Session2-1.10-jv0uGP/blib/lib/HTTP/Session2/Base.pm line 79.
	HTTP::Session2::Base::__ANON__(HTTP::Session2::ServerStore=HASH(0x44acb408), "s3cret") called at t/03_mech.t line 121
	main::server_session(HASH(0x44ac8f90)) called at t/03_mech.t line 17
	main::__ANON__(HASH(0x44ac8f90)) called at /usr/perl5.18.4p/lib/site_perl/5.18.4/Test/WWW/Mechanize/PSGI.pm line 43
	Test::WWW::Mechanize::PSGI::try {...} () called at /usr/perl5.18.4p/lib/site_perl/5.18.4/Try/Tiny.pm line 102
	eval {...} called at /usr/perl5.18.4p/lib/site_perl/5.18.4/Try/Tiny.pm line 93
	Try::Tiny::try(CODE(0x44acb528), Try::Tiny::Catch=REF(0x44ac8bb8)) called at /usr/perl5.18.4p/lib/site_perl/5.18.4/Test/WWW/Mechanize/PSGI.pm line 50
	Test::WWW::Mechanize::PSGI::simple_request(Test::WWW::Mechanize::PSGI=HASH(0x412f46f0), HTTP::Request=HASH(0x448ae0f0), undef, undef) called at /usr/perl5.18.4p/lib/site_perl/5.18.4/LWP/UserAgent.pm line 297
	LWP::UserAgent::request(Test::WWW::Mechanize::PSGI=HASH(0x412f46f0), HTTP::Request=HASH(0x448ae0f0)) called at /usr/perl5.18.4p/lib/site_perl/5.18.4/WWW/Mechanize.pm line 1413
	WWW::Mechanize::_make_request(Test::WWW::Mechanize::PSGI=HASH(0x412f46f0), HTTP::Request=HASH(0x448ae0f0)) called at /usr/perl5.18.4p/lib/site_perl/5.18.4/WWW/Mechanize.pm line 1253
	WWW::Mechanize::request(Test::WWW::Mechanize::PSGI=HASH(0x412f46f0), HTTP::Request=HASH(0x448ae0f0)) called at /usr/perl5.18.4p/lib/site_perl/5.18.4/LWP/UserAgent.pm line 478
	LWP::UserAgent::post(Test::WWW::Mechanize::PSGI=HASH(0x412f46f0), "/wishlist?baz") called at t/03_mech.t line 87
Secret string too short at /home/cpansand/.cpan/build/2018012612/HTTP-Session2-1.10-jv0uGP/blib/lib/HTTP/Session2/Base.pm line 79.
	HTTP::Session2::Base::__ANON__(HTTP::Session2::ServerStore=HASH(0x44acb858), "s3cret") called at t/03_mech.t line 121
	main::server_session(HASH(0x44acbab0)) called at t/03_mech.t line 17
	main::__ANON__(HASH(0x44acbab0)) called at /usr/perl5.18.4p/lib/site_perl/5.18.4/Test/WWW/Mechanize/PSGI.pm line 43
	Test::WWW::Mechanize::PSGI::try {...} () called at /usr/perl5.18.4p/lib/site_perl/5.18.4/Try/Tiny.pm line 102
	eval {...} called at /usr/perl5.18.4p/lib/site_perl/5.18.4/Try/Tiny.pm line 93
	Try::Tiny::try(CODE(0x44acbc00), Try::Tiny::Catch=REF(0x44ac8f78)) called at /usr/perl5.18.4p/lib/site_perl/5.18.4/Test/WWW/Mechanize/PSGI.pm line 50
	Test::WWW::Mechanize::PSGI::simple_request(Test::WWW::Mechanize::PSGI=HASH(0x412f46f0), HTTP::Request=HASH(0x448ae1c8), undef, undef) called at /usr/perl5.18.4p/lib/site_perl/5.18.4/LWP/UserAgent.pm line 297
	LWP::UserAgent::request(Test::WWW::Mechanize::PSGI=HASH(0x412f46f0), HTTP::Request=HASH(0x448ae1c8)) called at /usr/perl5.18.4p/lib/site_perl/5.18.4/WWW/Mechanize.pm line 1413
	WWW::Mechanize::_make_request(Test::WWW::Mechanize::PSGI=HASH(0x412f46f0), HTTP::Request=HASH(0x448ae1c8)) called at /usr/perl5.18.4p/lib/site_perl/5.18.4/WWW/Mechanize.pm line 1253
	WWW::Mechanize::request(Test::WWW::Mechanize::PSGI=HASH(0x412f46f0), HTTP::Request=HASH(0x448ae1c8)) called at /usr/perl5.18.4p/lib/site_perl/5.18.4/LWP/UserAgent.pm line 478
	LWP::UserAgent::post(Test::WWW::Mechanize::PSGI=HASH(0x412f46f0), "/wishlist?baz", HASH(0x43825240)) called at /usr/perl5.18.4p/lib/site_perl/5.18.4/Test/WWW/Mechanize.pm line 237
	Test::WWW::Mechanize::post_ok(Test::WWW::Mechanize::PSGI=HASH(0x412f46f0), "/wishlist?baz") called at t/03_mech.t line 90
Secret string too short at /home/cpansand/.cpan/build/2018012612/HTTP-Session2-1.10-jv0uGP/blib/lib/HTTP/Session2/Base.pm line 79.
	HTTP::Session2::Base::__ANON__(HTTP::Session2::ServerStore=HASH(0x44acbd98), "s3cret") called at t/03_mech.t line 121
	main::server_session(HASH(0x44acb378)) called at t/03_mech.t line 17
	main::__ANON__(HASH(0x44acb378)) called at /usr/perl5.18.4p/lib/site_perl/5.18.4/Test/WWW/Mechanize/PSGI.pm line 43
	Test::WWW::Mechanize::PSGI::try {...} () called at /usr/perl5.18.4p/lib/site_perl/5.18.4/Try/Tiny.pm line 102
	eval {...} called at /usr/perl5.18.4p/lib/site_perl/5.18.4/Try/Tiny.pm line 93
	Try::Tiny::try(CODE(0x44acb720), Try::Tiny::Catch=REF(0x44ac8ee8)) called at /usr/perl5.18.4p/lib/site_perl/5.18.4/Test/WWW/Mechanize/PSGI.pm line 50
	Test::WWW::Mechanize::PSGI::simple_request(Test::WWW::Mechanize::PSGI=HASH(0x412f46f0), HTTP::Request=HASH(0x44acb150), undef, undef) called at /usr/perl5.18.4p/lib/site_perl/5.18.4/LWP/UserAgent.pm line 297
	LWP::UserAgent::request(Test::WWW::Mechanize::PSGI=HASH(0x412f46f0), HTTP::Request=HASH(0x44acb150)) called at /usr/perl5.18.4p/lib/site_perl/5.18.4/WWW/Mechanize.pm line 1413
	WWW::Mechanize::_make_request(Test::WWW::Mechanize::PSGI=HASH(0x412f46f0), HTTP::Request=HASH(0x44acb150)) called at /usr/perl5.18.4p/lib/site_perl/5.18.4/WWW/Mechanize.pm line 1253
	WWW::Mechanize::request(Test::WWW::Mechanize::PSGI=HASH(0x412f46f0), HTTP::Request=HASH(0x44acb150)) called at /usr/perl5.18.4p/lib/site_perl/5.18.4/LWP/UserAgent.pm line 435
	LWP::UserAgent::get(Test::WWW::Mechanize::PSGI=HASH(0x412f46f0), "http://localhost/wishlist") called at /usr/perl5.18.4p/lib/site_perl/5.18.4/WWW/Mechanize.pm line 117
	WWW::Mechanize::get(Test::WWW::Mechanize::PSGI=HASH(0x412f46f0), "/wishlist") called at /usr/perl5.18.4p/lib/site_perl/5.18.4/Test/WWW/Mechanize.pm line 160
	Test::WWW::Mechanize::get_ok(Test::WWW::Mechanize::PSGI=HASH(0x412f46f0), "/wishlist", "Wishlist is still available") called at t/03_mech.t line 91
Secret string too short at /home/cpansand/.cpan/build/2018012612/HTTP-Session2-1.10-jv0uGP/blib/lib/HTTP/Session2/Base.pm line 79.
	HTTP::Session2::Base::__ANON__(HTTP::Session2::ServerStore=HASH(0x44acbb10), "s3cret") called at t/03_mech.t line 121
	main::server_session(HASH(0x44acb3a8)) called at t/03_mech.t line 17
	main::__ANON__(HASH(0x44acb3a8)) called at /usr/perl5.18.4p/lib/site_perl/5.18.4/Test/WWW/Mechanize/PSGI.pm line 43
	Test::WWW::Mechanize::PSGI::try {...} () called at /usr/perl5.18.4p/lib/site_perl/5.18.4/Try/Tiny.pm line 102
	eval {...} called at /usr/perl5.18.4p/lib/site_perl/5.18.4/Try/Tiny.pm line 93
	Try::Tiny::try(CODE(0x44acb8a0), Try::Tiny::Catch=REF(0x44acbc18)) called at /usr/perl5.18.4p/lib/site_perl/5.18.4/Test/WWW/Mechanize/PSGI.pm line 50
	Test::WWW::Mechanize::PSGI::simple_request(Test::WWW::Mechanize::PSGI=HASH(0x412f46f0), HTTP::Request=HASH(0x44acb7b0), undef, undef) called at /usr/perl5.18.4p/lib/site_perl/5.18.4/LWP/UserAgent.pm line 297
	LWP::UserAgent::request(Test::WWW::Mechanize::PSGI=HASH(0x412f46f0), HTTP::Request=HASH(0x44acb7b0)) called at /usr/perl5.18.4p/lib/site_perl/5.18.4/WWW/Mechanize.pm line 1413
	WWW::Mechanize::_make_request(Test::WWW::Mechanize::PSGI=HASH(0x412f46f0), HTTP::Request=HASH(0x44acb7b0)) called at /usr/perl5.18.4p/lib/site_perl/5.18.4/WWW/Mechanize.pm line 1253
	WWW::Mechanize::request(Test::WWW::Mechanize::PSGI=HASH(0x412f46f0), HTTP::Request=HASH(0x44acb7b0)) called at /usr/perl5.18.4p/lib/site_perl/5.18.4/LWP/UserAgent.pm line 435
	LWP::UserAgent::get(Test::WWW::Mechanize::PSGI=HASH(0x412f46f0), "http://localhost/my/name") called at /usr/perl5.18.4p/lib/site_perl/5.18.4/WWW/Mechanize.pm line 117
	WWW::Mechanize::get(Test::WWW::Mechanize::PSGI=HASH(0x412f46f0), "/my/name") called at /usr/perl5.18.4p/lib/site_perl/5.18.4/Test/WWW/Mechanize.pm line 160
	Test::WWW::Mechanize::get_ok(Test::WWW::Mechanize::PSGI=HASH(0x412f46f0), "/my/name") called at t/03_mech.t line 93
Secret string too short at /home/cpansand/.cpan/build/2018012612/HTTP-Session2-1.10-jv0uGP/blib/lib/HTTP/Session2/Base.pm line 79.
	HTTP::Session2::Base::__ANON__(HTTP::Session2::ServerStore=HASH(0x44acb4c8), "s3cret") called at t/03_mech.t line 121
	main::server_session(HASH(0x44acbc18)) called at t/03_mech.t line 17
	main::__ANON__(HASH(0x44acbc18)) called at /usr/perl5.18.4p/lib/site_perl/5.18.4/Test/WWW/Mechanize/PSGI.pm line 43
	Test::WWW::Mechanize::PSGI::try {...} () called at /usr/perl5.18.4p/lib/site_perl/5.18.4/Try/Tiny.pm line 102
	eval {...} called at /usr/perl5.18.4p/lib/site_perl/5.18.4/Try/Tiny.pm line 93
	Try::Tiny::try(CODE(0x44acf240), Try::Tiny::Catch=REF(0x44acbf78)) called at /usr/perl5.18.4p/lib/site_perl/5.18.4/Test/WWW/Mechanize/PSGI.pm line 50
	Test::WWW::Mechanize::PSGI::simple_request(Test::WWW::Mechanize::PSGI=HASH(0x412f46f0), HTTP::Request=HASH(0x44acf8a0), undef, undef) called at /usr/perl5.18.4p/lib/site_perl/5.18.4/LWP/UserAgent.pm line 297
	LWP::UserAgent::request(Test::WWW::Mechanize::PSGI=HASH(0x412f46f0), HTTP::Request=HASH(0x44acf8a0)) called at /usr/perl5.18.4p/lib/site_perl/5.18.4/WWW/Mechanize.pm line 1413
	WWW::Mechanize::_make_request(Test::WWW::Mechanize::PSGI=HASH(0x412f46f0), HTTP::Request=HASH(0x44acf8a0)) called at /usr/perl5.18.4p/lib/site_perl/5.18.4/WWW/Mechanize.pm line 1253
	WWW::Mechanize::request(Test::WWW::Mechanize::PSGI=HASH(0x412f46f0), HTTP::Request=HASH(0x44acf8a0)) called at /usr/perl5.18.4p/lib/site_perl/5.18.4/LWP/UserAgent.pm line 478
	LWP::UserAgent::post(Test::WWW::Mechanize::PSGI=HASH(0x412f46f0), "/account/logout?john") called at t/03_mech.t line 97
Secret string too short at /home/cpansand/.cpan/build/2018012612/HTTP-Session2-1.10-jv0uGP/blib/lib/HTTP/Session2/Base.pm line 79.
	HTTP::Session2::Base::__ANON__(HTTP::Session2::ClientStore=HASH(0x448aa990), "s3cret") called at t/03_mech.t line 127
	main::client_session(HASH(0x44acf420)) called at t/03_mech.t line 17
	main::__ANON__(HASH(0x44acf420)) called at /usr/perl5.18.4p/lib/site_perl/5.18.4/Test/WWW/Mechanize/PSGI.pm line 43
	Test::WWW::Mechanize::PSGI::try {...} () called at /usr/perl5.18.4p/lib/site_perl/5.18.4/Try/Tiny.pm line 102
	eval {...} called at /usr/perl5.18.4p/lib/site_perl/5.18.4/Try/Tiny.pm line 93
	Try::Tiny::try(CODE(0x448aa648), Try::Tiny::Catch=REF(0x44acf978)) called at /usr/perl5.18.4p/lib/site_perl/5.18.4/Test/WWW/Mechanize/PSGI.pm line 50
	Test::WWW::Mechanize::PSGI::simple_request(Test::WWW::Mechanize::PSGI=HASH(0x440a2e70), HTTP::Request=HASH(0x440a2798), undef, undef) called at /usr/perl5.18.4p/lib/site_perl/5.18.4/LWP/UserAgent.pm line 297
	LWP::UserAgent::request(Test::WWW::Mechanize::PSGI=HASH(0x440a2e70), HTTP::Request=HASH(0x440a2798)) called at /usr/perl5.18.4p/lib/site_perl/5.18.4/WWW/Mechanize.pm line 1413
	WWW::Mechanize::_make_request(Test::WWW::Mechanize::PSGI=HASH(0x440a2e70), HTTP::Request=HASH(0x440a2798)) called at /usr/perl5.18.4p/lib/site_perl/5.18.4/WWW/Mechanize.pm line 1253
	WWW::Mechanize::request(Test::WWW::Mechanize::PSGI=HASH(0x440a2e70), HTTP::Request=HASH(0x440a2798)) called at /usr/perl5.18.4p/lib/site_perl/5.18.4/LWP/UserAgent.pm line 435
	LWP::UserAgent::get(Test::WWW::Mechanize::PSGI=HASH(0x440a2e70), "/") called at /usr/perl5.18.4p/lib/site_perl/5.18.4/WWW/Mechanize.pm line 117
	WWW::Mechanize::get(Test::WWW::Mechanize::PSGI=HASH(0x440a2e70), "/") called at /usr/perl5.18.4p/lib/site_perl/5.18.4/Test/WWW/Mechanize.pm line 160
	Test::WWW::Mechanize::get_ok(Test::WWW::Mechanize::PSGI=HASH(0x440a2e70), "/") called at t/03_mech.t line 74
Secret string too short at /home/cpansand/.cpan/build/2018012612/HTTP-Session2-1.10-jv0uGP/blib/lib/HTTP/Session2/Base.pm line 79.
	HTTP::Session2::Base::__ANON__(HTTP::Session2::ClientStore=HASH(0x448aadf8), "s3cret") called at t/03_mech.t line 127
	main::client_session(HASH(0x4461bae0)) called at t/03_mech.t line 17
	main::__ANON__(HASH(0x4461bae0)) called at /usr/perl5.18.4p/lib/site_perl/5.18.4/Test/WWW/Mechanize/PSGI.pm line 43
	Test::WWW::Mechanize::PSGI::try {...} () called at /usr/perl5.18.4p/lib/site_perl/5.18.4/Try/Tiny.pm line 102
	eval {...} called at /usr/perl5.18.4p/lib/site_perl/5.18.4/Try/Tiny.pm line 93
	Try::Tiny::try(CODE(0x448ae888), Try::Tiny::Catch=REF(0x448aab88)) called at /usr/perl5.18.4p/lib/site_perl/5.18.4/Test/WWW/Mechanize/PSGI.pm line 50
	Test::WWW::Mechanize::PSGI::simple_request(Test::WWW::Mechanize::PSGI=HASH(0x440a2e70), HTTP::Request=HASH(0x4489c810), undef, undef) called at /usr/perl5.18.4p/lib/site_perl/5.18.4/LWP/UserAgent.pm line 297
	LWP::UserAgent::request(Test::WWW::Mechanize::PSGI=HASH(0x440a2e70), HTTP::Request=HASH(0x4489c810)) called at /usr/perl5.18.4p/lib/site_perl/5.18.4/WWW/Mechanize.pm line 1413
	WWW::Mechanize::_make_request(Test::WWW::Mechanize::PSGI=HASH(0x440a2e70), HTTP::Request=HASH(0x4489c810)) called at /usr/perl5.18.4p/lib/site_perl/5.18.4/WWW/Mechanize.pm line 1253
	WWW::Mechanize::request(Test::WWW::Mechanize::PSGI=HASH(0x440a2e70), HTTP::Request=HASH(0x4489c810)) called at /usr/perl5.18.4p/lib/site_perl/5.18.4/LWP/UserAgent.pm line 478
	LWP::UserAgent::post(Test::WWW::Mechanize::PSGI=HASH(0x440a2e70), "/wishlist?foo", HASH(0x43825240)) called at /usr/perl5.18.4p/lib/site_perl/5.18.4/Test/WWW/Mechanize.pm line 237
	Test::WWW::Mechanize::post_ok(Test::WWW::Mechanize::PSGI=HASH(0x440a2e70), "/wishlist?foo") called at t/03_mech.t line 75
Do not use HTTP::Session2::ClientStore. Use HTTP::Session2::ServerStore or HTTP::Session2::ClientStore2 instead. at /home/cpansand/.cpan/build/2018012612/HTTP-Session2-1.10-jv0uGP/blib/lib/HTTP/Session2/ClientStore.pm line 25.
Secret string too short at /home/cpansand/.cpan/build/2018012612/HTTP-Session2-1.10-jv0uGP/blib/lib/HTTP/Session2/Base.pm line 79.
	HTTP::Session2::Base::__ANON__(HTTP::Session2::ClientStore=HASH(0x448ae9f0), "s3cret") called at t/03_mech.t line 127
	main::client_session(HASH(0x448ae978)) called at t/03_mech.t line 17
	main::__ANON__(HASH(0x448ae978)) called at /usr/perl5.18.4p/lib/site_perl/5.18.4/Test/WWW/Mechanize/PSGI.pm line 43
	Test::WWW::Mechanize::PSGI::try {...} () called at /usr/perl5.18.4p/lib/site_perl/5.18.4/Try/Tiny.pm line 102
	eval {...} called at /usr/perl5.18.4p/lib/site_perl/5.18.4/Try/Tiny.pm line 93
	Try::Tiny::try(CODE(0x448aadc8), Try::Tiny::Catch=REF(0x44ac8150)) called at /usr/perl5.18.4p/lib/site_perl/5.18.4/Test/WWW/Mechanize/PSGI.pm line 50
	Test::WWW::Mechanize::PSGI::simple_request(Test::WWW::Mechanize::PSGI=HASH(0x440a2e70), HTTP::Request=HASH(0x427e2168), undef, undef) called at /usr/perl5.18.4p/lib/site_perl/5.18.4/LWP/UserAgent.pm line 297
	LWP::UserAgent::request(Test::WWW::Mechanize::PSGI=HASH(0x440a2e70), HTTP::Request=HASH(0x427e2168)) called at /usr/perl5.18.4p/lib/site_perl/5.18.4/WWW/Mechanize.pm line 1413
	WWW::Mechanize::_make_request(Test::WWW::Mechanize::PSGI=HASH(0x440a2e70), HTTP::Request=HASH(0x427e2168)) called at /usr/perl5.18.4p/lib/site_perl/5.18.4/WWW/Mechanize.pm line 1253
	WWW::Mechanize::request(Test::WWW::Mechanize::PSGI=HASH(0x440a2e70), HTTP::Request=HASH(0x427e2168)) called at /usr/perl5.18.4p/lib/site_perl/5.18.4/LWP/UserAgent.pm line 435
	LWP::UserAgent::get(Test::WWW::Mechanize::PSGI=HASH(0x440a2e70), "http://localhost/wishlist") called at /usr/perl5.18.4p/lib/site_perl/5.18.4/WWW/Mechanize.pm line 117
	WWW::Mechanize::get(Test::WWW::Mechanize::PSGI=HASH(0x440a2e70), "/wishlist") called at /usr/perl5.18.4p/lib/site_perl/5.18.4/Test/WWW/Mechanize.pm line 160
	Test::WWW::Mechanize::get_ok(Test::WWW::Mechanize::PSGI=HASH(0x440a2e70), "/wishlist") called at t/03_mech.t line 76
Do not use HTTP::Session2::ClientStore. Use HTTP::Session2::ServerStore or HTTP::Session2::ClientStore2 instead. at /home/cpansand/.cpan/build/2018012612/HTTP-Session2-1.10-jv0uGP/blib/lib/HTTP/Session2/ClientStore.pm line 35.
Secret string too short at /home/cpansand/.cpan/build/2018012612/HTTP-Session2-1.10-jv0uGP/blib/lib/HTTP/Session2/Base.pm line 79.
	HTTP::Session2::Base::__ANON__(HTTP::Session2::ClientStore=HASH(0x448aeb40), "s3cret") called at t/03_mech.t line 127
	main::client_session(HASH(0x44acf4f8)) called at t/03_mech.t line 17
	main::__ANON__(HASH(0x44acf4f8)) called at /usr/perl5.18.4p/lib/site_perl/5.18.4/Test/WWW/Mechanize/PSGI.pm line 43
	Test::WWW::Mechanize::PSGI::try {...} () called at /usr/perl5.18.4p/lib/site_perl/5.18.4/Try/Tiny.pm line 102
	eval {...} called at /usr/perl5.18.4p/lib/site_perl/5.18.4/Try/Tiny.pm line 93
	Try::Tiny::try(CODE(0x44ac8210), Try::Tiny::Catch=REF(0x44ac8048)) called at /usr/perl5.18.4p/lib/site_perl/5.18.4/Test/WWW/Mechanize/PSGI.pm line 50
	Test::WWW::Mechanize::PSGI::simple_request(Test::WWW::Mechanize::PSGI=HASH(0x440a2e70), HTTP::Request=HASH(0x448aea98), undef, undef) called at /usr/perl5.18.4p/lib/site_perl/5.18.4/LWP/UserAgent.pm line 297
	LWP::UserAgent::request(Test::WWW::Mechanize::PSGI=HASH(0x440a2e70), HTTP::Request=HASH(0x448aea98)) called at /usr/perl5.18.4p/lib/site_perl/5.18.4/WWW/Mechanize.pm line 1413
	WWW::Mechanize::_make_request(Test::WWW::Mechanize::PSGI=HASH(0x440a2e70), HTTP::Request=HASH(0x448aea98)) called at /usr/perl5.18.4p/lib/site_perl/5.18.4/WWW/Mechanize.pm line 1253
	WWW::Mechanize::request(Test::WWW::Mechanize::PSGI=HASH(0x440a2e70), HTTP::Request=HASH(0x448aea98)) called at /usr/perl5.18.4p/lib/site_perl/5.18.4/LWP/UserAgent.pm line 478
	LWP::UserAgent::post(Test::WWW::Mechanize::PSGI=HASH(0x440a2e70), "/wishlist?bar") called at t/03_mech.t line 78
Do not use HTTP::Session2::ClientStore. Use HTTP::Session2::ServerStore or HTTP::Session2::ClientStore2 instead. at /home/cpansand/.cpan/build/2018012612/HTTP-Session2-1.10-jv0uGP/blib/lib/HTTP/Session2/ClientStore.pm line 35.
Secret string too short at /home/cpansand/.cpan/build/2018012612/HTTP-Session2-1.10-jv0uGP/blib/lib/HTTP/Session2/Base.pm line 79.
	HTTP::Session2::Base::__ANON__(HTTP::Session2::ClientStore=HASH(0x44ac8ab0), "s3cret") called at t/03_mech.t line 127
	main::client_session(HASH(0x448ae9f0)) called at t/03_mech.t line 17
	main::__ANON__(HASH(0x448ae9f0)) called at /usr/perl5.18.4p/lib/site_perl/5.18.4/Test/WWW/Mechanize/PSGI.pm line 43
	Test::WWW::Mechanize::PSGI::try {...} () called at /usr/perl5.18.4p/lib/site_perl/5.18.4/Try/Tiny.pm line 102
	eval {...} called at /usr/perl5.18.4p/lib/site_perl/5.18.4/Try/Tiny.pm line 93
	Try::Tiny::try(CODE(0x448aebb8), Try::Tiny::Catch=REF(0x448aeb58)) called at /usr/perl5.18.4p/lib/site_perl/5.18.4/Test/WWW/Mechanize/PSGI.pm line 50
	Test::WWW::Mechanize::PSGI::simple_request(Test::WWW::Mechanize::PSGI=HASH(0x440a2e70), HTTP::Request=HASH(0x44ac8d20), undef, undef) called at /usr/perl5.18.4p/lib/site_perl/5.18.4/LWP/UserAgent.pm line 297
	LWP::UserAgent::request(Test::WWW::Mechanize::PSGI=HASH(0x440a2e70), HTTP::Request=HASH(0x44ac8d20)) called at /usr/perl5.18.4p/lib/site_perl/5.18.4/WWW/Mechanize.pm line 1413
	WWW::Mechanize::_make_request(Test::WWW::Mechanize::PSGI=HASH(0x440a2e70), HTTP::Request=HASH(0x44ac8d20)) called at /usr/perl5.18.4p/lib/site_perl/5.18.4/WWW/Mechanize.pm line 1253
	WWW::Mechanize::request(Test::WWW::Mechanize::PSGI=HASH(0x440a2e70), HTTP::Request=HASH(0x44ac8d20)) called at /usr/perl5.18.4p/lib/site_perl/5.18.4/LWP/UserAgent.pm line 478
	LWP::UserAgent::post(Test::WWW::Mechanize::PSGI=HASH(0x440a2e70), "/wishlist?bar", HASH(0x43825240)) called at /usr/perl5.18.4p/lib/site_perl/5.18.4/Test/WWW/Mechanize.pm line 237
	Test::WWW::Mechanize::post_ok(Test::WWW::Mechanize::PSGI=HASH(0x440a2e70), "/wishlist?bar") called at t/03_mech.t line 81
Do not use HTTP::Session2::ClientStore. Use HTTP::Session2::ServerStore or HTTP::Session2::ClientStore2 instead. at /home/cpansand/.cpan/build/2018012612/HTTP-Session2-1.10-jv0uGP/blib/lib/HTTP/Session2/ClientStore.pm line 35.
Do not use HTTP::Session2::ClientStore. Use HTTP::Session2::ServerStore or HTTP::Session2::ClientStore2 instead. at /home/cpansand/.cpan/build/2018012612/HTTP-Session2-1.10-jv0uGP/blib/lib/HTTP/Session2/ClientStore.pm line 25.
Secret string too short at /home/cpansand/.cpan/build/2018012612/HTTP-Session2-1.10-jv0uGP/blib/lib/HTTP/Session2/Base.pm line 79.
	HTTP::Session2::Base::__ANON__(HTTP::Session2::ClientStore=HASH(0x44ac8420), "s3cret") called at t/03_mech.t line 127
	main::client_session(HASH(0x42be3cc0)) called at t/03_mech.t line 17
	main::__ANON__(HASH(0x42be3cc0)) called at /usr/perl5.18.4p/lib/site_perl/5.18.4/Test/WWW/Mechanize/PSGI.pm line 43
	Test::WWW::Mechanize::PSGI::try {...} () called at /usr/perl5.18.4p/lib/site_perl/5.18.4/Try/Tiny.pm line 102
	eval {...} called at /usr/perl5.18.4p/lib/site_perl/5.18.4/Try/Tiny.pm line 93
	Try::Tiny::try(CODE(0x448aaca8), Try::Tiny::Catch=REF(0x44ac8de0)) called at /usr/perl5.18.4p/lib/site_perl/5.18.4/Test/WWW/Mechanize/PSGI.pm line 50
	Test::WWW::Mechanize::PSGI::simple_request(Test::WWW::Mechanize::PSGI=HASH(0x440a2e70), HTTP::Request=HASH(0x448aaa50), undef, undef) called at /usr/perl5.18.4p/lib/site_perl/5.18.4/LWP/UserAgent.pm line 297
	LWP::UserAgent::request(Test::WWW::Mechanize::PSGI=HASH(0x440a2e70), HTTP::Request=HASH(0x448aaa50)) called at /usr/perl5.18.4p/lib/site_perl/5.18.4/WWW/Mechanize.pm line 1413
	WWW::Mechanize::_make_request(Test::WWW::Mechanize::PSGI=HASH(0x440a2e70), HTTP::Request=HASH(0x448aaa50)) called at /usr/perl5.18.4p/lib/site_perl/5.18.4/WWW/Mechanize.pm line 1253
	WWW::Mechanize::request(Test::WWW::Mechanize::PSGI=HASH(0x440a2e70), HTTP::Request=HASH(0x448aaa50)) called at /usr/perl5.18.4p/lib/site_perl/5.18.4/LWP/UserAgent.pm line 435
	LWP::UserAgent::get(Test::WWW::Mechanize::PSGI=HASH(0x440a2e70), "http://localhost/wishlist") called at /usr/perl5.18.4p/lib/site_perl/5.18.4/WWW/Mechanize.pm line 117
	WWW::Mechanize::get(Test::WWW::Mechanize::PSGI=HASH(0x440a2e70), "/wishlist") called at /usr/perl5.18.4p/lib/site_perl/5.18.4/Test/WWW/Mechanize.pm line 160
	Test::WWW::Mechanize::get_ok(Test::WWW::Mechanize::PSGI=HASH(0x440a2e70), "/wishlist") called at t/03_mech.t line 82
Do not use HTTP::Session2::ClientStore. Use HTTP::Session2::ServerStore or HTTP::Session2::ClientStore2 instead. at /home/cpansand/.cpan/build/2018012612/HTTP-Session2-1.10-jv0uGP/blib/lib/HTTP/Session2/ClientStore.pm line 35.
Secret string too short at /home/cpansand/.cpan/build/2018012612/HTTP-Session2-1.10-jv0uGP/blib/lib/HTTP/Session2/Base.pm line 79.
	HTTP::Session2::Base::__ANON__(HTTP::Session2::ClientStore=HASH(0x44acb810), "s3cret") called at t/03_mech.t line 127
	main::client_session(HASH(0x44ac8570)) called at t/03_mech.t line 17
	main::__ANON__(HASH(0x44ac8570)) called at /usr/perl5.18.4p/lib/site_perl/5.18.4/Test/WWW/Mechanize/PSGI.pm line 43
	Test::WWW::Mechanize::PSGI::try {...} () called at /usr/perl5.18.4p/lib/site_perl/5.18.4/Try/Tiny.pm line 102
	eval {...} called at /usr/perl5.18.4p/lib/site_perl/5.18.4/Try/Tiny.pm line 93
	Try::Tiny::try(CODE(0x44acbe58), Try::Tiny::Catch=REF(0x44ac8540)) called at /usr/perl5.18.4p/lib/site_perl/5.18.4/Test/WWW/Mechanize/PSGI.pm line 50
	Test::WWW::Mechanize::PSGI::simple_request(Test::WWW::Mechanize::PSGI=HASH(0x440a2e70), HTTP::Request=HASH(0x448aed20), undef, undef) called at /usr/perl5.18.4p/lib/site_perl/5.18.4/LWP/UserAgent.pm line 297
	LWP::UserAgent::request(Test::WWW::Mechanize::PSGI=HASH(0x440a2e70), HTTP::Request=HASH(0x448aed20)) called at /usr/perl5.18.4p/lib/site_perl/5.18.4/WWW/Mechanize.pm line 1413
	WWW::Mechanize::_make_request(Test::WWW::Mechanize::PSGI=HASH(0x440a2e70), HTTP::Request=HASH(0x448aed20)) called at /usr/perl5.18.4p/lib/site_perl/5.18.4/WWW/Mechanize.pm line 1253
	WWW::Mechanize::request(Test::WWW::Mechanize::PSGI=HASH(0x440a2e70), HTTP::Request=HASH(0x448aed20)) called at /usr/perl5.18.4p/lib/site_perl/5.18.4/LWP/UserAgent.pm line 478
	LWP::UserAgent::post(Test::WWW::Mechanize::PSGI=HASH(0x440a2e70), "/account/login?john", HASH(0x43825240)) called at /usr/perl5.18.4p/lib/site_perl/5.18.4/Test/WWW/Mechanize.pm line 237
	Test::WWW::Mechanize::post_ok(Test::WWW::Mechanize::PSGI=HASH(0x440a2e70), "/account/login?john") called at t/03_mech.t line 84
Do not use HTTP::Session2::ClientStore. Use HTTP::Session2::ServerStore or HTTP::Session2::ClientStore2 instead. at /home/cpansand/.cpan/build/2018012612/HTTP-Session2-1.10-jv0uGP/blib/lib/HTTP/Session2/ClientStore.pm line 35.
Do not use HTTP::Session2::ClientStore. Use HTTP::Session2::ServerStore or HTTP::Session2::ClientStore2 instead. at /home/cpansand/.cpan/build/2018012612/HTTP-Session2-1.10-jv0uGP/blib/lib/HTTP/Session2/ClientStore.pm line 35.
Do not use HTTP::Session2::ClientStore. Use HTTP::Session2::ServerStore or HTTP::Session2::ClientStore2 instead. at /home/cpansand/.cpan/build/2018012612/HTTP-Session2-1.10-jv0uGP/blib/lib/HTTP/Session2/ClientStore.pm line 25.
Secret string too short at /home/cpansand/.cpan/build/2018012612/HTTP-Session2-1.10-jv0uGP/blib/lib/HTTP/Session2/Base.pm line 79.
	HTTP::Session2::Base::__ANON__(HTTP::Session2::ClientStore=HASH(0x44acf4b0), "s3cret") called at t/03_mech.t line 127
	main::client_session(HASH(0x44ac89c0)) called at t/03_mech.t line 17
	main::__ANON__(HASH(0x44ac89c0)) called at /usr/perl5.18.4p/lib/site_perl/5.18.4/Test/WWW/Mechanize/PSGI.pm line 43
	Test::WWW::Mechanize::PSGI::try {...} () called at /usr/perl5.18.4p/lib/site_perl/5.18.4/Try/Tiny.pm line 102
	eval {...} called at /usr/perl5.18.4p/lib/site_perl/5.18.4/Try/Tiny.pm line 93
	Try::Tiny::try(CODE(0x44acb6d8), Try::Tiny::Catch=REF(0x448aaac8)) called at /usr/perl5.18.4p/lib/site_perl/5.18.4/Test/WWW/Mechanize/PSGI.pm line 50
	Test::WWW::Mechanize::PSGI::simple_request(Test::WWW::Mechanize::PSGI=HASH(0x440a2e70), HTTP::Request=HASH(0x44acb150), undef, undef) called at /usr/perl5.18.4p/lib/site_perl/5.18.4/LWP/UserAgent.pm line 297
	LWP::UserAgent::request(Test::WWW::Mechanize::PSGI=HASH(0x440a2e70), HTTP::Request=HASH(0x44acb150)) called at /usr/perl5.18.4p/lib/site_perl/5.18.4/WWW/Mechanize.pm line 1413
	WWW::Mechanize::_make_request(Test::WWW::Mechanize::PSGI=HASH(0x440a2e70), HTTP::Request=HASH(0x44acb150)) called at /usr/perl5.18.4p/lib/site_perl/5.18.4/WWW/Mechanize.pm line 1253
	WWW::Mechanize::request(Test::WWW::Mechanize::PSGI=HASH(0x440a2e70), HTTP::Request=HASH(0x44acb150)) called at /usr/perl5.18.4p/lib/site_perl/5.18.4/LWP/UserAgent.pm line 435
	LWP::UserAgent::get(Test::WWW::Mechanize::PSGI=HASH(0x440a2e70), "http://localhost/wishlist") called at /usr/perl5.18.4p/lib/site_perl/5.18.4/WWW/Mechanize.pm line 117
	WWW::Mechanize::get(Test::WWW::Mechanize::PSGI=HASH(0x440a2e70), "/wishlist") called at /usr/perl5.18.4p/lib/site_perl/5.18.4/Test/WWW/Mechanize.pm line 160
	Test::WWW::Mechanize::get_ok(Test::WWW::Mechanize::PSGI=HASH(0x440a2e70), "/wishlist", "Wishlist is still available") called at t/03_mech.t line 85
Do not use HTTP::Session2::ClientStore. Use HTTP::Session2::ServerStore or HTTP::Session2::ClientStore2 instead. at /home/cpansand/.cpan/build/2018012612/HTTP-Session2-1.10-jv0uGP/blib/lib/HTTP/Session2/ClientStore.pm line 35.
Secret string too short at /home/cpansand/.cpan/build/2018012612/HTTP-Session2-1.10-jv0uGP/blib/lib/HTTP/Session2/Base.pm line 79.
	HTTP::Session2::Base::__ANON__(HTTP::Session2::ClientStore=HASH(0x44ac8e28), "s3cret") called at t/03_mech.t line 127
	main::client_session(HASH(0x448aad20)) called at t/03_mech.t line 17
	main::__ANON__(HASH(0x448aad20)) called at /usr/perl5.18.4p/lib/site_perl/5.18.4/Test/WWW/Mechanize/PSGI.pm line 43
	Test::WWW::Mechanize::PSGI::try {...} () called at /usr/perl5.18.4p/lib/site_perl/5.18.4/Try/Tiny.pm line 102
	eval {...} called at /usr/perl5.18.4p/lib/site_perl/5.18.4/Try/Tiny.pm line 93
	Try::Tiny::try(CODE(0x44acf3a8), Try::Tiny::Catch=REF(0x44acb768)) called at /usr/perl5.18.4p/lib/site_perl/5.18.4/Test/WWW/Mechanize/PSGI.pm line 50
	Test::WWW::Mechanize::PSGI::simple_request(Test::WWW::Mechanize::PSGI=HASH(0x440a2e70), HTTP::Request=HASH(0x44acf1e0), undef, undef) called at /usr/perl5.18.4p/lib/site_perl/5.18.4/LWP/UserAgent.pm line 297
	LWP::UserAgent::request(Test::WWW::Mechanize::PSGI=HASH(0x440a2e70), HTTP::Request=HASH(0x44acf1e0)) called at /usr/perl5.18.4p/lib/site_perl/5.18.4/WWW/Mechanize.pm line 1413
	WWW::Mechanize::_make_request(Test::WWW::Mechanize::PSGI=HASH(0x440a2e70), HTTP::Request=HASH(0x44acf1e0)) called at /usr/perl5.18.4p/lib/site_perl/5.18.4/WWW/Mechanize.pm line 1253
	WWW::Mechanize::request(Test::WWW::Mechanize::PSGI=HASH(0x440a2e70), HTTP::Request=HASH(0x44acf1e0)) called at /usr/perl5.18.4p/lib/site_perl/5.18.4/LWP/UserAgent.pm line 478
	LWP::UserAgent::post(Test::WWW::Mechanize::PSGI=HASH(0x440a2e70), "/wishlist?baz") called at t/03_mech.t line 87
Do not use HTTP::Session2::ClientStore. Use HTTP::Session2::ServerStore or HTTP::Session2::ClientStore2 instead. at /home/cpansand/.cpan/build/2018012612/HTTP-Session2-1.10-jv0uGP/blib/lib/HTTP/Session2/ClientStore.pm line 35.
Secret string too short at /home/cpansand/.cpan/build/2018012612/HTTP-Session2-1.10-jv0uGP/blib/lib/HTTP/Session2/Base.pm line 79.
	HTTP::Session2::Base::__ANON__(HTTP::Session2::ClientStore=HASH(0x448ae3c0), "s3cret") called at t/03_mech.t line 127
	main::client_session(HASH(0x44acbd98)) called at t/03_mech.t line 17
	main::__ANON__(HASH(0x44acbd98)) called at /usr/perl5.18.4p/lib/site_perl/5.18.4/Test/WWW/Mechanize/PSGI.pm line 43
	Test::WWW::Mechanize::PSGI::try {...} () called at /usr/perl5.18.4p/lib/site_perl/5.18.4/Try/Tiny.pm line 102
	eval {...} called at /usr/perl5.18.4p/lib/site_perl/5.18.4/Try/Tiny.pm line 93
	Try::Tiny::try(CODE(0x44acfac8), Try::Tiny::Catch=REF(0x4453ea80)) called at /usr/perl5.18.4p/lib/site_perl/5.18.4/Test/WWW/Mechanize/PSGI.pm line 50
	Test::WWW::Mechanize::PSGI::simple_request(Test::WWW::Mechanize::PSGI=HASH(0x440a2e70), HTTP::Request=HASH(0x448aaac8), undef, undef) called at /usr/perl5.18.4p/lib/site_perl/5.18.4/LWP/UserAgent.pm line 297
	LWP::UserAgent::request(Test::WWW::Mechanize::PSGI=HASH(0x440a2e70), HTTP::Request=HASH(0x448aaac8)) called at /usr/perl5.18.4p/lib/site_perl/5.18.4/WWW/Mechanize.pm line 1413
	WWW::Mechanize::_make_request(Test::WWW::Mechanize::PSGI=HASH(0x440a2e70), HTTP::Request=HASH(0x448aaac8)) called at /usr/perl5.18.4p/lib/site_perl/5.18.4/WWW/Mechanize.pm line 1253
	WWW::Mechanize::request(Test::WWW::Mechanize::PSGI=HASH(0x440a2e70), HTTP::Request=HASH(0x448aaac8)) called at /usr/perl5.18.4p/lib/site_perl/5.18.4/LWP/UserAgent.pm line 478
	LWP::UserAgent::post(Test::WWW::Mechanize::PSGI=HASH(0x440a2e70), "/wishlist?baz", HASH(0x43825240)) called at /usr/perl5.18.4p/lib/site_perl/5.18.4/Test/WWW/Mechanize.pm line 237
	Test::WWW::Mechanize::post_ok(Test::WWW::Mechanize::PSGI=HASH(0x440a2e70), "/wishlist?baz") called at t/03_mech.t line 90
Do not use HTTP::Session2::ClientStore. Use HTTP::Session2::ServerStore or HTTP::Session2::ClientStore2 instead. at /home/cpansand/.cpan/build/2018012612/HTTP-Session2-1.10-jv0uGP/blib/lib/HTTP/Session2/ClientStore.pm line 35.
Do not use HTTP::Session2::ClientStore. Use HTTP::Session2::ServerStore or HTTP::Session2::ClientStore2 instead. at /home/cpansand/.cpan/build/2018012612/HTTP-Session2-1.10-jv0uGP/blib/lib/HTTP/Session2/ClientStore.pm line 25.
Secret string too short at /home/cpansand/.cpan/build/2018012612/HTTP-Session2-1.10-jv0uGP/blib/lib/HTTP/Session2/Base.pm line 79.
	HTTP::Session2::Base::__ANON__(HTTP::Session2::ClientStore=HASH(0x44ac88e8), "s3cret") called at t/03_mech.t line 127
	main::client_session(HASH(0x4453ea08)) called at t/03_mech.t line 17
	main::__ANON__(HASH(0x4453ea08)) called at /usr/perl5.18.4p/lib/site_perl/5.18.4/Test/WWW/Mechanize/PSGI.pm line 43
	Test::WWW::Mechanize::PSGI::try {...} () called at /usr/perl5.18.4p/lib/site_perl/5.18.4/Try/Tiny.pm line 102
	eval {...} called at /usr/perl5.18.4p/lib/site_perl/5.18.4/Try/Tiny.pm line 93
	Try::Tiny::try(CODE(0x44acf210), Try::Tiny::Catch=REF(0x44acbbb8)) called at /usr/perl5.18.4p/lib/site_perl/5.18.4/Test/WWW/Mechanize/PSGI.pm line 50
	Test::WWW::Mechanize::PSGI::simple_request(Test::WWW::Mechanize::PSGI=HASH(0x440a2e70), HTTP::Request=HASH(0x44acb768), undef, undef) called at /usr/perl5.18.4p/lib/site_perl/5.18.4/LWP/UserAgent.pm line 297
	LWP::UserAgent::request(Test::WWW::Mechanize::PSGI=HASH(0x440a2e70), HTTP::Request=HASH(0x44acb768)) called at /usr/perl5.18.4p/lib/site_perl/5.18.4/WWW/Mechanize.pm line 1413
	WWW::Mechanize::_make_request(Test::WWW::Mechanize::PSGI=HASH(0x440a2e70), HTTP::Request=HASH(0x44acb768)) called at /usr/perl5.18.4p/lib/site_perl/5.18.4/WWW/Mechanize.pm line 1253
	WWW::Mechanize::request(Test::WWW::Mechanize::PSGI=HASH(0x440a2e70), HTTP::Request=HASH(0x44acb768)) called at /usr/perl5.18.4p/lib/site_perl/5.18.4/LWP/UserAgent.pm line 435
	LWP::UserAgent::get(Test::WWW::Mechanize::PSGI=HASH(0x440a2e70), "http://localhost/wishlist") called at /usr/perl5.18.4p/lib/site_perl/5.18.4/WWW/Mechanize.pm line 117
	WWW::Mechanize::get(Test::WWW::Mechanize::PSGI=HASH(0x440a2e70), "/wishlist") called at /usr/perl5.18.4p/lib/site_perl/5.18.4/Test/WWW/Mechanize.pm line 160
	Test::WWW::Mechanize::get_ok(Test::WWW::Mechanize::PSGI=HASH(0x440a2e70), "/wishlist", "Wishlist is still available") called at t/03_mech.t line 91
Do not use HTTP::Session2::ClientStore. Use HTTP::Session2::ServerStore or HTTP::Session2::ClientStore2 instead. at /home/cpansand/.cpan/build/2018012612/HTTP-Session2-1.10-jv0uGP/blib/lib/HTTP/Session2/ClientStore.pm line 35.
Secret string too short at /home/cpansand/.cpan/build/2018012612/HTTP-Session2-1.10-jv0uGP/blib/lib/HTTP/Session2/Base.pm line 79.
	HTTP::Session2::Base::__ANON__(HTTP::Session2::ClientStore=HASH(0x44ad15a0), "s3cret") called at t/03_mech.t line 127
	main::client_session(HASH(0x44acfd80)) called at t/03_mech.t line 17
	main::__ANON__(HASH(0x44acfd80)) called at /usr/perl5.18.4p/lib/site_perl/5.18.4/Test/WWW/Mechanize/PSGI.pm line 43
	Test::WWW::Mechanize::PSGI::try {...} () called at /usr/perl5.18.4p/lib/site_perl/5.18.4/Try/Tiny.pm line 102
	eval {...} called at /usr/perl5.18.4p/lib/site_perl/5.18.4/Try/Tiny.pm line 93
	Try::Tiny::try(CODE(0x44ad11b0), Try::Tiny::Catch=REF(0x44acfb28)) called at /usr/perl5.18.4p/lib/site_perl/5.18.4/Test/WWW/Mechanize/PSGI.pm line 50
	Test::WWW::Mechanize::PSGI::simple_request(Test::WWW::Mechanize::PSGI=HASH(0x440a2e70), HTTP::Request=HASH(0x448aad38), undef, undef) called at /usr/perl5.18.4p/lib/site_perl/5.18.4/LWP/UserAgent.pm line 297
	LWP::UserAgent::request(Test::WWW::Mechanize::PSGI=HASH(0x440a2e70), HTTP::Request=HASH(0x448aad38)) called at /usr/perl5.18.4p/lib/site_perl/5.18.4/WWW/Mechanize.pm line 1413
	WWW::Mechanize::_make_request(Test::WWW::Mechanize::PSGI=HASH(0x440a2e70), HTTP::Request=HASH(0x448aad38)) called at /usr/perl5.18.4p/lib/site_perl/5.18.4/WWW/Mechanize.pm line 1253
	WWW::Mechanize::request(Test::WWW::Mechanize::PSGI=HASH(0x440a2e70), HTTP::Request=HASH(0x448aad38)) called at /usr/perl5.18.4p/lib/site_perl/5.18.4/LWP/UserAgent.pm line 435
	LWP::UserAgent::get(Test::WWW::Mechanize::PSGI=HASH(0x440a2e70), "http://localhost/my/name") called at /usr/perl5.18.4p/lib/site_perl/5.18.4/WWW/Mechanize.pm line 117
	WWW::Mechanize::get(Test::WWW::Mechanize::PSGI=HASH(0x440a2e70), "/my/name") called at /usr/perl5.18.4p/lib/site_perl/5.18.4/Test/WWW/Mechanize.pm line 160
	Test::WWW::Mechanize::get_ok(Test::WWW::Mechanize::PSGI=HASH(0x440a2e70), "/my/name") called at t/03_mech.t line 93
Do not use HTTP::Session2::ClientStore. Use HTTP::Session2::ServerStore or HTTP::Session2::ClientStore2 instead. at /home/cpansand/.cpan/build/2018012612/HTTP-Session2-1.10-jv0uGP/blib/lib/HTTP/Session2/ClientStore.pm line 35.
Secret string too short at /home/cpansand/.cpan/build/2018012612/HTTP-Session2-1.10-jv0uGP/blib/lib/HTTP/Session2/Base.pm line 79.
	HTTP::Session2::Base::__ANON__(HTTP::Session2::ClientStore=HASH(0x44ad1a20), "s3cret") called at t/03_mech.t line 127
	main::client_session(HASH(0x44acf558)) called at t/03_mech.t line 17
	main::__ANON__(HASH(0x44acf558)) called at /usr/perl5.18.4p/lib/site_perl/5.18.4/Test/WWW/Mechanize/PSGI.pm line 43
	Test::WWW::Mechanize::PSGI::try {...} () called at /usr/perl5.18.4p/lib/site_perl/5.18.4/Try/Tiny.pm line 102
	eval {...} called at /usr/perl5.18.4p/lib/site_perl/5.18.4/Try/Tiny.pm line 93
	Try::Tiny::try(CODE(0x44ad1468), Try::Tiny::Catch=REF(0x44ad12e8)) called at /usr/perl5.18.4p/lib/site_perl/5.18.4/Test/WWW/Mechanize/PSGI.pm line 50
	Test::WWW::Mechanize::PSGI::simple_request(Test::WWW::Mechanize::PSGI=HASH(0x440a2e70), HTTP::Request=HASH(0x44ad1600), undef, undef) called at /usr/perl5.18.4p/lib/site_perl/5.18.4/LWP/UserAgent.pm line 297
	LWP::UserAgent::request(Test::WWW::Mechanize::PSGI=HASH(0x440a2e70), HTTP::Request=HASH(0x44ad1600)) called at /usr/perl5.18.4p/lib/site_perl/5.18.4/WWW/Mechanize.pm line 1413
	WWW::Mechanize::_make_request(Test::WWW::Mechanize::PSGI=HASH(0x440a2e70), HTTP::Request=HASH(0x44ad1600)) called at /usr/perl5.18.4p/lib/site_perl/5.18.4/WWW/Mechanize.pm line 1253
	WWW::Mechanize::request(Test::WWW::Mechanize::PSGI=HASH(0x440a2e70), HTTP::Request=HASH(0x44ad1600)) called at /usr/perl5.18.4p/lib/site_perl/5.18.4/LWP/UserAgent.pm line 478
	LWP::UserAgent::post(Test::WWW::Mechanize::PSGI=HASH(0x440a2e70), "/account/logout?john") called at t/03_mech.t line 97
Do not use HTTP::Session2::ClientStore. Use HTTP::Session2::ServerStore or HTTP::Session2::ClientStore2 instead. at /home/cpansand/.cpan/build/2018012612/HTTP-Session2-1.10-jv0uGP/blib/lib/HTTP/Session2/ClientStore.pm line 35.
Do not use HTTP::Session2::ClientStore. Use HTTP::Session2::ServerStore or HTTP::Session2::ClientStore2 instead. at /home/cpansand/.cpan/build/2018012612/HTTP-Session2-1.10-jv0uGP/blib/lib/HTTP/Session2/ClientStore.pm line 35.
t/03_mech.t ................. ok
Do not use HTTP::Session2::ClientStore. Use HTTP::Session2::ServerStore or HTTP::Session2::ClientStore2 instead. at /home/cpansand/.cpan/build/2018012612/HTTP-Session2-1.10-jv0uGP/blib/lib/HTTP/Session2/ClientStore.pm line 25.
t/04_plack_response.t ....... ok
Secret string too short at /home/cpansand/.cpan/build/2018012612/HTTP-Session2-1.10-jv0uGP/blib/lib/HTTP/Session2/Base.pm line 79.
	HTTP::Session2::Base::__ANON__(HTTP::Session2::ClientStore=HASH(0x432900c0), "s3cret") called at t/05_keep_me_signed_in.t line 15
Do not use HTTP::Session2::ClientStore. Use HTTP::Session2::ServerStore or HTTP::Session2::ClientStore2 instead. at /home/cpansand/.cpan/build/2018012612/HTTP-Session2-1.10-jv0uGP/blib/lib/HTTP/Session2/ClientStore.pm line 25.
t/05_keep_me_signed_in.t .... ok
Secret string too short at /home/cpansand/.cpan/build/2018012612/HTTP-Session2-1.10-jv0uGP/blib/lib/HTTP/Session2/Base.pm line 79.
	HTTP::Session2::Base::__ANON__(HTTP::Session2::Base=HASH(0x4292dc78), "i am secret") called at t/06_base_abstract.t line 7
t/06_base_abstract.t ........ ok
Secret string too short at /home/cpansand/.cpan/build/2018012612/HTTP-Session2-1.10-jv0uGP/blib/lib/HTTP/Session2/Base.pm line 79.
	HTTP::Session2::Base::__ANON__(HTTP::Session2::ClientStore=HASH(0x43efbb28), "secret") called at t/07_client_store.t line 23
	main::__ANON__() called at /usr/perl5.18.4p/lib/site_perl/5.18.4/Test/Builder.pm line 337
	eval {...} called at /usr/perl5.18.4p/lib/site_perl/5.18.4/Test/Builder.pm line 337
	Test::Builder::subtest(Test::Builder=HASH(0x412f8db0), "get/set/remove", CODE(0x420e51b0)) called at /usr/perl5.18.4p/lib/site_perl/5.18.4/Test/More.pm line 807
	Test::More::subtest("get/set/remove", CODE(0x420e51b0)) called at t/07_client_store.t line 31
Secret string too short at /home/cpansand/.cpan/build/2018012612/HTTP-Session2-1.10-jv0uGP/blib/lib/HTTP/Session2/Base.pm line 79.
	HTTP::Session2::Base::__ANON__(HTTP::Session2::ClientStore=HASH(0x43efbd98), "secret") called at t/07_client_store.t line 35
	main::__ANON__() called at /usr/perl5.18.4p/lib/site_perl/5.18.4/Test/Builder.pm line 337
	eval {...} called at /usr/perl5.18.4p/lib/site_perl/5.18.4/Test/Builder.pm line 337
	Test::Builder::subtest(Test::Builder=HASH(0x412f8db0), "validate_token", CODE(0x43eebd68)) called at /usr/perl5.18.4p/lib/site_perl/5.18.4/Test/More.pm line 807
	Test::More::subtest("validate_token", CODE(0x43eebd68)) called at t/07_client_store.t line 71
Do not use HTTP::Session2::ClientStore. Use HTTP::Session2::ServerStore or HTTP::Session2::ClientStore2 instead. at /home/cpansand/.cpan/build/2018012612/HTTP-Session2-1.10-jv0uGP/blib/lib/HTTP/Session2/ClientStore.pm line 25.
Secret string too short at /home/cpansand/.cpan/build/2018012612/HTTP-Session2-1.10-jv0uGP/blib/lib/HTTP/Session2/Base.pm line 79.
	HTTP::Session2::Base::__ANON__(HTTP::Session2::ClientStore=HASH(0x43f00360), "secret") called at t/07_client_store.t line 51
	main::__ANON__() called at /usr/perl5.18.4p/lib/site_perl/5.18.4/Test/Builder.pm line 337
	eval {...} called at /usr/perl5.18.4p/lib/site_perl/5.18.4/Test/Builder.pm line 337
	Test::Builder::subtest(Test::Builder=HASH(0x412f8db0), "bad", CODE(0x43ef7cd8)) called at /usr/perl5.18.4p/lib/site_perl/5.18.4/Test/More.pm line 807
	Test::More::subtest("bad", CODE(0x43ef7cd8)) called at t/07_client_store.t line 57
	main::__ANON__() called at /usr/perl5.18.4p/lib/site_perl/5.18.4/Test/Builder.pm line 337
	eval {...} called at /usr/perl5.18.4p/lib/site_perl/5.18.4/Test/Builder.pm line 337
	Test::Builder::subtest(Test::Builder=HASH(0x412f8db0), "validate_token", CODE(0x43eebd68)) called at /usr/perl5.18.4p/lib/site_perl/5.18.4/Test/More.pm line 807
	Test::More::subtest("validate_token", CODE(0x43eebd68)) called at t/07_client_store.t line 71
Do not use HTTP::Session2::ClientStore. Use HTTP::Session2::ServerStore or HTTP::Session2::ClientStore2 instead. at /home/cpansand/.cpan/build/2018012612/HTTP-Session2-1.10-jv0uGP/blib/lib/HTTP/Session2/ClientStore.pm line 35.
Secret string too short at /home/cpansand/.cpan/build/2018012612/HTTP-Session2-1.10-jv0uGP/blib/lib/HTTP/Session2/Base.pm line 79.
	HTTP::Session2::Base::__ANON__(HTTP::Session2::ClientStore=HASH(0x43f07cd8), "secret") called at t/07_client_store.t line 65
	main::__ANON__() called at /usr/perl5.18.4p/lib/site_perl/5.18.4/Test/Builder.pm line 337
	eval {...} called at /usr/perl5.18.4p/lib/site_perl/5.18.4/Test/Builder.pm line 337
	Test::Builder::subtest(Test::Builder=HASH(0x412f8db0), "good", CODE(0x43ef7cd8)) called at /usr/perl5.18.4p/lib/site_perl/5.18.4/Test/More.pm line 807
	Test::More::subtest("good", CODE(0x43ef7cd8)) called at t/07_client_store.t line 70
	main::__ANON__() called at /usr/perl5.18.4p/lib/site_perl/5.18.4/Test/Builder.pm line 337
	eval {...} called at /usr/perl5.18.4p/lib/site_perl/5.18.4/Test/Builder.pm line 337
	Test::Builder::subtest(Test::Builder=HASH(0x412f8db0), "validate_token", CODE(0x43eebd68)) called at /usr/perl5.18.4p/lib/site_perl/5.18.4/Test/More.pm line 807
	Test::More::subtest("validate_token", CODE(0x43eebd68)) called at t/07_client_store.t line 71
Do not use HTTP::Session2::ClientStore. Use HTTP::Session2::ServerStore or HTTP::Session2::ClientStore2 instead. at /home/cpansand/.cpan/build/2018012612/HTTP-Session2-1.10-jv0uGP/blib/lib/HTTP/Session2/ClientStore.pm line 35.
Secret string too short at /home/cpansand/.cpan/build/2018012612/HTTP-Session2-1.10-jv0uGP/blib/lib/HTTP/Session2/Base.pm line 79.
	HTTP::Session2::Base::__ANON__(HTTP::Session2::ClientStore=HASH(0x43efecd8), "secret") called at t/07_client_store.t line 76
	main::__ANON__() called at /usr/perl5.18.4p/lib/site_perl/5.18.4/Test/Builder.pm line 337
	eval {...} called at /usr/perl5.18.4p/lib/site_perl/5.18.4/Test/Builder.pm line 337
	Test::Builder::subtest(Test::Builder=HASH(0x412f8db0), "ignore_old", CODE(0x43ef73d8)) called at /usr/perl5.18.4p/lib/site_perl/5.18.4/Test/More.pm line 807
	Test::More::subtest("ignore_old", CODE(0x43ef73d8)) called at t/07_client_store.t line 106
Do not use HTTP::Session2::ClientStore. Use HTTP::Session2::ServerStore or HTTP::Session2::ClientStore2 instead. at /home/cpansand/.cpan/build/2018012612/HTTP-Session2-1.10-jv0uGP/blib/lib/HTTP/Session2/ClientStore.pm line 25.
Secret string too short at /home/cpansand/.cpan/build/2018012612/HTTP-Session2-1.10-jv0uGP/blib/lib/HTTP/Session2/Base.pm line 79.
	HTTP::Session2::Base::__ANON__(HTTP::Session2::ClientStore=HASH(0x43f0cbd0), "secret") called at t/07_client_store.t line 87
	main::__ANON__() called at /usr/perl5.18.4p/lib/site_perl/5.18.4/Test/Builder.pm line 337
	eval {...} called at /usr/perl5.18.4p/lib/site_perl/5.18.4/Test/Builder.pm line 337
	Test::Builder::subtest(Test::Builder=HASH(0x412f8db0), "ignore_old disabled", CODE(0x43f0acf0)) called at /usr/perl5.18.4p/lib/site_perl/5.18.4/Test/More.pm line 807
	Test::More::subtest("ignore_old disabled", CODE(0x43f0acf0)) called at t/07_client_store.t line 95
	main::__ANON__() called at /usr/perl5.18.4p/lib/site_perl/5.18.4/Test/Builder.pm line 337
	eval {...} called at /usr/perl5.18.4p/lib/site_perl/5.18.4/Test/Builder.pm line 337
	Test::Builder::subtest(Test::Builder=HASH(0x412f8db0), "ignore_old", CODE(0x43ef73d8)) called at /usr/perl5.18.4p/lib/site_perl/5.18.4/Test/More.pm line 807
	Test::More::subtest("ignore_old", CODE(0x43ef73d8)) called at t/07_client_store.t line 106
Do not use HTTP::Session2::ClientStore. Use HTTP::Session2::ServerStore or HTTP::Session2::ClientStore2 instead. at /home/cpansand/.cpan/build/2018012612/HTTP-Session2-1.10-jv0uGP/blib/lib/HTTP/Session2/ClientStore.pm line 35.
Secret string too short at /home/cpansand/.cpan/build/2018012612/HTTP-Session2-1.10-jv0uGP/blib/lib/HTTP/Session2/Base.pm line 79.
	HTTP::Session2::Base::__ANON__(HTTP::Session2::ClientStore=HASH(0x43f0f510), "secret") called at t/07_client_store.t line 97
	main::__ANON__() called at /usr/perl5.18.4p/lib/site_perl/5.18.4/Test/Builder.pm line 337
	eval {...} called at /usr/perl5.18.4p/lib/site_perl/5.18.4/Test/Builder.pm line 337
	Test::Builder::subtest(Test::Builder=HASH(0x412f8db0), "ignore_old enabled", CODE(0x43f0acf0)) called at /usr/perl5.18.4p/lib/site_perl/5.18.4/Test/More.pm line 807
	Test::More::subtest("ignore_old enabled", CODE(0x43f0acf0)) called at t/07_client_store.t line 105
	main::__ANON__() called at /usr/perl5.18.4p/lib/site_perl/5.18.4/Test/Builder.pm line 337
	eval {...} called at /usr/perl5.18.4p/lib/site_perl/5.18.4/Test/Builder.pm line 337
	Test::Builder::subtest(Test::Builder=HASH(0x412f8db0), "ignore_old", CODE(0x43ef73d8)) called at /usr/perl5.18.4p/lib/site_perl/5.18.4/Test/More.pm line 807
	Test::More::subtest("ignore_old", CODE(0x43ef73d8)) called at t/07_client_store.t line 106
t/07_client_store.t ......... ok
Secret string too short at /home/cpansand/.cpan/build/2018012612/HTTP-Session2-1.10-jv0uGP/blib/lib/HTTP/Session2/Base.pm line 79.
	HTTP::Session2::Base::__ANON__(HTTP::Session2::Expired=HASH(0x412f4c00), 33333) called at t/08_expired.t line 7
t/08_expired.t .............. ok
# /dev/urandom available
# /dev/urandom(1): nrT_WIhoSQWmMFIQiCckEx-8pGeRbBD
# /dev/urandom(2): 0OeqmbDonPNwIoOHngk-GGmKEvh_6mg
# perl:            5a6b67be7760f99623445a047b4748a
t/09_random.t ............... ok
t/11_secret_string.t ........ ok
Secret string too short at /home/cpansand/.cpan/build/2018012612/HTTP-Session2-1.10-jv0uGP/blib/lib/HTTP/Session2/Base.pm line 79.
	HTTP::Session2::Base::__ANON__(HTTP::Session2::ClientStore2=HASH(0x434ff798), "s3cret") called at t/client_store2/01_basic.t line 24
	main::__ANON__("client -> server: request without cookie", CODE(0x42db5ac8)) called at t/client_store2/01_basic.t line 30
	main::__ANON__() called at /usr/perl5.18.4p/lib/site_perl/5.18.4/Test/Builder.pm line 337
	eval {...} called at /usr/perl5.18.4p/lib/site_perl/5.18.4/Test/Builder.pm line 337
	Test::Builder::subtest(Test::Builder=HASH(0x412f8e10), "First request", CODE(0x412f45b8)) called at /usr/perl5.18.4p/lib/site_perl/5.18.4/Test/More.pm line 807
	Test::More::subtest("First request", CODE(0x412f45b8)) called at t/client_store2/01_basic.t line 9
	main::scenario("First request", CODE(0x412f45b8)) called at t/client_store2/01_basic.t line 36
Secret string too short at /home/cpansand/.cpan/build/2018012612/HTTP-Session2-1.10-jv0uGP/blib/lib/HTTP/Session2/Base.pm line 79.
	HTTP::Session2::Base::__ANON__(HTTP::Session2::ClientStore2=HASH(0x43501d80), "s3cret") called at t/client_store2/01_basic.t line 41
	main::__ANON__("client -> server: request without cookie", CODE(0x42db53f0)) called at t/client_store2/01_basic.t line 47
	main::__ANON__() called at /usr/perl5.18.4p/lib/site_perl/5.18.4/Test/Builder.pm line 337
	eval {...} called at /usr/perl5.18.4p/lib/site_perl/5.18.4/Test/Builder.pm line 337
	Test::Builder::subtest(Test::Builder=HASH(0x412f8e10), "Store something without login", CODE(0x412f45b8)) called at /usr/perl5.18.4p/lib/site_perl/5.18.4/Test/More.pm line 807
	Test::More::subtest("Store something without login", CODE(0x412f45b8)) called at t/client_store2/01_basic.t line 9
	main::scenario("Store something without login", CODE(0x412f45b8)) called at t/client_store2/01_basic.t line 63
Secret string too short at /home/cpansand/.cpan/build/2018012612/HTTP-Session2-1.10-jv0uGP/blib/lib/HTTP/Session2/Base.pm line 79.
	HTTP::Session2::Base::__ANON__(HTTP::Session2::ClientStore2=HASH(0x43505a20), "s3cret") called at t/client_store2/01_basic.t line 69
	main::__ANON__("client -> server: request without cookie", CODE(0x434ff4f8)) called at t/client_store2/01_basic.t line 76
	main::__ANON__() called at /usr/perl5.18.4p/lib/site_perl/5.18.4/Test/Builder.pm line 337
	eval {...} called at /usr/perl5.18.4p/lib/site_perl/5.18.4/Test/Builder.pm line 337
	Test::Builder::subtest(Test::Builder=HASH(0x412f8e10), "Login", CODE(0x412f45b8)) called at /usr/perl5.18.4p/lib/site_perl/5.18.4/Test/More.pm line 807
	Test::More::subtest("Login", CODE(0x412f45b8)) called at t/client_store2/01_basic.t line 9
	main::scenario("Login", CODE(0x412f45b8)) called at t/client_store2/01_basic.t line 96
Ciphertext does not begin with a valid header for 'salt' header mode at /home/cpansand/.cpan/build/2018012612/HTTP-Session2-1.10-jv0uGP/blib/lib/HTTP/Session2/ClientStore2.pm line 81.
Ciphertext does not begin with a valid header for 'salt' header mode at /home/cpansand/.cpan/build/2018012612/HTTP-Session2-1.10-jv0uGP/blib/lib/HTTP/Session2/ClientStore2.pm line 81.
Secret string too short at /home/cpansand/.cpan/build/2018012612/HTTP-Session2-1.10-jv0uGP/blib/lib/HTTP/Session2/Base.pm line 79.
	HTTP::Session2::Base::__ANON__(HTTP::Session2::ClientStore2=HASH(0x43734948), "s3cret") called at t/client_store2/01_basic.t line 102
	main::__ANON__("client -> server: request without cookie", CODE(0x435019a8)) called at t/client_store2/01_basic.t line 109
	main::__ANON__() called at /usr/perl5.18.4p/lib/site_perl/5.18.4/Test/Builder.pm line 337
	eval {...} called at /usr/perl5.18.4p/lib/site_perl/5.18.4/Test/Builder.pm line 337
	Test::Builder::subtest(Test::Builder=HASH(0x412f8e10), "In a login session", CODE(0x412f45b8)) called at /usr/perl5.18.4p/lib/site_perl/5.18.4/Test/More.pm line 807
	Test::More::subtest("In a login session", CODE(0x412f45b8)) called at t/client_store2/01_basic.t line 9
	main::scenario("In a login session", CODE(0x412f45b8)) called at t/client_store2/01_basic.t line 118
Ciphertext does not begin with a valid header for 'salt' header mode at /home/cpansand/.cpan/build/2018012612/HTTP-Session2-1.10-jv0uGP/blib/lib/HTTP/Session2/ClientStore2.pm line 81.
Secret string too short at /home/cpansand/.cpan/build/2018012612/HTTP-Session2-1.10-jv0uGP/blib/lib/HTTP/Session2/Base.pm line 79.
	HTTP::Session2::Base::__ANON__(HTTP::Session2::ClientStore2=HASH(0x43736ab0), "s3cret") called at t/client_store2/01_basic.t line 123
	main::__ANON__("client -> server: request without cookie", CODE(0x43505678)) called at t/client_store2/01_basic.t line 130
	main::__ANON__() called at /usr/perl5.18.4p/lib/site_perl/5.18.4/Test/Builder.pm line 337
	eval {...} called at /usr/perl5.18.4p/lib/site_perl/5.18.4/Test/Builder.pm line 337
	Test::Builder::subtest(Test::Builder=HASH(0x412f8e10), "Logout", CODE(0x412f45b8)) called at /usr/perl5.18.4p/lib/site_perl/5.18.4/Test/More.pm line 807
	Test::More::subtest("Logout", CODE(0x412f45b8)) called at t/client_store2/01_basic.t line 9
	main::scenario("Logout", CODE(0x412f45b8)) called at t/client_store2/01_basic.t line 143
Ciphertext does not begin with a valid header for 'salt' header mode at /home/cpansand/.cpan/build/2018012612/HTTP-Session2-1.10-jv0uGP/blib/lib/HTTP/Session2/ClientStore2.pm line 81.
t/client_store2/01_basic.t .. ok
t/client_store2/02_mech.t ... ok
t/client_store2/03_colon.t .. ok
All tests successful.
Files=14, Tests=84,  3 wallclock secs ( 0.11 usr  0.04 sys +  2.16 cusr  0.52 csys =  2.83 CPU)
Result: PASS

------------------------------
PREREQUISITES
------------------------------

Prerequisite modules loaded:

requires:

    Module                     Need     Have    
    -------------------------- -------- --------
    Cookie::Baker              0        0.08    
    Crypt::CBC                 0        2.33    
    Data::MessagePack          0        1.00    
    Digest::HMAC               0        1.03    
    Digest::SHA                0        5.84_02 
    Digest::SHA1               0        2.13    
    MIME::Base64               3.11     3.13    
    Mouse                      0        v2.5.1  
    parent                     0        0.236   
    perl                       5.008005 5.018004
    Time::HiRes                0        1.9746  

build_requires:

    Module                     Need     Have    
    -------------------------- -------- --------
    Crypt::Rijndael            0        1.13    
    Plack::Request             0        1.0044  
    Plack::Response            0        1.0044  
    Test::More                 0.98     1.302120
    Test::WWW::Mechanize::PSGI 0        0.38    

configure_requires:

    Module                     Need     Have    
    -------------------------- -------- --------
    Module::Build::Tiny        0.035    0.039   


------------------------------
ENVIRONMENT AND OTHER CONTEXT
------------------------------

Environment variables:

    PATH = /usr/local/bin:/usr/bin:/bin:/usr/local/sbin:/usr/sbin:/sbin:/home/cpansand/bin/sh:/home/cpansand/bin:/usr/games:/home/cpansand/devel:/home/eserte/src/srezic-misc/scripts
    PERL5LIB = /home/cpansand/.cpan/build/2018012612/UV-1.000004-OlFpcP/blib/arch:/home/cpansand/.cpan/build/2018012612/UV-1.000004-OlFpcP/blib/lib
    PERL5OPT = 
    PERL5_CPANPLUS_IS_RUNNING = 61163
    PERL5_CPAN_IS_RUNNING = 61163
    PERL5_CPAN_IS_RUNNING_IN_RECURSION = 59927,61163
    PERL_BATCH = yes
    PERL_CANARY_STABILITY_NOPROMPT = 1
    PERL_CPAN_REPORTER_CONFIG = /var/tmp/cpansmoker-1023/2018012612/cpanreporter_000_config.ini
    PERL_EXTUTILS_AUTOINSTALL = --defaultdeps
    SHELL = /bin/sh
    TMPDIR = /var/tmp/cpansmoker-1023/2018012612

Perl special variables (and OS-specific diagnostics, for MSWin32):

    $^X = /usr/perl5.18.4p/bin/perl
    $UID/$EUID = 1023 / 1023
    $GID = 1023 1023
    $EGID = 1023 1023

Perl module toolchain versions installed:

    Module              Have    
    ------------------- --------
    CPAN                2.00    
    CPAN::Meta          2.150010
    Cwd                 3.40    
    ExtUtils::CBuilder  0.280230
    ExtUtils::Command   7.30    
    ExtUtils::Install   2.06    
    ExtUtils::MakeMaker 7.30    
    ExtUtils::Manifest  1.70    
    ExtUtils::ParseXS   3.35    
    File::Spec          3.40    
    JSON                2.97001 
    JSON::PP            2.97001 
    Module::Build       0.4224  
    Module::Signature   0.81    
    Parse::CPAN::Meta   2.150010
    Test::Harness       3.39    
    Test::More          1.302120
    YAML                1.24    
    YAML::Syck          1.30    
    version             0.9918  


--

Summary of my perl5 (revision 5 version 18 subversion 4) configuration:
   
  Platform:
    osname=freebsd, osvers=12.0-current, archname=amd64-freebsd
    uname='freebsd ali1.bbbike.org 12.0-current freebsd 12.0-current #0 bd8385a990e(master)-dirty: fri nov 17 03:13:11 utc 2017 root@ali1.bbbike.org:usrobjhomeprojectsfreebsdamd64.amd64sysgeneric-nodebug amd64 '
    config_args='-ds -e -Dprefix=/usr/perl5.18.4p -Dcf_email=srezic@cpan.org -Doptimize=-O2 -pipe'
    hint=recommended, useposix=true, d_sigaction=define
    useithreads=undef, usemultiplicity=undef
    useperlio=define, d_sfio=undef, uselargefiles=define, usesocks=undef
    use64bitint=define, use64bitall=define, uselongdouble=undef
    usemymalloc=n, bincompat5005=undef
  Compiler:
    cc='cc', ccflags ='-DHAS_FPSETMASK -DHAS_FLOATINGPOINT_H -fno-strict-aliasing -pipe -fstack-protector -I/usr/local/include',
    optimize='-O2 -pipe',
    cppflags='-DHAS_FPSETMASK -DHAS_FLOATINGPOINT_H -fno-strict-aliasing -pipe -fstack-protector -I/usr/local/include'
    ccversion='', gccversion='4.2.1 Compatible FreeBSD Clang 5.0.0 (tags/RELEASE_500/final 312559)', gccosandvers=''
    intsize=4, longsize=8, ptrsize=8, doublesize=8, byteorder=12345678
    d_longlong=define, longlongsize=8, d_longdbl=define, longdblsize=16
    ivtype='long', ivsize=8, nvtype='double', nvsize=8, Off_t='off_t', lseeksize=8
    alignbytes=8, prototype=define
  Linker and Libraries:
    ld='cc', ldflags ='-pthread -Wl,-E  -fstack-protector -L/usr/local/lib'
    libpth=/usr/lib /usr/local/lib
    libs=-lgdbm -lm -lcrypt -lutil -lc
    perllibs=-lm -lcrypt -lutil -lc
    libc=, so=so, useshrplib=false, libperl=libperl.a
    gnulibc_version=''
  Dynamic Linking:
    dlsrc=dl_dlopen.xs, dlext=so, d_dlsymun=undef, ccdlflags=' '
    cccdlflags='-DPIC -fPIC', lddlflags='-shared  -L/usr/local/lib -fstack-protector'


Characteristics of this binary (from libperl): 
  Compile-time options: HAS_TIMES PERLIO_LAYERS PERL_DONT_CREATE_GVSV
                        PERL_HASH_FUNC_ONE_AT_A_TIME_HARD PERL_MALLOC_WRAP
                        PERL_PRESERVE_IVUV PERL_SAWAMPERSAND USE_64_BIT_ALL
                        USE_64_BIT_INT USE_LARGE_FILES USE_LOCALE
                        USE_LOCALE_COLLATE USE_LOCALE_CTYPE
                        USE_LOCALE_NUMERIC USE_PERLIO USE_PERL_ATOF
  Built under freebsd
  Compiled at Nov 17 2017 06:44:20
  %ENV:
    PERL5LIB="/home/cpansand/.cpan/build/2018012612/UV-1.000004-OlFpcP/blib/arch:/home/cpansand/.cpan/build/2018012612/UV-1.000004-OlFpcP/blib/lib"
    PERL5OPT=""
    PERL5_CPANPLUS_IS_RUNNING="61163"
    PERL5_CPAN_IS_RUNNING="61163"
    PERL5_CPAN_IS_RUNNING_IN_RECURSION="59927,61163"
    PERL_BATCH="yes"
    PERL_CANARY_STABILITY_NOPROMPT="1"
    PERL_CPAN_REPORTER_CONFIG="/var/tmp/cpansmoker-1023/2018012612/cpanreporter_000_config.ini"
    PERL_EXTUTILS_AUTOINSTALL="--defaultdeps"
  @INC:
    /home/cpansand/.cpan/build/2018012612/UV-1.000004-OlFpcP/blib/arch
    /home/cpansand/.cpan/build/2018012612/UV-1.000004-OlFpcP/blib/lib
    /usr/perl5.18.4p/lib/site_perl/5.18.4/amd64-freebsd
    /usr/perl5.18.4p/lib/site_perl/5.18.4
    /usr/perl5.18.4p/lib/5.18.4/amd64-freebsd
    /usr/perl5.18.4p/lib/5.18.4
    .