Back
From: metabase:user:ee2fcc38-f3b3-11e3-a096-fcb839c96cc8
Subject: PASS MooseX-SimpleConfig-0.11 v5.26.0 GNU/Linux
Date: 2017-07-03T14:34:28Z
This distribution has been tested as part of the CPAN Testers
project, supporting the Perl programming language. See
http://wiki.cpantesters.org/ for more information or email
questions to cpan-testers-discuss@perl.org
--
Dear Karen Etheridge,
This is a computer-generated report for MooseX-SimpleConfig-0.11
on perl 5.26.0, created by CPAN-Reporter-1.2018.
Thank you for uploading your work to CPAN. Congratulations!
All tests were successful.
Sections of this report:
* Tester comments
* Program output
* Prerequisites
* Environment and other context
------------------------------
TESTER COMMENTS
------------------------------
Additional comments from tester:
none provided
------------------------------
PROGRAM OUTPUT
------------------------------
Output from './Build test':
#
# Versions for all modules listed in MYMETA.json (including optional ones):
#
# === Configure Requires ===
#
# Module Want Have
# ------------------- ----- -----
# Module::Build::Tiny 0.039 0.039
#
# === Test Requires ===
#
# Module Want Have
# --------------------- ---- --------
# ExtUtils::MakeMaker any 7.24
# File::Spec any 3.67
# File::Spec::Functions any 3.67
# File::Temp any 0.2304
# Moose any 2.2005
# Test::Fatal any 0.014
# Test::More 0.88 1.302073
# lib any 0.64
# strict any 1.11
# warnings any 1.37
#
# === Test Recommends ===
#
# Module Want Have
# ---------- -------- --------
# CPAN::Meta 2.120900 2.150010
#
# === Runtime Requires ===
#
# Module Want Have
# ---------------------- ---- ------
# Config::Any 0.13 0.32
# Moose::Role any 2.2005
# MooseX::ConfigFromFile any 0.14
#
# === Other Modules ===
#
# Module Want Have
# -------------------- ---- ----
# Dist::CheckConflicts any 0.11
#
t/00-report-prereqs.t .. ok
t/01use.t .............. ok
t/10simple.t ........... skipped: YAML or YAML::Syck required for this test
t/11default.t .......... skipped: YAML or YAML::Syck required for this test
t/12config_any_args.t .. ok
t/multiple.t ........... skipped: YAML or YAML::Syck required for this test
t/zzz-check-breaks.t ... ok
All tests successful.
Files=7, Tests=10, 2 wallclock secs ( 0.04 usr 0.01 sys + 1.66 cusr 0.13 csys = 1.84 CPU)
Result: PASS
------------------------------
PREREQUISITES
------------------------------
Prerequisite modules loaded:
requires:
Module Need Have
---------------------- -------- --------
Config::Any 0.13 0.32
Moose::Role 0 2.2005
MooseX::ConfigFromFile 0 0.14
perl 5.006 5.026000
build_requires:
Module Need Have
---------------------- -------- --------
ExtUtils::MakeMaker 0 7.24
File::Spec 0 3.67
File::Spec::Functions 0 3.67
File::Temp 0 0.2304
lib 0 0.64
Moose 0 2.2005
perl 5.006 5.026000
strict 0 1.11
Test::Fatal 0 0.014
Test::More 0.88 1.302073
warnings 0 1.37
configure_requires:
Module Need Have
---------------------- -------- --------
Module::Build::Tiny 0.039 0.039
perl 5.004 5.026000
opt_build_requires:
Module Need Have
---------------------- -------- --------
CPAN::Meta 2.120900 2.150010
------------------------------
ENVIRONMENT AND OTHER CONTEXT
------------------------------
Environment variables:
LANG = it_IT.UTF-8
LC_ALL = it_IT.UTF-8
NONINTERACTIVE_TESTING = 1
PATH = /usr/local/perlbrew/perl5/bin:/usr/local/perlbrew/perl5/perls/perl-5.26.0/bin:/usr/local/sbin:/usr/local/bin:/usr/sbin:/usr/bin:/sbin:/bin:/opt/bin:/usr/x86_64-pc-linux-gnu/gcc-bin/5.4.0
PERL5LIB =
PERL5OPT =
PERL5_CPANPLUS_IS_RUNNING = 24977
PERL5_CPAN_IS_RUNNING = 24977
PERLBREW_BASHRC_VERSION = 0.67
PERLBREW_HOME = /root/.perlbrew
PERLBREW_MANPATH = /usr/local/perlbrew/perl5/perls/perl-5.26.0/man
PERLBREW_PATH = /usr/local/perlbrew/perl5/bin:/usr/local/perlbrew/perl5/perls/perl-5.26.0/bin
PERLBREW_PERL = perl-5.26.0
PERLBREW_ROOT = /usr/local/perlbrew/perl5
PERLBREW_VERSION = 0.78
PERL_MM_USE_DEFAULT = 1
PERL_USE_UNSAFE_INC = 1
SHELL = /bin/bash
TERM = xterm-256color
Perl special variables (and OS-specific diagnostics, for MSWin32):
$^X = /usr/local/perlbrew/perl5/perls/perl-5.26.0/bin/perl
$UID/$EUID = 0 / 0
$GID = 0 0 1 2 3 4 6 10 11 26 27
$EGID = 0 0 1 2 3 4 6 10 11 26 27
Perl module toolchain versions installed:
Module Have
------------------- ----------
CPAN 2.18
CPAN::Meta 2.150010
Cwd 3.67
ExtUtils::CBuilder 0.280225
ExtUtils::Command 7.24
ExtUtils::Install 2.04
ExtUtils::MakeMaker 7.24
ExtUtils::Manifest 1.70
ExtUtils::ParseXS 3.34
File::Spec 3.67
JSON 2.94
JSON::PP 2.27400_02
Module::Build 0.4224
Module::Signature n/a
Parse::CPAN::Meta 2.150010
Test::Harness 3.38
Test::More 1.302073
YAML n/a
YAML::Syck n/a
version 0.9917
--
Summary of my perl5 (revision 5 version 26 subversion 0) configuration:
Platform:
osname=linux
osvers=4.9.15-x86_64-linode81
archname=x86_64-linux
uname='linux pallino 4.9.15-x86_64-linode81 #1 smp fri mar 17 09:47:36 edt 2017 x86_64 intel(r) xeon(r) cpu e5-2680 v3 @ 2.50ghz genuineintel gnulinux '
config_args='-de -Dprefix=/usr/local/perlbrew/perl5/perls/perl-5.26.0 -Aeval:scriptdir=/usr/local/perlbrew/perl5/perls/perl-5.26.0/bin'
hint=recommended
useposix=true
d_sigaction=define
useithreads=undef
usemultiplicity=undef
use64bitint=define
use64bitall=define
uselongdouble=undef
usemymalloc=n
default_inc_excludes_dot=define
bincompat5005=undef
Compiler:
cc='cc'
ccflags ='-fwrapv -fno-strict-aliasing -pipe -fstack-protector-strong -I/usr/local/include -D_LARGEFILE_SOURCE -D_FILE_OFFSET_BITS=64'
optimize='-O2'
cppflags='-fwrapv -fno-strict-aliasing -pipe -fstack-protector-strong -I/usr/local/include'
ccversion=''
gccversion='5.4.0'
gccosandvers=''
intsize=4
longsize=8
ptrsize=8
doublesize=8
byteorder=12345678
doublekind=3
d_longlong=define
longlongsize=8
d_longdbl=define
longdblsize=16
longdblkind=3
ivtype='long'
ivsize=8
nvtype='double'
nvsize=8
Off_t='off_t'
lseeksize=8
alignbytes=8
prototype=define
Linker and Libraries:
ld='cc'
ldflags =' -fstack-protector-strong -L/usr/local/lib'
libpth=/usr/local/lib /usr/lib/gcc/x86_64-pc-linux-gnu/5.4.0/include-fixed /usr/lib /lib/../lib64 /usr/lib/../lib64 /lib /lib64 /usr/lib64 /usr/local/lib64
libs=-lpthread -lnsl -lgdbm -ldb -ldl -lm -lcrypt -lutil -lc -lgdbm_compat
perllibs=-lpthread -lnsl -ldl -lm -lcrypt -lutil -lc
libc=libc-2.23.so
so=so
useshrplib=false
libperl=libperl.a
gnulibc_version='2.23'
Dynamic Linking:
dlsrc=dl_dlopen.xs
dlext=so
d_dlsymun=undef
ccdlflags='-Wl,-E'
cccdlflags='-fPIC'
lddlflags='-shared -O2 -L/usr/local/lib -fstack-protector-strong'
Characteristics of this binary (from libperl):
Compile-time options:
HAS_TIMES
PERLIO_LAYERS
PERL_COPY_ON_WRITE
PERL_DONT_CREATE_GVSV
PERL_MALLOC_WRAP
PERL_OP_PARENT
PERL_PRESERVE_IVUV
USE_64_BIT_ALL
USE_64_BIT_INT
USE_LARGE_FILES
USE_LOCALE
USE_LOCALE_COLLATE
USE_LOCALE_CTYPE
USE_LOCALE_NUMERIC
USE_LOCALE_TIME
USE_PERLIO
USE_PERL_ATOF
Locally applied patches:
Devel::PatchPerl 1.48
Built under linux
Compiled at Jul 3 2017 10:37:50
%ENV:
PERL5LIB=""
PERL5OPT=""
PERL5_CPANPLUS_IS_RUNNING="24977"
PERL5_CPAN_IS_RUNNING="24977"
PERLBREW_BASHRC_VERSION="0.67"
PERLBREW_HOME="/root/.perlbrew"
PERLBREW_MANPATH="/usr/local/perlbrew/perl5/perls/perl-5.26.0/man"
PERLBREW_PATH="/usr/local/perlbrew/perl5/bin:/usr/local/perlbrew/perl5/perls/perl-5.26.0/bin"
PERLBREW_PERL="perl-5.26.0"
PERLBREW_ROOT="/usr/local/perlbrew/perl5"
PERLBREW_VERSION="0.78"
PERL_MM_USE_DEFAULT="1"
PERL_USE_UNSAFE_INC="1"
@INC:
/usr/local/perlbrew/perl5/perls/perl-5.26.0/lib/site_perl/5.26.0/x86_64-linux
/usr/local/perlbrew/perl5/perls/perl-5.26.0/lib/site_perl/5.26.0
/usr/local/perlbrew/perl5/perls/perl-5.26.0/lib/5.26.0/x86_64-linux
/usr/local/perlbrew/perl5/perls/perl-5.26.0/lib/5.26.0
.