Math-Logic-Ternary v0.004 Perl 5 v5.22.4 x86_64-linux-ld

Status
Pass
From
Martin Becker
Dist
Math-Logic-Ternary v0.004
Platform
Perl 5 v5.22.4 x86_64-linux-ld
Date
2017-11-13 08:36:18
ID
b7f94816-c84d-11e7-b3a0-cc5c53a41dc7
This distribution has been tested as part of the CPAN Testers
project, supporting the Perl programming language.  See
http://wiki.cpantesters.org/ for more information or email
questions to cpan-testers-discuss@perl.org


--
Dear Martin Becker,

This is a computer-generated report for Math-Logic-Ternary-0.004
on perl 5.22.4, created by CPAN-Reporter-1.2018.

Thank you for uploading your work to CPAN.  Congratulations!
All tests were successful.

Sections of this report:

    * Tester comments
    * Program output
    * Prerequisites
    * Environment and other context

------------------------------
TESTER COMMENTS
------------------------------

Additional comments from tester:

none provided

------------------------------
PROGRAM OUTPUT
------------------------------

Output from '/usr/bin/make test':

PERL_DL_NONLAZY=1 "/opt/perl522/bin/perl" "-MExtUtils::Command::MM" "-MTest::Harness" "-e" "undef *Test::Harness::Switches; test_harness(0, 'blib/lib', 'blib/arch')" t/*.t
t/01_object.t ........ ok
t/02_trit.t .......... ok
t/03_word.t .......... ok
t/04_logical.t ....... ok
t/05_tritwise.t ...... ok
t/06_numerical.t ..... ok
t/07_addition.t ...... ok
t/08_mul_div.t ....... ok
t/09_base.t .......... ok
t/10_expression.t .... ok
t/11_modint.t ........ skipped: Math::ModInt not available
t/12_tfp_81.t ........ ok
t/13_tapi_9.t ........ ok
t/14_tapi27.t ........ ok
t/20_calc_mode.t ..... ok
t/21_calc_state.t .... ok
t/22_calc_command.t .. ok
t/23_calc_parser.t ... ok
t/24_calc_session.t .. ok
t/25_calculator.t .... ok
t/90_pod.t ........... skipped: setenv MAINTAINER_OF_MATH_LOGIC_TERNARY=1 to run these tests
t/91_pod_cover_cp.t .. skipped: setenv MAINTAINER_OF_MATH_LOGIC_TERNARY=1 to run these tests
t/92_consistency.t ... skipped: setenv MAINTAINER_OF_MATH_LOGIC_TERNARY=1 to run these tests
t/95_versions.t ...... skipped: setenv MAINTAINER_OF_MATH_LOGIC_TERNARY=1 to run these tests
t/99_signature.t ..... skipped: setenv MAINTAINER_OF_MATH_LOGIC_TERNARY=1 to run these tests
All tests successful.
Files=25, Tests=808,  8 wallclock secs ( 1.51 usr  0.13 sys +  6.82 cusr  0.50 csys =  8.96 CPU)
Result: PASS

------------------------------
PREREQUISITES
------------------------------

Prerequisite modules loaded:

requires:

    Module              Need  Have    
    ------------------- ----- --------
    Math::BigInt        1.78  1.9997  
    perl                5.008 5.022004
    Role::Basic         0     0.13    

build_requires:

    Module              Need  Have    
    ------------------- ----- --------
    ExtUtils::MakeMaker 0     7.30    
    File::Spec          0     3.62    
    Math::BigInt        1.78  1.9997  
    Test::More          0     1.302106

configure_requires:

    Module              Need  Have    
    ------------------- ----- --------
    ExtUtils::MakeMaker 0     7.30    

opt_requires:

    Module              Need  Have    
    ------------------- ----- --------
  ! Math::ModInt        0     n/a     
    Term::ReadLine      0     1.15    


------------------------------
ENVIRONMENT AND OTHER CONTEXT
------------------------------

Environment variables:

    LANG = C
    LC_CTYPE = en_US
    NONINTERACTIVE_TESTING = 1
    PATH = /home/martin/bin:/opt/perl526/bin:/usr/local/sbin:/usr/local/bin:/usr/sbin:/usr/bin:/sbin:/bin:/usr/games:/usr/local/games
    PERL5LIB = 
    PERL5OPT = 
    PERL5_CPANPLUS_IS_RUNNING = 17631
    PERL5_CPAN_IS_RUNNING = 17631
    PERL_MM_USE_DEFAULT = 1
    SHELL = /bin/bash
    TERM = screen

Perl special variables (and OS-specific diagnostics, for MSWin32):

    $^X = /opt/perl522/bin/perl
    $UID/$EUID = 6001 / 6001
    $GID = 6001 40 1001 6001
    $EGID = 6001 40 1001 6001

Perl module toolchain versions installed:

    Module              Have      
    ------------------- ----------
    CPAN                2.16      
    CPAN::Meta          2.150010  
    Cwd                 3.62      
    ExtUtils::CBuilder  0.280226  
    ExtUtils::Command   7.30      
    ExtUtils::Install   2.06      
    ExtUtils::MakeMaker 7.30      
    ExtUtils::Manifest  1.70      
    ExtUtils::ParseXS   3.28      
    File::Spec          3.62      
    JSON                2.94      
    JSON::PP            2.27300_01
    Module::Build       0.4224    
    Module::Signature   0.81      
    Parse::CPAN::Meta   2.150010  
    Test::Harness       3.39      
    Test::More          1.302106  
    YAML                1.24      
    YAML::Syck          1.30      
    version             0.9909    


--

Summary of my perl5 (revision 5 version 22 subversion 4) configuration:
   
  Platform:
    osname=linux, osvers=4.4.0-96-generic, archname=x86_64-linux-ld
    uname='linux erebus 4.4.0-96-generic #119-ubuntu smp tue sep 12 14:59:54 utc 2017 x86_64 x86_64 x86_64 gnulinux '
    config_args='-Dprefix=/opt/perl522 -Duse64bitint -Duse64bitall -Duselongdouble -Dperladmin=none -Dusevfork=false -de'
    hint=recommended, useposix=true, d_sigaction=define
    useithreads=undef, usemultiplicity=undef
    use64bitint=define, use64bitall=define, uselongdouble=define
    usemymalloc=n, bincompat5005=undef
  Compiler:
    cc='cc', ccflags ='-fwrapv -fno-strict-aliasing -pipe -fstack-protector-strong -I/usr/local/include -D_LARGEFILE_SOURCE -D_FILE_OFFSET_BITS=64',
    optimize='-O2',
    cppflags='-fwrapv -fno-strict-aliasing -pipe -fstack-protector-strong -I/usr/local/include'
    ccversion='', gccversion='5.4.0 20160609', gccosandvers=''
    intsize=4, longsize=8, ptrsize=8, doublesize=8, byteorder=12345678, doublekind=3
    d_longlong=define, longlongsize=8, d_longdbl=define, longdblsize=16, longdblkind=3
    ivtype='long', ivsize=8, nvtype='long double', nvsize=16, Off_t='off_t', lseeksize=8
    alignbytes=16, prototype=define
  Linker and Libraries:
    ld='cc', ldflags =' -fstack-protector-strong -L/usr/local/lib'
    libpth=/usr/local/lib /usr/lib/gcc/x86_64-linux-gnu/5/include-fixed /usr/include/x86_64-linux-gnu /usr/lib /lib/x86_64-linux-gnu /lib/../lib /usr/lib/x86_64-linux-gnu /usr/lib/../lib /lib
    libs=-lpthread -lnsl -ldl -lm -lcrypt -lutil -lc
    perllibs=-lpthread -lnsl -ldl -lm -lcrypt -lutil -lc
    libc=libc-2.23.so, so=so, useshrplib=false, libperl=libperl.a
    gnulibc_version='2.23'
  Dynamic Linking:
    dlsrc=dl_dlopen.xs, dlext=so, d_dlsymun=undef, ccdlflags='-Wl,-E'
    cccdlflags='-fPIC', lddlflags='-shared -O2 -L/usr/local/lib -fstack-protector-strong'


Characteristics of this binary (from libperl): 
  Compile-time options: HAS_TIMES PERLIO_LAYERS PERL_DONT_CREATE_GVSV
                        PERL_HASH_FUNC_ONE_AT_A_TIME_HARD PERL_MALLOC_WRAP
                        PERL_NEW_COPY_ON_WRITE PERL_PRESERVE_IVUV
                        USE_64_BIT_ALL USE_64_BIT_INT USE_LARGE_FILES
                        USE_LOCALE USE_LOCALE_COLLATE USE_LOCALE_CTYPE
                        USE_LOCALE_NUMERIC USE_LOCALE_TIME USE_LONG_DOUBLE
                        USE_PERLIO USE_PERL_ATOF
  Built under linux
  Compiled at Sep 19 2017 16:05:30
  %ENV:
    PERL5LIB=""
    PERL5OPT=""
    PERL5_CPANPLUS_IS_RUNNING="17631"
    PERL5_CPAN_IS_RUNNING="17631"
    PERL_MM_USE_DEFAULT="1"
  @INC:
    /opt/perl522/lib/site_perl/5.22.4/x86_64-linux-ld
    /opt/perl522/lib/site_perl/5.22.4
    /opt/perl522/lib/5.22.4/x86_64-linux-ld
    /opt/perl522/lib/5.22.4
    .