HTTP-Request-Generator v0.07 Perl 5 v5.26.1 x86_64-linux
- Status
- Pass
- From
- Slaven Rezić (SREZIC)
- Dist
-
HTTP-Request-Generator v0.07
- Platform
- Perl 5 v5.26.1 x86_64-linux
- Date
- 2019-02-26 20:47:23
- ID
- b8058dba-3a07-11e9-a2b2-9108eac51559
This distribution has been tested as part of the CPAN Testers
project, supporting the Perl programming language. See
http://wiki.cpantesters.org/ for more information or email
questions to cpan-testers-discuss@perl.org
--
Dear Max Maischein,
This is a computer-generated report for HTTP-Request-Generator-0.07
on perl 5.26.1, created by CPAN-Reporter-1.2018.
Thank you for uploading your work to CPAN. Congratulations!
All tests were successful.
Sections of this report:
* Tester comments
* Program output
* Prerequisites
* Environment and other context
------------------------------
TESTER COMMENTS
------------------------------
Additional comments from tester:
none provided
------------------------------
PROGRAM OUTPUT
------------------------------
Output from '/usr/bin/make test':
PERL_DL_NONLAZY=1 "/opt/perl-5.26.1/bin/perl" "-MExtUtils::Command::MM" "-MTest::Harness" "-e" "undef *Test::Harness::Switches; test_harness(0, 'blib/lib', 'blib/arch')" t/00-load.t t/02-http-generator.t t/03-wrap-http-request.t t/03-wrap-plack.t t/03-wrap.t t/04-url-expansion.t
# Testing HTTP::Request::Generator 0.07, Perl 5.026001
# Algorithm::Loops 1.032
# Carp 1.42
# Config 5.026001
# Cwd 3.67
# DynaLoader 1.42
# Encode 2.93
# Encode::Alias 2.23
# Encode::Config 2.05
# Encode::Encoding 2.08
# Encode::MIME::Name 1.03
# Exporter 5.72
# Exporter::Heavy 5.72
# Exporter::Tiny 1.000000
# ExtUtils::Liblist 7.24
# ExtUtils::Liblist::Kid 7.24
# ExtUtils::MM 7.24
# ExtUtils::MM_Any 7.24
# ExtUtils::MM_Unix 7.24
# ExtUtils::MY 7.24
# ExtUtils::MakeMaker 7.24
# ExtUtils::MakeMaker::Config 7.24
# ExtUtils::MakeMaker::Locale 7.24
# ExtUtils::MakeMaker::version 7.24
# Fcntl 1.13
# File::Basename 2.85
# File::Glob 1.28
# File::Path 2.1201
# File::Spec 3.67
# File::Spec::Unix 3.67
# Filter::Simple 0.93
# Filter::Util::Call 1.55
# Filter::signatures 0.15
# HTTP::Request::Generator 0.07
# I18N::Langinfo 0.13
# IO 1.38
# IO::Handle 1.36
# List::MoreUtils 0.426
# List::MoreUtils::PP 0.426
# List::MoreUtils::XS 0.426
# List::Util 1.5
# POSIX 1.76
# PerlIO 1.10
# Scalar::Util 1.5
# SelectSaver 1.02
# SelfLoader 1.23
# Storable 2.62
# Symbol 1.08
# Test::Builder 1.302106
# Test::Builder::Formatter 1.302106
# Test::Builder::Module 1.302106
# Test::Builder::TodoDiag 1.302106
# Test::More 1.302106
# Test2::API 1.302106
# Test2::API::Context 1.302106
# Test2::API::Instance 1.302106
# Test2::API::Stack 1.302106
# Test2::Event 1.302106
# Test2::Event::Bail 1.302106
# Test2::Event::Diag 1.302106
# Test2::Event::Exception 1.302106
# Test2::Event::Fail 1.302106
# Test2::Event::Note 1.302106
# Test2::Event::Ok 1.302106
# Test2::Event::Pass 1.302106
# Test2::Event::Plan 1.302106
# Test2::Event::Skip 1.302106
# Test2::Event::Subtest 1.302106
# Test2::Event::Waiting 1.302106
# Test2::EventFacet 1.302106
# Test2::EventFacet::About 1.302106
# Test2::EventFacet::Amnesty 1.302106
# Test2::EventFacet::Assert 1.302106
# Test2::EventFacet::Control 1.302106
# Test2::EventFacet::Error 1.302106
# Test2::EventFacet::Info 1.302106
# Test2::EventFacet::Meta 1.302106
# Test2::EventFacet::Parent 1.302106
# Test2::EventFacet::Plan 1.302106
# Test2::EventFacet::Trace 1.302106
# Test2::Formatter 1.302106
# Test2::Formatter::TAP 1.302106
# Test2::Hub 1.302106
# Test2::Hub::Interceptor 1.302106
# Test2::Hub::Interceptor::Terminator 1.302106
# Test2::Hub::Subtest 1.302106
# Test2::Util 1.302106
# Test2::Util::ExternalMeta 1.302106
# Test2::Util::HashBase 1.302106
# Test2::Util::Trace 1.302106
# Text::Balanced 2.03
# Tie::Hash 1.05
# URI 1.72
# URI::Escape 3.31
# XSLoader 0.27
# base 2.26
# bytes 1.05
# constant 1.33
# feature 1.47
# mro 1.20
# overload 1.28
# overloading 0.02
# parent 0.236
# re 0.34
# strict 1.11
# vars 1.03
# version 0.9917
# version::regex 0.9917
# warnings 1.37
# warnings::register 1.04
t/00-load.t ............... ok
t/02-http-generator.t ..... ok
t/03-wrap-http-request.t .. ok
t/03-wrap-plack.t ......... ok
t/03-wrap.t ............... skipped: Couldn't load test prerequiste modules: Can't locate Dancer/Request.pm in @INC (you may need to install the Dancer::Request module) (@INC contains: /home/cpansand/.cpan/build/2019022620/HTTP-Request-Generator-0.07-0/blib/lib /home/cpansand/.cpan/build/2019022620/HTTP-Request-Generator-0.07-0/blib/arch /home/cpansand/.cpan/build/2019022620/Algorithm-Loops-1.032-0/blib/arch /home/cpansand/.cpan/build/2019022620/Algorithm-Loops-1.032-0/blib/lib /home/cpansand/.cpan/build/2019022620/HTTP-CookieJar-0.008-0/blib/arch /home/cpansand/.cpan/build/2019022620/HTTP-CookieJar-0.008-0/blib/lib /home/cpansand/.cpan/build/2019022620/Filter-signatures-0.15-0/blib/arch /home/cpansand/.cpan/build/2019022620/Filter-signatures-0.15-0/blib/lib /home/cpansand/.cpan/build/2019022620/Algorithm-Loops-1.032-0/blib/arch /home/cpansand/.cpan/build/2019022620/Algorithm-Loops-1.032-0/blib/lib /home/cpansand/.cpan/build/2019022620/HTTP-CookieJar-0.008-0/blib/arch /home/cpansand/.cpan/build/2019022620/HTTP-CookieJar-0.008-0/blib/lib /home/cpansand/.cpan/build/2019022620/Filter-signatures-0.15-0/blib/arch /home/cpansand/.cpan/build/2019022620/Filter-signatures-0.15-0/blib/lib /opt/perl-5.26.1/lib/site_perl/5.26.1/x86_64-linux /opt/perl-5.26.1/lib/site_perl/5.26.1 /opt/perl-5.26.1/lib/5.26.1/x86_64-linux /opt/perl-5.26.1/lib/5.26.1 .) at t/03-wrap.t line 11.
t/04-url-expansion.t ...... ok
All tests successful.
Files=6, Tests=55, 2 wallclock secs ( 0.03 usr 0.03 sys + 1.18 cusr 0.11 csys = 1.35 CPU)
Result: PASS
------------------------------
PREREQUISITES
------------------------------
Prerequisite modules loaded:
requires:
Module Need Have
------------------- ----- --------
Algorithm::Loops 0 1.032
Carp 0 1.42
Exporter 5 5.72
Filter::signatures 0 0.15
List::MoreUtils 0 0.426
perl 5.006 5.026001
URI 0 1.72
URI::Escape 0 3.31
build_requires:
Module Need Have
------------------- ----- --------
Data::Dumper 0 2.167
ExtUtils::MakeMaker 0 7.24
Test::More 0 1.302106
configure_requires:
Module Need Have
------------------- ----- --------
ExtUtils::MakeMaker 0 7.24
------------------------------
ENVIRONMENT AND OTHER CONTEXT
------------------------------
Environment variables:
LANG = C
PATH = /usr/local/bin:/usr/bin:/bin:/usr/local/sbin:/usr/sbin:/sbin:/home/cpansand/bin/linux-gnu:/home/cpansand/bin/sh:/home/cpansand/bin:/usr/games:/home/cpansand/devel:/home/eserte/src/srezic-misc/scripts
PERL5LIB = /home/cpansand/.cpan/build/2019022620/Algorithm-Loops-1.032-0/blib/arch:/home/cpansand/.cpan/build/2019022620/Algorithm-Loops-1.032-0/blib/lib:/home/cpansand/.cpan/build/2019022620/HTTP-CookieJar-0.008-0/blib/arch:/home/cpansand/.cpan/build/2019022620/HTTP-CookieJar-0.008-0/blib/lib:/home/cpansand/.cpan/build/2019022620/Filter-signatures-0.15-0/blib/arch:/home/cpansand/.cpan/build/2019022620/Filter-signatures-0.15-0/blib/lib
PERL5OPT =
PERL5_CPANPLUS_IS_RUNNING = 23260
PERL5_CPAN_IS_RUNNING = 23260
PERL5_CPAN_IS_RUNNING_IN_RECURSION = 19036,23260
PERLDOC = -MPod::Perldoc::ToTextOverstrike
PERL_BATCH = yes
PERL_CANARY_STABILITY_NOPROMPT = 1
PERL_CPAN_REPORTER_CONFIG = /var/tmp/cpansmoker-1023/2019022620/cpanreporter_000_config.ini
PERL_EXTUTILS_AUTOINSTALL = --defaultdeps
PERL_USE_UNSAFE_INC = 1
SHELL = /usr/bin/zsh
TERM = screen
TMPDIR = /var/tmp/cpansmoker-1023/2019022620
Perl special variables (and OS-specific diagnostics, for MSWin32):
$^X = /opt/perl-5.26.1/bin/perl
$UID/$EUID = 1023 / 1023
$GID = 1023 1023
$EGID = 1023 1023
Perl module toolchain versions installed:
Module Have
------------------- ----------
CPAN 2.18
CPAN::Meta 2.150010
Cwd 3.67
ExtUtils::CBuilder 0.280225
ExtUtils::Command 7.24
ExtUtils::Install 2.04
ExtUtils::MakeMaker 7.24
ExtUtils::Manifest 1.70
ExtUtils::ParseXS 3.34
File::Spec 3.67
JSON 2.94
JSON::PP 2.27400_02
Module::Build 0.4224
Module::Signature n/a
Parse::CPAN::Meta 2.150010
Test::Harness 3.38
Test::More 1.302106
YAML 1.24
YAML::Syck 1.30
version 0.9917
--
Summary of my perl5 (revision 5 version 26 subversion 1) configuration:
Platform:
osname=linux
osvers=4.9.0-3-amd64
archname=x86_64-linux
uname='linux debian9 4.9.0-3-amd64 #1 smp debian 4.9.30-2+deb9u5 (2017-09-19) x86_64 gnulinux '
config_args='-ds -e -Dprefix=/opt/perl-5.26.1 -Dcf_email=srezic@cpan.org'
hint=recommended
useposix=true
d_sigaction=define
useithreads=undef
usemultiplicity=undef
use64bitint=define
use64bitall=define
uselongdouble=undef
usemymalloc=n
default_inc_excludes_dot=define
bincompat5005=undef
Compiler:
cc='cc'
ccflags ='-fwrapv -fno-strict-aliasing -pipe -fstack-protector-strong -I/usr/local/include -D_LARGEFILE_SOURCE -D_FILE_OFFSET_BITS=64 -D_FORTIFY_SOURCE=2'
optimize='-O2'
cppflags='-fwrapv -fno-strict-aliasing -pipe -fstack-protector-strong -I/usr/local/include'
ccversion=''
gccversion='6.3.0 20170516'
gccosandvers=''
intsize=4
longsize=8
ptrsize=8
doublesize=8
byteorder=12345678
doublekind=3
d_longlong=define
longlongsize=8
d_longdbl=define
longdblsize=16
longdblkind=3
ivtype='long'
ivsize=8
nvtype='double'
nvsize=8
Off_t='off_t'
lseeksize=8
alignbytes=8
prototype=define
Linker and Libraries:
ld='cc'
ldflags =' -fstack-protector-strong -L/usr/local/lib'
libpth=/usr/local/lib /usr/lib/gcc/x86_64-linux-gnu/6/include-fixed /usr/include/x86_64-linux-gnu /usr/lib /lib/x86_64-linux-gnu /lib/../lib /usr/lib/x86_64-linux-gnu /usr/lib/../lib /lib
libs=-lpthread -lnsl -lgdbm -ldb -ldl -lm -lcrypt -lutil -lc -lgdbm_compat
perllibs=-lpthread -lnsl -ldl -lm -lcrypt -lutil -lc
libc=libc-2.24.so
so=so
useshrplib=false
libperl=libperl.a
gnulibc_version='2.24'
Dynamic Linking:
dlsrc=dl_dlopen.xs
dlext=so
d_dlsymun=undef
ccdlflags='-Wl,-E'
cccdlflags='-fPIC'
lddlflags='-shared -O2 -L/usr/local/lib -fstack-protector-strong'
Characteristics of this binary (from libperl):
Compile-time options:
HAS_TIMES
PERLIO_LAYERS
PERL_COPY_ON_WRITE
PERL_DONT_CREATE_GVSV
PERL_MALLOC_WRAP
PERL_OP_PARENT
PERL_PRESERVE_IVUV
USE_64_BIT_ALL
USE_64_BIT_INT
USE_LARGE_FILES
USE_LOCALE
USE_LOCALE_COLLATE
USE_LOCALE_CTYPE
USE_LOCALE_NUMERIC
USE_LOCALE_TIME
USE_PERLIO
USE_PERL_ATOF
Built under linux
Compiled at Oct 31 2017 08:49:47
%ENV:
PERL5LIB="/home/cpansand/.cpan/build/2019022620/Algorithm-Loops-1.032-0/blib/arch:/home/cpansand/.cpan/build/2019022620/Algorithm-Loops-1.032-0/blib/lib:/home/cpansand/.cpan/build/2019022620/HTTP-CookieJar-0.008-0/blib/arch:/home/cpansand/.cpan/build/2019022620/HTTP-CookieJar-0.008-0/blib/lib:/home/cpansand/.cpan/build/2019022620/Filter-signatures-0.15-0/blib/arch:/home/cpansand/.cpan/build/2019022620/Filter-signatures-0.15-0/blib/lib"
PERL5OPT=""
PERL5_CPANPLUS_IS_RUNNING="23260"
PERL5_CPAN_IS_RUNNING="23260"
PERL5_CPAN_IS_RUNNING_IN_RECURSION="19036,23260"
PERLDOC="-MPod::Perldoc::ToTextOverstrike"
PERL_BATCH="yes"
PERL_CANARY_STABILITY_NOPROMPT="1"
PERL_CPAN_REPORTER_CONFIG="/var/tmp/cpansmoker-1023/2019022620/cpanreporter_000_config.ini"
PERL_EXTUTILS_AUTOINSTALL="--defaultdeps"
PERL_USE_UNSAFE_INC="1"
@INC:
/home/cpansand/.cpan/build/2019022620/Algorithm-Loops-1.032-0/blib/arch
/home/cpansand/.cpan/build/2019022620/Algorithm-Loops-1.032-0/blib/lib
/home/cpansand/.cpan/build/2019022620/HTTP-CookieJar-0.008-0/blib/arch
/home/cpansand/.cpan/build/2019022620/HTTP-CookieJar-0.008-0/blib/lib
/home/cpansand/.cpan/build/2019022620/Filter-signatures-0.15-0/blib/arch
/home/cpansand/.cpan/build/2019022620/Filter-signatures-0.15-0/blib/lib
/opt/perl-5.26.1/lib/site_perl/5.26.1/x86_64-linux
/opt/perl-5.26.1/lib/site_perl/5.26.1
/opt/perl-5.26.1/lib/5.26.1/x86_64-linux
/opt/perl-5.26.1/lib/5.26.1
.