Report for MooseX-Role-BuildInstanceOf-0.08

Back
From: metabase:user:320bfe00-2aae-11df-837a-5e0a49663a4f
Subject: PASS MooseX-Role-BuildInstanceOf-0.08 v5.21.4 GNU/Linux
Date: 2014-08-25T06:11:57Z

This distribution has been tested as part of the CPAN Testers
project, supporting the Perl programming language.  See
http://wiki.cpantesters.org/ for more information or email
questions to cpan-testers-discuss@perl.org


--
Dear John Napiorkowski,

This is a computer-generated report for MooseX-Role-BuildInstanceOf-0.08
on perl 5.21.4, created by CPAN-Reporter-1.2011.

Thank you for uploading your work to CPAN.  Congratulations!
All tests were successful.

Sections of this report:

    * Tester comments
    * Program output
    * Prerequisites
    * Environment and other context

------------------------------
TESTER COMMENTS
------------------------------

Additional comments from tester:

this report is from an automated smoke testing program
and was not reviewed by a human for accuracy

------------------------------
PROGRAM OUTPUT
------------------------------

Output from '/usr/bin/make test':

PERL_DL_NONLAZY=1 /tmp/basesmoker-reloperl-vOoo/bin/perl "-MExtUtils::Command::MM" "-MTest::Harness" "-e" "undef *Test::Harness::Switches; test_harness(0, 'blib/lib', 'blib/arch')" t/*.t
t/01-load.t ............... ok
Class::MOP::load_class is deprecated at /home/sand/src/perl/repoperls/installed-perls/perl/v5.21.3-75-g1cc5894/a2da/lib/site_perl/5.21.4/x86_64-linux-thread-multi-ld/Class/MOP.pm line 71.
	Class::MOP::load_class("Album::Storage::File") called at /tmp/loop_over_bdir-12766-wz5gI1/MooseX-Role-BuildInstanceOf-0.08-_IfYpZ/blib/lib/MooseX/Role/BuildInstanceOf.pm line 15
	MooseX::Role::BuildInstanceOf::__ANON__("Album::Storage::File") called at /home/sand/src/perl/repoperls/installed-perls/perl/v5.21.3-75-g1cc5894/a2da/lib/site_perl/5.21.4/x86_64-linux-thread-multi-ld/Moose/Meta/TypeCoercion.pm line 67
	Moose::Meta::TypeCoercion::__ANON__("Album::Storage::File") called at /home/sand/src/perl/repoperls/installed-perls/perl/v5.21.3-75-g1cc5894/a2da/lib/site_perl/5.21.4/x86_64-linux-thread-multi-ld/Moose/Meta/TypeCoercion.pm line 102
	Moose::Meta::TypeCoercion::coerce(Moose::Meta::TypeCoercion=HASH(0x2668a98), "Album::Storage::File") called at /home/sand/src/perl/repoperls/installed-perls/perl/v5.21.3-75-g1cc5894/a2da/lib/site_perl/5.21.4/x86_64-linux-thread-multi-ld/Moose/Meta/TypeConstraint.pm line 148
	Moose::Meta::TypeConstraint::coerce(Moose::Meta::TypeConstraint=HASH(0x25d12c8), "Album::Storage::File") called at /home/sand/src/perl/repoperls/installed-perls/perl/v5.21.3-75-g1cc5894/a2da/lib/site_perl/5.21.4/x86_64-linux-thread-multi-ld/Moose/Meta/Attribute.pm line 1252
	Moose::Meta::Attribute::_coerce_and_verify(Moose::Meta::Attribute=HASH(0x2608270), "Album::Storage::File", Album=HASH(0x1399560)) called at /home/sand/src/perl/repoperls/installed-perls/perl/v5.21.3-75-g1cc5894/a2da/lib/site_perl/5.21.4/x86_64-linux-thread-multi-ld/Moose/Meta/Attribute.pm line 514
	Moose::Meta::Attribute::initialize_instance_slot(Moose::Meta::Attribute=HASH(0x2608270), Moose::Meta::Instance=HASH(0x26dd6c8), Album=HASH(0x1399560), HASH(0x1398df8)) called at /home/sand/src/perl/repoperls/installed-perls/perl/v5.21.3-75-g1cc5894/a2da/lib/site_perl/5.21.4/x86_64-linux-thread-multi-ld/Class/MOP/Class.pm line 527
	Class::MOP::Class::_construct_instance(Moose::Meta::Class=HASH(0x234cef8), HASH(0x1398df8)) called at /home/sand/src/perl/repoperls/installed-perls/perl/v5.21.3-75-g1cc5894/a2da/lib/site_perl/5.21.4/x86_64-linux-thread-multi-ld/Class/MOP/Class.pm line 497
	Class::MOP::Class::new_object(Moose::Meta::Class=HASH(0x234cef8), HASH(0x1398df8)) called at /home/sand/src/perl/repoperls/installed-perls/perl/v5.21.3-75-g1cc5894/a2da/lib/site_perl/5.21.4/x86_64-linux-thread-multi-ld/Moose/Meta/Class.pm line 277
	Moose::Meta::Class::new_object(Moose::Meta::Class=HASH(0x234cef8), HASH(0x1398df8)) called at /home/sand/src/perl/repoperls/installed-perls/perl/v5.21.3-75-g1cc5894/a2da/lib/site_perl/5.21.4/x86_64-linux-thread-multi-ld/Moose/Object.pm line 26
	Moose::Object::new("Album", "storage_args", ARRAY(0x137ad48), "storage_class", "Album::Storage::File") called at t/02-basic.t line 9
Class::MOP::load_class is deprecated at /home/sand/src/perl/repoperls/installed-perls/perl/v5.21.3-75-g1cc5894/a2da/lib/site_perl/5.21.4/x86_64-linux-thread-multi-ld/Class/MOP.pm line 71.
	Class::MOP::load_class("Album::Image") called at t/lib/Album/ResourceTypes.pm line 18
	Album::ResourceTypes::__ANON__(ARRAY(0x155b6a0)) called at /home/sand/src/perl/repoperls/installed-perls/perl/v5.21.3-75-g1cc5894/a2da/lib/site_perl/5.21.4/x86_64-linux-thread-multi-ld/Moose/Meta/TypeCoercion.pm line 67
	Moose::Meta::TypeCoercion::__ANON__(ARRAY(0x155b6a0)) called at /home/sand/src/perl/repoperls/installed-perls/perl/v5.21.3-75-g1cc5894/a2da/lib/site_perl/5.21.4/x86_64-linux-thread-multi-ld/Moose/Meta/TypeCoercion.pm line 102
	Moose::Meta::TypeCoercion::coerce(Moose::Meta::TypeCoercion=HASH(0x2e54cd8), ARRAY(0x155b6a0)) called at /home/sand/src/perl/repoperls/installed-perls/perl/v5.21.3-75-g1cc5894/a2da/lib/site_perl/5.21.4/x86_64-linux-thread-multi-ld/Moose/Meta/TypeConstraint.pm line 148
	Moose::Meta::TypeConstraint::coerce(Moose::Meta::TypeConstraint::Parameterizable=HASH(0x2e578c0), ARRAY(0x155b6a0)) called at /home/sand/src/perl/repoperls/installed-perls/perl/v5.21.3-75-g1cc5894/a2da/lib/site_perl/5.21.4/x86_64-linux-thread-multi-ld/Moose/Meta/Attribute.pm line 1252
	Moose::Meta::Attribute::_coerce_and_verify(Moose::Meta::Attribute=HASH(0x2e66270), ARRAY(0x155b6a0), Album::ResourceTypes=HASH(0x155b5f8)) called at /home/sand/src/perl/repoperls/installed-perls/perl/v5.21.3-75-g1cc5894/a2da/lib/site_perl/5.21.4/x86_64-linux-thread-multi-ld/Moose/Meta/Attribute.pm line 514
	Moose::Meta::Attribute::initialize_instance_slot(Moose::Meta::Attribute=HASH(0x2e66270), Moose::Meta::Instance=HASH(0x2e6fee0), Album::ResourceTypes=HASH(0x155b5f8), HASH(0x2daa418)) called at /home/sand/src/perl/repoperls/installed-perls/perl/v5.21.3-75-g1cc5894/a2da/lib/site_perl/5.21.4/x86_64-linux-thread-multi-ld/Class/MOP/Class.pm line 527
	Class::MOP::Class::_construct_instance(Moose::Meta::Class=HASH(0x2daf7a8), HASH(0x2daa418)) called at /home/sand/src/perl/repoperls/installed-perls/perl/v5.21.3-75-g1cc5894/a2da/lib/site_perl/5.21.4/x86_64-linux-thread-multi-ld/Class/MOP/Class.pm line 497
	Class::MOP::Class::new_object(Moose::Meta::Class=HASH(0x2daf7a8), HASH(0x2daa418)) called at /home/sand/src/perl/repoperls/installed-perls/perl/v5.21.3-75-g1cc5894/a2da/lib/site_perl/5.21.4/x86_64-linux-thread-multi-ld/Moose/Meta/Class.pm line 277
	Moose::Meta::Class::new_object(Moose::Meta::Class=HASH(0x2daf7a8), HASH(0x2daa418)) called at /home/sand/src/perl/repoperls/installed-perls/perl/v5.21.3-75-g1cc5894/a2da/lib/site_perl/5.21.4/x86_64-linux-thread-multi-ld/Moose/Object.pm line 26
	Moose::Object::new("Album::ResourceTypes", "resources", ARRAY(0x155b6a0)) called at /home/sand/src/perl/repoperls/installed-perls/perl/v5.21.3-75-g1cc5894/a2da/lib/site_perl/5.21.4/x86_64-linux-thread-multi-ld/Moose/Meta/Method/Delegation.pm line 112
	Album::create_resource_types(Album=HASH(0x1399560), "resources", ARRAY(0x155b6a0)) called at /tmp/loop_over_bdir-12766-wz5gI1/MooseX-Role-BuildInstanceOf-0.08-_IfYpZ/blib/lib/MooseX/Role/BuildInstanceOf.pm line 196
	Moose::Meta::Role::__ANON__::SERIAL::5::_build_resource_types(Album=HASH(0x1399560)) called at reader Album::resource_types (defined at /tmp/loop_over_bdir-12766-wz5gI1/MooseX-Role-BuildInstanceOf-0.08-_IfYpZ/blib/lib/MooseX/Role/BuildInstanceOf.pm line 176) line 8
	Album::resource_types(Album=HASH(0x1399560)) called at t/02-basic.t line 17
t/02-basic.t .............. ok
Class::MOP::load_class is deprecated at /home/sand/src/perl/repoperls/installed-perls/perl/v5.21.3-75-g1cc5894/a2da/lib/site_perl/5.21.4/x86_64-linux-thread-multi-ld/Class/MOP.pm line 71.
	Class::MOP::load_class("Foo::Bar") called at /tmp/loop_over_bdir-12766-wz5gI1/MooseX-Role-BuildInstanceOf-0.08-_IfYpZ/blib/lib/MooseX/Role/BuildInstanceOf.pm line 15
	MooseX::Role::BuildInstanceOf::__ANON__("Foo::Bar") called at /home/sand/src/perl/repoperls/installed-perls/perl/v5.21.3-75-g1cc5894/a2da/lib/site_perl/5.21.4/x86_64-linux-thread-multi-ld/Moose/Meta/TypeCoercion.pm line 67
	Moose::Meta::TypeCoercion::__ANON__("Foo::Bar") called at reader Foo::bar_class (defined at /tmp/loop_over_bdir-12766-wz5gI1/MooseX-Role-BuildInstanceOf-0.08-_IfYpZ/blib/lib/MooseX/Role/BuildInstanceOf.pm line 93) line 15
	Foo::bar_class(Foo=HASH(0xe97de0)) called at /home/sand/src/perl/repoperls/installed-perls/perl/v5.21.3-75-g1cc5894/a2da/lib/site_perl/5.21.4/x86_64-linux-thread-multi-ld/Moose/Meta/Method/Delegation.pm line 95
	Foo::create_bar(Foo=HASH(0xe97de0), "that", "stuff", "parent", Foo=HASH(0xe97de0), "thingy", "toaster") called at /tmp/loop_over_bdir-12766-wz5gI1/MooseX-Role-BuildInstanceOf-0.08-_IfYpZ/blib/lib/MooseX/Role/BuildInstanceOf.pm line 196
	Moose::Meta::Role::__ANON__::SERIAL::3::_build_bar(Foo=HASH(0xe97de0)) called at reader Foo::bar (defined at /tmp/loop_over_bdir-12766-wz5gI1/MooseX-Role-BuildInstanceOf-0.08-_IfYpZ/blib/lib/MooseX/Role/BuildInstanceOf.pm line 176) line 8
	Foo::bar(Foo=HASH(0xe97de0)) called at t/inherit-arguments.t line 15
t/inherit-arguments.t ..... ok
t/release-eol.t ........... skipped: these tests are for release candidate testing
t/release-no-tabs.t ....... skipped: these tests are for release candidate testing
t/release-pod-coverage.t .. skipped: these tests are for release candidate testing
t/release-pod-syntax.t .... skipped: these tests are for release candidate testing
All tests successful.
Files=7, Tests=13,  1 wallclock secs ( 0.03 usr  0.00 sys +  0.88 cusr  0.02 csys =  0.93 CPU)
Result: PASS

------------------------------
PREREQUISITES
------------------------------

Prerequisite modules loaded:

requires:

    Module                       Need Have    
    ---------------------------- ---- --------
    Moose::Util::TypeConstraints 0    2.1211  
    MooseX::Role::Parameterized  0.13 1.08    

build_requires:

    Module                       Need Have    
    ---------------------------- ---- --------
    Class::MOP                   0    2.1211  
    List::MoreUtils              0    0.33    
    List::Util                   0    1.39    
    Moose                        0    2.1211  
    Moose::Role                  0    2.1211  
    MooseX::Iterator             0    0.11    
    MooseX::Types::Path::Class   0    0.06    
    Perl6::Junction              0    1.60000 
    Scalar::Util                 0    1.39    
    strict                       0    1.08    
    Test::More                   0    1.001003
    warnings                     0    1.26    

configure_requires:

    Module                       Need Have    
    ---------------------------- ---- --------
    ExtUtils::MakeMaker          6.30 6.98    


------------------------------
ENVIRONMENT AND OTHER CONTEXT
------------------------------

Environment variables:

    AUTOMATED_TESTING = 1
    LANG = en_US.UTF-8
    LANGUAGE = en_US:en
    PATH = /usr/lib/ccache:/home/sand/bin:/usr/local/bin:/usr/bin:/bin:/usr/games:/usr/local/perl/bin:/usr/X11/bin:/sbin:/usr/sbin
    PERL5LIB = /tmp/loop_over_bdir-12766-wz5gI1/FusionInventory-Agent-2.3.10.1-Oush8Q/blib/arch:/tmp/loop_over_bdir-12766-wz5gI1/FusionInventory-Agent-2.3.10.1-Oush8Q/blib/lib
    PERL5OPT = 
    PERL5_CPANPLUS_IS_RUNNING = 9791
    PERL5_CPAN_IS_RUNNING = 9791
    PERL_MM_USE_DEFAULT = 1
    SHELL = /usr/bin/zsh
    TERM = screen

Perl special variables (and OS-specific diagnostics, for MSWin32):

    $^X = /tmp/basesmoker-reloperl-vOoo/bin/perl
    $UID/$EUID = 1005 / 1005
    $GID = 1005 1005
    $EGID = 1005 1005

Perl module toolchain versions installed:

    Module              Have    
    ------------------- --------
    CPAN                2.05    
    CPAN::Meta          2.142060
    Cwd                 3.49    
    ExtUtils::CBuilder  0.280217
    ExtUtils::Command   1.18    
    ExtUtils::Install   1.68    
    ExtUtils::MakeMaker 6.98    
    ExtUtils::Manifest  1.65    
    ExtUtils::ParseXS   3.25    
    File::Spec          3.49    
    JSON                2.90    
    JSON::PP            2.27203 
    Module::Build       0.4208  
    Module::Signature   0.73    
    Parse::CPAN::Meta   1.4414  
    Test::Harness       3.33    
    Test::More          1.001003
    YAML                1.09    
    YAML::Syck          1.27    
    version             0.9909  


--

Summary of my perl5 (revision 5 version 21 subversion 4) configuration:
  Commit id: 1cc589467f63aea00e4d224dc05d26130313e4ba
  Platform:
    osname=linux, osvers=3.14-2-amd64, archname=x86_64-linux-thread-multi-ld
    uname='linux k83 3.14-2-amd64 #1 smp debian 3.14.15-2 (2014-08-09) x86_64 gnulinux '
    config_args='-Dprefix=/home/sand/src/perl/repoperls/installed-perls/perl/v5.21.3-75-g1cc5894/a2da -Dmyhostname=k83 -Dinstallusrbinperl=n -Uversiononly -Dusedevel -des -Ui_db -Duseithreads -Duselongdouble -DDEBUGGING=-g'
    hint=recommended, useposix=true, d_sigaction=define
    useithreads=define, usemultiplicity=define
    use64bitint=define, use64bitall=define, uselongdouble=define
    usemymalloc=n, bincompat5005=undef
  Compiler:
    cc='cc', ccflags ='-D_REENTRANT -D_GNU_SOURCE -fwrapv -fno-strict-aliasing -pipe -fstack-protector -I/usr/local/include -D_LARGEFILE_SOURCE -D_FILE_OFFSET_BITS=64 -D_FORTIFY_SOURCE=2',
    optimize='-O2 -g',
    cppflags='-D_REENTRANT -D_GNU_SOURCE -fwrapv -fno-strict-aliasing -pipe -fstack-protector -I/usr/local/include'
    ccversion='', gccversion='4.9.1', gccosandvers=''
    intsize=4, longsize=8, ptrsize=8, doublesize=8, byteorder=12345678
    d_longlong=define, longlongsize=8, d_longdbl=define, longdblsize=16, longdblkind=3
    ivtype='long', ivsize=8, nvtype='long double', nvsize=16, Off_t='off_t', lseeksize=8
    alignbytes=16, prototype=define
  Linker and Libraries:
    ld='cc', ldflags =' -fstack-protector -L/usr/local/lib'
    libpth=/usr/local/lib /usr/lib/gcc/x86_64-linux-gnu/4.9/include-fixed /usr/include/x86_64-linux-gnu /usr/lib /lib/x86_64-linux-gnu /lib/../lib /usr/lib/x86_64-linux-gnu /usr/lib/../lib /lib
    libs=-lnsl -lgdbm -ldb -ldl -lm -lcrypt -lutil -lpthread -lc -lgdbm_compat
    perllibs=-lnsl -ldl -lm -lcrypt -lutil -lpthread -lc
    libc=libc-2.19.so, so=so, useshrplib=false, libperl=libperl.a
    gnulibc_version='2.19'
  Dynamic Linking:
    dlsrc=dl_dlopen.xs, dlext=so, d_dlsymun=undef, ccdlflags='-Wl,-E'
    cccdlflags='-fPIC', lddlflags='-shared -O2 -g -L/usr/local/lib -fstack-protector'


Characteristics of this binary (from libperl): 
  Compile-time options: HAS_TIMES MULTIPLICITY PERLIO_LAYERS
                        PERL_DONT_CREATE_GVSV
                        PERL_HASH_FUNC_ONE_AT_A_TIME_HARD
                        PERL_IMPLICIT_CONTEXT PERL_MALLOC_WRAP
                        PERL_NEW_COPY_ON_WRITE PERL_PRESERVE_IVUV
                        PERL_USE_DEVEL USE_64_BIT_ALL USE_64_BIT_INT
                        USE_ITHREADS USE_LARGE_FILES USE_LOCALE
                        USE_LOCALE_COLLATE USE_LOCALE_CTYPE
                        USE_LOCALE_NUMERIC USE_LOCALE_TIME USE_LONG_DOUBLE
                        USE_PERLIO USE_PERL_ATOF USE_REENTRANT_API
  Built under linux
  Compiled at Aug 23 2014 03:45:06
  %ENV:
    PERL5LIB="/tmp/loop_over_bdir-12766-wz5gI1/FusionInventory-Agent-2.3.10.1-Oush8Q/blib/arch:/tmp/loop_over_bdir-12766-wz5gI1/FusionInventory-Agent-2.3.10.1-Oush8Q/blib/lib"
    PERL5OPT=""
    PERL5_CPANPLUS_IS_RUNNING="9791"
    PERL5_CPAN_IS_RUNNING="9791"
    PERL_MM_USE_DEFAULT="1"
  @INC:
    /tmp/loop_over_bdir-12766-wz5gI1/FusionInventory-Agent-2.3.10.1-Oush8Q/blib/arch
    /tmp/loop_over_bdir-12766-wz5gI1/FusionInventory-Agent-2.3.10.1-Oush8Q/blib/lib
    /home/sand/src/perl/repoperls/installed-perls/perl/v5.21.3-75-g1cc5894/a2da/lib/site_perl/5.21.4/x86_64-linux-thread-multi-ld
    /home/sand/src/perl/repoperls/installed-perls/perl/v5.21.3-75-g1cc5894/a2da/lib/site_perl/5.21.4
    /home/sand/src/perl/repoperls/installed-perls/perl/v5.21.3-75-g1cc5894/a2da/lib/5.21.4/x86_64-linux-thread-multi-ld
    /home/sand/src/perl/repoperls/installed-perls/perl/v5.21.3-75-g1cc5894/a2da/lib/5.21.4
    .